Back to Build/check report for BioC 3.23:   simplified   long
ABCDEF[G]HIJKLMNOPQRSTUVWXYZ

This page was generated on 2025-11-05 11:32 -0500 (Wed, 05 Nov 2025).

HostnameOSArch (*)R versionInstalled pkgs
nebbiolo1Linux (Ubuntu 24.04.3 LTS)x86_64R Under development (unstable) (2025-10-20 r88955) -- "Unsuffered Consequences" 4818
Click on any hostname to see more info about the system (e.g. compilers)      (*) as reported by 'uname -p', except on Windows and Mac OS X

Package 858/2323HostnameOS / ArchINSTALLBUILDCHECKBUILD BIN
getDEE2 1.21.0  (landing page)
Mark 0000-0002-7688-6974 Ziemann
Snapshot Date: 2025-11-04 13:40 -0500 (Tue, 04 Nov 2025)
git_url: https://git.bioconductor.org/packages/getDEE2
git_branch: devel
git_last_commit: 5d99578
git_last_commit_date: 2025-10-29 10:59:58 -0500 (Wed, 29 Oct 2025)
nebbiolo1Linux (Ubuntu 24.04.3 LTS) / x86_64  OK    OK    OK  UNNEEDED, same version is already published


CHECK results for getDEE2 on nebbiolo1

To the developers/maintainers of the getDEE2 package:
- Allow up to 24 hours (and sometimes 48 hours) for your latest push to git@git.bioconductor.org:packages/getDEE2.git to reflect on this report. See Troubleshooting Build Report for more information.
- Use the following Renviron settings to reproduce errors and warnings.
- If 'R CMD check' started to fail recently on the Linux builder(s) over a missing dependency, add the missing dependency to 'Suggests:' in your DESCRIPTION file. See Renviron.bioc for more information.

raw results


Summary

Package: getDEE2
Version: 1.21.0
Command: /home/biocbuild/bbs-3.23-bioc/R/bin/R CMD check --install=check:getDEE2.install-out.txt --library=/home/biocbuild/bbs-3.23-bioc/R/site-library --timings getDEE2_1.21.0.tar.gz
StartedAt: 2025-11-04 23:48:32 -0500 (Tue, 04 Nov 2025)
EndedAt: 2025-11-04 23:58:43 -0500 (Tue, 04 Nov 2025)
EllapsedTime: 610.9 seconds
RetCode: 0
Status:   OK  
CheckDir: getDEE2.Rcheck
Warnings: 0

Command output

##############################################################################
##############################################################################
###
### Running command:
###
###   /home/biocbuild/bbs-3.23-bioc/R/bin/R CMD check --install=check:getDEE2.install-out.txt --library=/home/biocbuild/bbs-3.23-bioc/R/site-library --timings getDEE2_1.21.0.tar.gz
###
##############################################################################
##############################################################################


* using log directory ‘/home/biocbuild/bbs-3.23-bioc/meat/getDEE2.Rcheck’
* using R Under development (unstable) (2025-10-20 r88955)
* using platform: x86_64-pc-linux-gnu
* R was compiled by
    gcc (Ubuntu 13.3.0-6ubuntu2~24.04) 13.3.0
    GNU Fortran (Ubuntu 13.3.0-6ubuntu2~24.04) 13.3.0
* running under: Ubuntu 24.04.3 LTS
* using session charset: UTF-8
* checking for file ‘getDEE2/DESCRIPTION’ ... OK
* this is package ‘getDEE2’ version ‘1.21.0’
* package encoding: UTF-8
* checking package namespace information ... OK
* checking package dependencies ... OK
* checking if this is a source package ... OK
* checking if there is a namespace ... OK
* checking for hidden files and directories ... OK
* checking for portable file names ... OK
* checking for sufficient/correct file permissions ... OK
* checking whether package ‘getDEE2’ can be installed ... OK
* checking installed package size ... OK
* checking package directory ... OK
* checking ‘build’ directory ... OK
* checking DESCRIPTION meta-information ... OK
* checking top-level files ... OK
* checking for left-over files ... OK
* checking index information ... OK
* checking package subdirectories ... OK
* checking code files for non-ASCII characters ... OK
* checking R files for syntax errors ... OK
* checking whether the package can be loaded ... OK
* checking whether the package can be loaded with stated dependencies ... OK
* checking whether the package can be unloaded cleanly ... OK
* checking whether the namespace can be loaded with stated dependencies ... OK
* checking whether the namespace can be unloaded cleanly ... OK
* checking loading without being on the library search path ... OK
* checking dependencies in R code ... OK
* checking S3 generic/method consistency ... OK
* checking replacement functions ... OK
* checking foreign function calls ... OK
* checking R code for possible problems ... NOTE
srx_agg: no visible global function definition for ‘is’
Undefined global functions or variables:
  is
Consider adding
  importFrom("methods", "is")
to your NAMESPACE file (and ensure that your DESCRIPTION Imports field
contains 'methods').
* checking Rd files ... OK
* checking Rd metadata ... OK
* checking Rd cross-references ... OK
* checking for missing documentation entries ... OK
* checking for code/documentation mismatches ... OK
* checking Rd \usage sections ... OK
* checking Rd contents ... OK
* checking for unstated dependencies in examples ... OK
* checking files in ‘vignettes’ ... OK
* checking examples ... OK
Examples with CPU (user + system) or elapsed time > 5s
                 user system elapsed
getDEE2_bundle  2.606  0.373  20.248
getDEE2         1.281  0.086  33.432
Tx2Gene         1.247  0.055  21.320
query_bundles   0.484  0.039  22.674
list_bundles    0.491  0.014   5.438
loadFullMeta    0.401  0.021  14.485
loadSummaryMeta 0.395  0.027  18.237
loadGeneCounts  0.384  0.019  15.283
srx_agg         0.349  0.019  13.129
loadTxCounts    0.323  0.034  18.096
loadQcMx        0.341  0.015  13.437
loadGeneInfo    0.321  0.024  20.993
loadTxInfo      0.287  0.050  19.899
se              0.302  0.026  32.197
queryDEE2       0.199  0.017  12.197
getDEE2Metadata 0.153  0.014   8.807
* checking for unstated dependencies in ‘tests’ ... OK
* checking tests ...
  Running ‘test-getDEE2.R’
 OK
* checking for unstated dependencies in vignettes ... OK
* checking package vignettes ... OK
* checking re-building of vignette outputs ... OK
* checking PDF version of manual ... OK
* DONE

Status: 1 NOTE
See
  ‘/home/biocbuild/bbs-3.23-bioc/meat/getDEE2.Rcheck/00check.log’
for details.


Installation output

getDEE2.Rcheck/00install.out

##############################################################################
##############################################################################
###
### Running command:
###
###   /home/biocbuild/bbs-3.23-bioc/R/bin/R CMD INSTALL getDEE2
###
##############################################################################
##############################################################################


* installing to library ‘/home/biocbuild/bbs-3.23-bioc/R/site-library’
* installing *source* package ‘getDEE2’ ...
** this is package ‘getDEE2’ version ‘1.21.0’
** using staged installation
Warning in person1(given = given[[i]], family = family[[i]], middle = middle[[i]],  :
  It is recommended to use ‘given’ instead of ‘middle’.
Warning in person1(given = given[[i]], family = family[[i]], middle = middle[[i]],  :
  It is recommended to use ‘given’ instead of ‘middle’.
** R
** inst
** byte-compile and prepare package for lazy loading
** help
*** installing help indices
** building package indices
** installing vignettes
** testing if installed package can be loaded from temporary location
** testing if installed package can be loaded from final location
** testing if installed package keeps a record of temporary installation path
* DONE (getDEE2)

Tests output

getDEE2.Rcheck/tests/test-getDEE2.Rout


R Under development (unstable) (2025-10-20 r88955) -- "Unsuffered Consequences"
Copyright (C) 2025 The R Foundation for Statistical Computing
Platform: x86_64-pc-linux-gnu

R is free software and comes with ABSOLUTELY NO WARRANTY.
You are welcome to redistribute it under certain conditions.
Type 'license()' or 'licence()' for distribution details.

R is a collaborative project with many contributors.
Type 'contributors()' for more information and
'citation()' on how to cite R or R packages in publications.

Type 'demo()' for some demos, 'help()' for on-line help, or
'help.start()' for an HTML browser interface to help.
Type 'q()' to quit R.

> library("getDEE2")
> library("SummarizedExperiment")
Loading required package: MatrixGenerics
Loading required package: matrixStats

Attaching package: 'MatrixGenerics'

The following objects are masked from 'package:matrixStats':

    colAlls, colAnyNAs, colAnys, colAvgsPerRowSet, colCollapse,
    colCounts, colCummaxs, colCummins, colCumprods, colCumsums,
    colDiffs, colIQRDiffs, colIQRs, colLogSumExps, colMadDiffs,
    colMads, colMaxs, colMeans2, colMedians, colMins, colOrderStats,
    colProds, colQuantiles, colRanges, colRanks, colSdDiffs, colSds,
    colSums2, colTabulates, colVarDiffs, colVars, colWeightedMads,
    colWeightedMeans, colWeightedMedians, colWeightedSds,
    colWeightedVars, rowAlls, rowAnyNAs, rowAnys, rowAvgsPerColSet,
    rowCollapse, rowCounts, rowCummaxs, rowCummins, rowCumprods,
    rowCumsums, rowDiffs, rowIQRDiffs, rowIQRs, rowLogSumExps,
    rowMadDiffs, rowMads, rowMaxs, rowMeans2, rowMedians, rowMins,
    rowOrderStats, rowProds, rowQuantiles, rowRanges, rowRanks,
    rowSdDiffs, rowSds, rowSums2, rowTabulates, rowVarDiffs, rowVars,
    rowWeightedMads, rowWeightedMeans, rowWeightedMedians,
    rowWeightedSds, rowWeightedVars

Loading required package: GenomicRanges
Loading required package: stats4
Loading required package: BiocGenerics
Loading required package: generics

Attaching package: 'generics'

The following objects are masked from 'package:base':

    as.difftime, as.factor, as.ordered, intersect, is.element, setdiff,
    setequal, union


Attaching package: 'BiocGenerics'

The following objects are masked from 'package:stats':

    IQR, mad, sd, var, xtabs

The following objects are masked from 'package:base':

    Filter, Find, Map, Position, Reduce, anyDuplicated, aperm, append,
    as.data.frame, basename, cbind, colnames, dirname, do.call,
    duplicated, eval, evalq, get, grep, grepl, is.unsorted, lapply,
    mapply, match, mget, order, paste, pmax, pmax.int, pmin, pmin.int,
    rank, rbind, rownames, sapply, saveRDS, table, tapply, unique,
    unsplit, which.max, which.min

Loading required package: S4Vectors

Attaching package: 'S4Vectors'

The following object is masked from 'package:utils':

    findMatches

The following objects are masked from 'package:base':

    I, expand.grid, unname

Loading required package: IRanges
Loading required package: Seqinfo
Loading required package: Biobase
Welcome to Bioconductor

    Vignettes contain introductory material; view with
    'browseVignettes()'. To cite Bioconductor, see
    'citation("Biobase")', and for packages 'citation("pkgname")'.


Attaching package: 'Biobase'

The following object is masked from 'package:MatrixGenerics':

    rowMedians

The following objects are masked from 'package:matrixStats':

    anyMissing, rowMedians

> library("testthat")
> 
> # E. coli 
> x<-getDEE2("ecoli",c("SRR1613487","SRR1613488"),legacy=TRUE)
trying URL 'http://dee2.io/metadata/ecoli_metadata.tsv.cut'
Content type 'text/tab-separated-values' length 2078249 bytes (2.0 MB)
==================================================
downloaded 2.0 MB

trying URL 'http://dee2.io/cgi-bin/request.sh?org=ecoli&x=SRR1613487&x=SRR1613488'
downloaded 154 KB

For more information about DEE2 QC metrics, visit
    https://github.com/markziemann/dee2/blob/master/qc/qc_metrics.md
> 
> test_that("eco works", {
+     expect_equal( sum(x$GeneCounts) , 20624168 )
+ })
Test passed 🥇
> 
> 
> # A. thaliana bundle
> x <- getDEE2_bundle("athaliana", "SRP058781",col="SRP_accession")
trying URL 'http://dee2.io/huge/athaliana/'
downloaded 847 KB

trying URL 'http://dee2.io/huge/athaliana/SRP058781_NA.zip'
Content type 'application/zip' length 4214382 bytes (4.0 MB)
==================================================
downloaded 4.0 MB

For more information about DEE2 QC metrics, visit
    https://github.com/markziemann/dee2/blob/master/qc/qc_metrics.md
> 
> test_that("ath bundles work", {
+     expect_equal( nrow(assays(x)[[1]]) , 32833 )
+     expect_equal( ncol(assays(x)[[1]]) , 32 )
+ })
Test passed 😀
> 
> 
> # check absent present
> dat <- query_bundles("drerio",c("SRP131781","SRP055996","SRXXX"),col="SRP_accession")
trying URL 'http://dee2.io/huge/drerio/'
downloaded 170 KB

> 
> test_that("dre bundle query", {
+     expect_equal( length(dat$absent) , 1 )
+     expect_equal( length(dat$present) , 2 )
+ })
Test passed 🥇
> 
> proc.time()
   user  system elapsed 
 12.491   0.501  75.846 

Example timings

getDEE2.Rcheck/getDEE2-Ex.timings

nameusersystemelapsed
Tx2Gene 1.247 0.05521.320
getDEE2 1.281 0.08633.432
getDEE2Metadata0.1530.0148.807
getDEE2_bundle 2.606 0.37320.248
list_bundles0.4910.0145.438
loadFullMeta 0.401 0.02114.485
loadGeneCounts 0.384 0.01915.283
loadGeneInfo 0.321 0.02420.993
loadQcMx 0.341 0.01513.437
loadSummaryMeta 0.395 0.02718.237
loadTxCounts 0.323 0.03418.096
loadTxInfo 0.287 0.05019.899
queryDEE2 0.199 0.01712.197
query_bundles 0.484 0.03922.674
se 0.302 0.02632.197
srx_agg 0.349 0.01913.129