Back to Multiple platform build/check report for BioC 3.23:   simplified   long
ABCDEF[G]HIJKLMNOPQRSTUVWXYZ

This page was generated on 2025-11-27 11:38 -0500 (Thu, 27 Nov 2025).

HostnameOSArch (*)R versionInstalled pkgs
nebbiolo1Linux (Ubuntu 24.04.3 LTS)x86_64R Under development (unstable) (2025-10-20 r88955) -- "Unsuffered Consequences" 4865
lconwaymacOS 12.7.6 Montereyx86_64R Under development (unstable) (2025-10-21 r88958) -- "Unsuffered Consequences" 4614
kjohnson3macOS 13.7.7 Venturaarm64R Under development (unstable) (2025-11-04 r88984) -- "Unsuffered Consequences" 4571
Click on any hostname to see more info about the system (e.g. compilers)      (*) as reported by 'uname -p', except on Windows and Mac OS X

Package 798/2328HostnameOS / ArchINSTALLBUILDCHECKBUILD BIN
gDRutils 1.9.2  (landing page)
Arkadiusz Gladki
Snapshot Date: 2025-11-26 13:40 -0500 (Wed, 26 Nov 2025)
git_url: https://git.bioconductor.org/packages/gDRutils
git_branch: devel
git_last_commit: 5ae0322
git_last_commit_date: 2025-11-17 04:03:12 -0500 (Mon, 17 Nov 2025)
nebbiolo1Linux (Ubuntu 24.04.3 LTS) / x86_64  OK    OK    OK  UNNEEDED, same version is already published
lconwaymacOS 12.7.6 Monterey / x86_64  OK    OK    OK    OK  UNNEEDED, same version is already published
kjohnson3macOS 13.7.7 Ventura / arm64  OK    OK    OK    OK  UNNEEDED, same version is already published


CHECK results for gDRutils on lconway

To the developers/maintainers of the gDRutils package:
- Allow up to 24 hours (and sometimes 48 hours) for your latest push to git@git.bioconductor.org:packages/gDRutils.git to reflect on this report. See Troubleshooting Build Report for more information.
- Use the following Renviron settings to reproduce errors and warnings.
- If 'R CMD check' started to fail recently on the Linux builder(s) over a missing dependency, add the missing dependency to 'Suggests:' in your DESCRIPTION file. See Renviron.bioc for more information.

raw results


Summary

Package: gDRutils
Version: 1.9.2
Command: /Library/Frameworks/R.framework/Resources/bin/R CMD check --install=check:gDRutils.install-out.txt --library=/Library/Frameworks/R.framework/Resources/library --no-vignettes --timings gDRutils_1.9.2.tar.gz
StartedAt: 2025-11-26 21:15:09 -0500 (Wed, 26 Nov 2025)
EndedAt: 2025-11-26 21:20:32 -0500 (Wed, 26 Nov 2025)
EllapsedTime: 323.1 seconds
RetCode: 0
Status:   OK  
CheckDir: gDRutils.Rcheck
Warnings: 0

Command output

##############################################################################
##############################################################################
###
### Running command:
###
###   /Library/Frameworks/R.framework/Resources/bin/R CMD check --install=check:gDRutils.install-out.txt --library=/Library/Frameworks/R.framework/Resources/library --no-vignettes --timings gDRutils_1.9.2.tar.gz
###
##############################################################################
##############################################################################


* using log directory ‘/Users/biocbuild/bbs-3.23-bioc/meat/gDRutils.Rcheck’
* using R Under development (unstable) (2025-10-21 r88958)
* using platform: x86_64-apple-darwin20
* R was compiled by
    Apple clang version 14.0.0 (clang-1400.0.29.202)
    GNU Fortran (GCC) 14.2.0
* running under: macOS Ventura 13.7.8
* using session charset: UTF-8
* using option ‘--no-vignettes’
* checking for file ‘gDRutils/DESCRIPTION’ ... OK
* checking extension type ... Package
* this is package ‘gDRutils’ version ‘1.9.2’
* package encoding: UTF-8
* checking package namespace information ... OK
* checking package dependencies ... OK
* checking if this is a source package ... OK
* checking if there is a namespace ... OK
* checking for hidden files and directories ... OK
* checking for portable file names ... OK
* checking for sufficient/correct file permissions ... OK
* checking whether package ‘gDRutils’ can be installed ... OK
* checking installed package size ... OK
* checking package directory ... OK
* checking ‘build’ directory ... OK
* checking DESCRIPTION meta-information ... OK
* checking top-level files ... OK
* checking for left-over files ... OK
* checking index information ... OK
* checking package subdirectories ... OK
* checking code files for non-ASCII characters ... OK
* checking R files for syntax errors ... OK
* checking whether the package can be loaded ... OK
* checking whether the package can be loaded with stated dependencies ... OK
* checking whether the package can be unloaded cleanly ... OK
* checking whether the namespace can be loaded with stated dependencies ... OK
* checking whether the namespace can be unloaded cleanly ... OK
* checking dependencies in R code ... OK
* checking S3 generic/method consistency ... OK
* checking replacement functions ... OK
* checking foreign function calls ... OK
* checking R code for possible problems ... OK
* checking Rd files ... OK
* checking Rd metadata ... OK
* checking Rd cross-references ... NOTE
Found the following Rd file(s) with Rd \link{} targets missing package
anchors:
  SE_metadata.Rd: SummarizedExperiment-class
  convert_mae_assay_to_dt.Rd: SummarizedExperiment-class,
    MultiAssayExperiment-class
  convert_se_assay_to_dt.Rd: SummarizedExperiment-class
  is_exp_empty.Rd: SummarizedExperiment-class
  split_SE_components.Rd: SummarizedExperiment-class
  validate_se_assay_name.Rd: SummarizedExperiment-class
Please provide package anchors for all Rd \link{} targets not in the
package itself and the base packages.
* checking for missing documentation entries ... OK
* checking for code/documentation mismatches ... OK
* checking Rd \usage sections ... OK
* checking Rd contents ... OK
* checking for unstated dependencies in examples ... OK
* checking files in ‘vignettes’ ... OK
* checking examples ... OK
Examples with CPU (user + system) or elapsed time > 5s
      user system elapsed
loop 3.189  0.082   5.048
* checking for unstated dependencies in ‘tests’ ... OK
* checking tests ...
  Running ‘testthat.R’
 OK
* checking for unstated dependencies in vignettes ... OK
* checking package vignettes ... OK
* checking running R code from vignettes ... SKIPPED
* checking re-building of vignette outputs ... SKIPPED
* checking PDF version of manual ... OK
* DONE

Status: 1 NOTE
See
  ‘/Users/biocbuild/bbs-3.23-bioc/meat/gDRutils.Rcheck/00check.log’
for details.


Installation output

gDRutils.Rcheck/00install.out

##############################################################################
##############################################################################
###
### Running command:
###
###   /Library/Frameworks/R.framework/Resources/bin/R CMD INSTALL gDRutils
###
##############################################################################
##############################################################################


* installing to library ‘/Library/Frameworks/R.framework/Versions/4.6-x86_64/Resources/library’
* installing *source* package ‘gDRutils’ ...
** this is package ‘gDRutils’ version ‘1.9.2’
** using staged installation
** R
** inst
** byte-compile and prepare package for lazy loading
** help
*** installing help indices
** building package indices
** installing vignettes
** testing if installed package can be loaded from temporary location
** testing if installed package can be loaded from final location
** testing if installed package keeps a record of temporary installation path
* DONE (gDRutils)

Tests output

gDRutils.Rcheck/tests/testthat.Rout


R Under development (unstable) (2025-10-21 r88958) -- "Unsuffered Consequences"
Copyright (C) 2025 The R Foundation for Statistical Computing
Platform: x86_64-apple-darwin20

R is free software and comes with ABSOLUTELY NO WARRANTY.
You are welcome to redistribute it under certain conditions.
Type 'license()' or 'licence()' for distribution details.

R is a collaborative project with many contributors.
Type 'contributors()' for more information and
'citation()' on how to cite R or R packages in publications.

Type 'demo()' for some demos, 'help()' for on-line help, or
'help.start()' for an HTML browser interface to help.
Type 'q()' to quit R.

> library("gDRutils")
> library("testthat")
> 
> test_check("gDRutils")
[ FAIL 0 | WARN 0 | SKIP 0 | PASS 845 ]
> 
> proc.time()
   user  system elapsed 
110.531   5.286 117.274 

Example timings

gDRutils.Rcheck/gDRutils-Ex.timings

nameusersystemelapsed
MAEpply0.9770.0341.016
SE_metadata0.0390.0060.045
addClass0.0020.0010.002
aggregate_assay0.5380.0440.584
apply_bumpy_function1.8480.0541.910
assert_choices0.0010.0000.000
average_biological_replicates_dt1.0350.0271.069
calc_sd0.0010.0010.001
capVals0.2190.0130.233
cap_assay_infinities0.2550.0130.271
cap_xc50000
convert_colData_to_json0.0580.0060.065
convert_combo_data_to_dt0.3590.0150.377
convert_combo_field_to_assay0.0020.0000.002
convert_mae_assay_to_dt0.0720.0020.075
convert_mae_to_json0.0180.0010.019
convert_metadata_to_json0.0080.0010.008
convert_rowData_to_json0.0030.0000.003
convert_se_assay_to_custom_dt0.7050.0640.777
convert_se_assay_to_dt0.0670.0040.072
convert_se_to_json0.0150.0010.016
define_matrix_grid_positions0.0550.0020.058
demote_fields0.4590.0090.477
df_to_bm_assay0.1580.0020.161
dot-set_invalid_fit_params0.0000.0010.000
dot-standardize_conc0.0000.0000.001
extend_normalization_type_name0.0010.0000.001
fit_curves0.1710.0300.203
flatten0.010.000.01
gen_synthetic_data0.0080.0010.009
geometric_mean0.0010.0000.000
get_MAE_identifiers0.0070.0020.009
get_additional_variables0.0150.0020.016
get_assay_dt_duplicated_rows0.1950.0080.205
get_assay_names0.0010.0000.000
get_assay_req_uniq_cols0.1260.0050.132
get_combo_assay_names0.0010.0000.002
get_combo_base_assay_names0.0010.0000.002
get_combo_excess_field_names0.0020.0000.002
get_combo_score_assay_names0.0010.0010.001
get_combo_score_field_names0.0010.0000.001
get_default_identifiers0.0000.0000.001
get_duplicated_rows0.0030.0000.003
get_env_assay_names0.0000.0010.001
get_env_var000
get_expect_one_identifiers000
get_experiment_groups0.0000.0010.000
get_gDR_session_info1.6471.0602.746
get_identifiers_dt0.0070.0030.011
get_idfs_synonyms000
get_isobologram_columns0.0740.0020.077
get_non_empty_assays0.0500.0020.054
get_required_identifiers0.0000.0010.001
get_settings_from_json0.0010.0010.002
get_supported_experiments000
get_synthetic_data0.0120.0000.013
get_testdata0.0980.0190.118
get_testdata_codilution0.0880.0070.095
get_testdata_combo0.1990.0250.236
has_assay_dt_duplicated_rows0.1460.0060.154
has_dt_duplicated_rows0.0010.0000.002
has_single_codrug_data0.1590.0030.165
has_valid_codrug_data0.1450.0020.148
headers0.0260.0090.036
identifiers000
identify_unique_se_metadata_fields0.0070.0010.008
is_any_exp_empty0.0440.0020.046
is_combo_data0.1900.0150.207
is_exp_empty0.0500.0010.052
is_mae_empty0.0530.0010.055
logisticFit0.0340.0000.034
loop3.1890.0825.048
map_conc_to_standardized_conc0.0060.0160.024
mcolData0.8651.0090.090
merge_MAE4.3490.1524.558
merge_SE1.5940.0301.639
merge_assay0.3190.0080.333
merge_metadata0.0060.0010.007
modifyData0.3430.0070.352
mrowData0.0140.0010.016
predict_conc_from_efficacy0.0010.0000.000
predict_efficacy_from_conc0.0010.0000.000
predict_smooth_from_combo0.2040.0120.222
prettify_flat_metrics0.0380.0000.039
process_batch0.7310.1090.851
promote_fields0.2110.0040.218
refine_coldata0.0100.0020.013
refine_rowdata0.0480.0030.051
remove_codrug_data0.0680.0020.070
remove_drug_batch0.0010.0010.002
rename_DFrame0.0090.0020.010
rename_bumpy0.0340.0010.035
round_concentration0.0010.0000.000
set_constant_fit_params0.0000.0000.001
set_unique_cl_names0.0520.0010.054
set_unique_cl_names_dt0.0190.0010.020
set_unique_drug_names0.0600.0010.061
set_unique_drug_names_dt0.0490.0020.055
set_unique_identifiers0.3110.0130.326
set_unique_names_dt0.0220.0010.023
shorten_normalization_type_name0.0010.0010.001
split_SE_components0.1200.0020.122
split_big_table_for_xlsx0.0060.0010.007
standardize_mae0.1270.0020.130
standardize_se0.0370.0010.038
throw_msg_if_duplicates0.1330.0080.149
update_env_idfs_from_mae0.0010.0000.001
update_idfs_synonyms000
validate_MAE0.0820.0010.084
validate_SE0.0290.0010.030
validate_identifiers0.0060.0010.007
validate_json0.0010.0000.001
validate_mae_with_schema0.4210.0660.512
validate_se_assay_name0.0060.0010.007