Back to Multiple platform build/check report for BioC 3.23:   simplified   long
ABCDEF[G]HIJKLMNOPQRSTUVWXYZ

This page was generated on 2025-11-28 11:39 -0500 (Fri, 28 Nov 2025).

HostnameOSArch (*)R versionInstalled pkgs
nebbiolo1Linux (Ubuntu 24.04.3 LTS)x86_64R Under development (unstable) (2025-10-20 r88955) -- "Unsuffered Consequences" 4866
lconwaymacOS 12.7.6 Montereyx86_64R Under development (unstable) (2025-10-21 r88958) -- "Unsuffered Consequences" 4614
kjohnson3macOS 13.7.7 Venturaarm64R Under development (unstable) (2025-11-04 r88984) -- "Unsuffered Consequences" 4571
Click on any hostname to see more info about the system (e.g. compilers)      (*) as reported by 'uname -p', except on Windows and Mac OS X

Package 798/2328HostnameOS / ArchINSTALLBUILDCHECKBUILD BIN
gDRutils 1.9.2  (landing page)
Arkadiusz Gladki
Snapshot Date: 2025-11-27 13:40 -0500 (Thu, 27 Nov 2025)
git_url: https://git.bioconductor.org/packages/gDRutils
git_branch: devel
git_last_commit: 5ae0322
git_last_commit_date: 2025-11-17 04:03:12 -0500 (Mon, 17 Nov 2025)
nebbiolo1Linux (Ubuntu 24.04.3 LTS) / x86_64  OK    OK    OK  UNNEEDED, same version is already published
lconwaymacOS 12.7.6 Monterey / x86_64  OK    OK    TIMEOUT    OK  
kjohnson3macOS 13.7.7 Ventura / arm64  OK    OK    OK    OK  UNNEEDED, same version is already published


CHECK results for gDRutils on kjohnson3

To the developers/maintainers of the gDRutils package:
- Allow up to 24 hours (and sometimes 48 hours) for your latest push to git@git.bioconductor.org:packages/gDRutils.git to reflect on this report. See Troubleshooting Build Report for more information.
- Use the following Renviron settings to reproduce errors and warnings.
- If 'R CMD check' started to fail recently on the Linux builder(s) over a missing dependency, add the missing dependency to 'Suggests:' in your DESCRIPTION file. See Renviron.bioc for more information.

raw results


Summary

Package: gDRutils
Version: 1.9.2
Command: /Library/Frameworks/R.framework/Resources/bin/R CMD check --install=check:gDRutils.install-out.txt --library=/Library/Frameworks/R.framework/Resources/library --no-vignettes --timings gDRutils_1.9.2.tar.gz
StartedAt: 2025-11-27 20:07:30 -0500 (Thu, 27 Nov 2025)
EndedAt: 2025-11-27 20:09:33 -0500 (Thu, 27 Nov 2025)
EllapsedTime: 122.5 seconds
RetCode: 0
Status:   OK  
CheckDir: gDRutils.Rcheck
Warnings: 0

Command output

##############################################################################
##############################################################################
###
### Running command:
###
###   /Library/Frameworks/R.framework/Resources/bin/R CMD check --install=check:gDRutils.install-out.txt --library=/Library/Frameworks/R.framework/Resources/library --no-vignettes --timings gDRutils_1.9.2.tar.gz
###
##############################################################################
##############################################################################


* using log directory ‘/Users/biocbuild/bbs-3.23-bioc/meat/gDRutils.Rcheck’
* using R Under development (unstable) (2025-11-04 r88984)
* using platform: aarch64-apple-darwin20
* R was compiled by
    Apple clang version 16.0.0 (clang-1600.0.26.6)
    GNU Fortran (GCC) 14.2.0
* running under: macOS Ventura 13.7.8
* using session charset: UTF-8
* using option ‘--no-vignettes’
* checking for file ‘gDRutils/DESCRIPTION’ ... OK
* checking extension type ... Package
* this is package ‘gDRutils’ version ‘1.9.2’
* package encoding: UTF-8
* checking package namespace information ... OK
* checking package dependencies ... OK
* checking if this is a source package ... OK
* checking if there is a namespace ... OK
* checking for hidden files and directories ... OK
* checking for portable file names ... OK
* checking for sufficient/correct file permissions ... OK
* checking whether package ‘gDRutils’ can be installed ... OK
* checking installed package size ... OK
* checking package directory ... OK
* checking ‘build’ directory ... OK
* checking DESCRIPTION meta-information ... OK
* checking top-level files ... OK
* checking for left-over files ... OK
* checking index information ... OK
* checking package subdirectories ... OK
* checking code files for non-ASCII characters ... OK
* checking R files for syntax errors ... OK
* checking whether the package can be loaded ... OK
* checking whether the package can be loaded with stated dependencies ... OK
* checking whether the package can be unloaded cleanly ... OK
* checking whether the namespace can be loaded with stated dependencies ... OK
* checking whether the namespace can be unloaded cleanly ... OK
* checking dependencies in R code ... OK
* checking S3 generic/method consistency ... OK
* checking replacement functions ... OK
* checking foreign function calls ... OK
* checking R code for possible problems ... OK
* checking Rd files ... OK
* checking Rd metadata ... OK
* checking Rd cross-references ... NOTE
Found the following Rd file(s) with Rd \link{} targets missing package
anchors:
  SE_metadata.Rd: SummarizedExperiment-class
  convert_mae_assay_to_dt.Rd: SummarizedExperiment-class,
    MultiAssayExperiment-class
  convert_se_assay_to_dt.Rd: SummarizedExperiment-class
  is_exp_empty.Rd: SummarizedExperiment-class
  split_SE_components.Rd: SummarizedExperiment-class
  validate_se_assay_name.Rd: SummarizedExperiment-class
Please provide package anchors for all Rd \link{} targets not in the
package itself and the base packages.
* checking for missing documentation entries ... OK
* checking for code/documentation mismatches ... OK
* checking Rd \usage sections ... OK
* checking Rd contents ... OK
* checking for unstated dependencies in examples ... OK
* checking files in ‘vignettes’ ... OK
* checking examples ... OK
* checking for unstated dependencies in ‘tests’ ... OK
* checking tests ...
  Running ‘testthat.R’
 OK
* checking for unstated dependencies in vignettes ... OK
* checking package vignettes ... OK
* checking running R code from vignettes ... SKIPPED
* checking re-building of vignette outputs ... SKIPPED
* checking PDF version of manual ... OK
* DONE

Status: 1 NOTE
See
  ‘/Users/biocbuild/bbs-3.23-bioc/meat/gDRutils.Rcheck/00check.log’
for details.


Installation output

gDRutils.Rcheck/00install.out

##############################################################################
##############################################################################
###
### Running command:
###
###   /Library/Frameworks/R.framework/Resources/bin/R CMD INSTALL gDRutils
###
##############################################################################
##############################################################################


* installing to library ‘/Library/Frameworks/R.framework/Versions/4.6-arm64/Resources/library’
* installing *source* package ‘gDRutils’ ...
** this is package ‘gDRutils’ version ‘1.9.2’
** using staged installation
** R
** inst
** byte-compile and prepare package for lazy loading
** help
*** installing help indices
** building package indices
** installing vignettes
** testing if installed package can be loaded from temporary location
** testing if installed package can be loaded from final location
** testing if installed package keeps a record of temporary installation path
* DONE (gDRutils)

Tests output

gDRutils.Rcheck/tests/testthat.Rout


R Under development (unstable) (2025-11-04 r88984) -- "Unsuffered Consequences"
Copyright (C) 2025 The R Foundation for Statistical Computing
Platform: aarch64-apple-darwin20

R is free software and comes with ABSOLUTELY NO WARRANTY.
You are welcome to redistribute it under certain conditions.
Type 'license()' or 'licence()' for distribution details.

R is a collaborative project with many contributors.
Type 'contributors()' for more information and
'citation()' on how to cite R or R packages in publications.

Type 'demo()' for some demos, 'help()' for on-line help, or
'help.start()' for an HTML browser interface to help.
Type 'q()' to quit R.

> library("gDRutils")
> library("testthat")
> 
> test_check("gDRutils")
[ FAIL 0 | WARN 0 | SKIP 0 | PASS 845 ]
> 
> proc.time()
   user  system elapsed 
 37.502   1.933  43.261 

Example timings

gDRutils.Rcheck/gDRutils-Ex.timings

nameusersystemelapsed
MAEpply0.4200.0100.452
SE_metadata0.0150.0020.017
addClass0.0010.0000.001
aggregate_assay0.2000.0120.221
apply_bumpy_function0.4700.0100.515
assert_choices000
average_biological_replicates_dt0.4020.0090.461
calc_sd000
capVals0.0670.0030.077
cap_assay_infinities0.0800.0060.152
cap_xc500.0000.0010.000
convert_colData_to_json0.0170.0010.019
convert_combo_data_to_dt0.1000.0050.150
convert_combo_field_to_assay0.0000.0000.001
convert_mae_assay_to_dt0.0200.0010.025
convert_mae_to_json0.0060.0000.013
convert_metadata_to_json0.0020.0000.003
convert_rowData_to_json0.0000.0000.001
convert_se_assay_to_custom_dt0.1970.0190.306
convert_se_assay_to_dt0.0190.0010.023
convert_se_to_json0.0040.0000.004
define_matrix_grid_positions0.0200.0020.069
demote_fields0.1360.0040.195
df_to_bm_assay0.0410.0000.042
dot-set_invalid_fit_params000
dot-standardize_conc000
extend_normalization_type_name0.0010.0000.000
fit_curves0.0500.0070.068
flatten0.0020.0000.003
gen_synthetic_data0.0020.0000.002
geometric_mean000
get_MAE_identifiers0.0030.0010.004
get_additional_variables0.0040.0000.005
get_assay_dt_duplicated_rows0.0570.0020.060
get_assay_names0.0000.0000.001
get_assay_req_uniq_cols0.0340.0020.035
get_combo_assay_names0.0000.0000.001
get_combo_base_assay_names0.0010.0000.000
get_combo_excess_field_names0.0000.0010.000
get_combo_score_assay_names0.0010.0000.000
get_combo_score_field_names000
get_default_identifiers0.0000.0000.001
get_duplicated_rows0.0010.0000.001
get_env_assay_names0.0000.0010.000
get_env_var0.0000.0000.001
get_expect_one_identifiers000
get_experiment_groups000
get_gDR_session_info0.4650.2420.782
get_identifiers_dt0.0030.0010.004
get_idfs_synonyms0.0000.0010.001
get_isobologram_columns0.0330.0010.034
get_non_empty_assays0.0160.0010.028
get_required_identifiers000
get_settings_from_json000
get_supported_experiments000
get_synthetic_data0.0040.0010.005
get_testdata0.0310.0070.040
get_testdata_codilution0.0230.0020.027
get_testdata_combo0.0700.0100.118
has_assay_dt_duplicated_rows0.0440.0030.046
has_dt_duplicated_rows000
has_single_codrug_data0.0410.0010.042
has_valid_codrug_data0.0440.0010.046
headers0.0060.0030.010
identifiers000
identify_unique_se_metadata_fields0.0030.0010.004
is_any_exp_empty0.0170.0010.039
is_combo_data0.1000.0070.110
is_exp_empty0.0150.0000.019
is_mae_empty0.0150.0010.022
logisticFit0.0090.0000.010
loop1.6090.0192.345
map_conc_to_standardized_conc0.3120.2380.017
mcolData0.0060.0060.012
merge_MAE1.0930.0771.289
merge_SE0.4640.0190.687
merge_assay0.0910.0050.182
merge_metadata0.0030.0010.004
modifyData0.0900.0030.097
mrowData0.0050.0010.006
predict_conc_from_efficacy000
predict_efficacy_from_conc0.0010.0000.000
predict_smooth_from_combo0.0650.0030.073
prettify_flat_metrics0.0110.0000.012
process_batch0.3090.0410.355
promote_fields0.0580.0020.071
refine_coldata0.0040.0000.005
refine_rowdata0.0160.0010.018
remove_codrug_data0.0200.0000.022
remove_drug_batch0.0010.0000.001
rename_DFrame0.0040.0010.005
rename_bumpy0.0090.0000.010
round_concentration000
set_constant_fit_params0.0000.0000.001
set_unique_cl_names0.0160.0010.016
set_unique_cl_names_dt0.0050.0000.006
set_unique_drug_names0.0150.0000.015
set_unique_drug_names_dt0.0100.0010.010
set_unique_identifiers0.0880.0020.090
set_unique_names_dt0.0050.0000.005
shorten_normalization_type_name000
split_SE_components0.0260.0000.026
split_big_table_for_xlsx0.0010.0010.002
standardize_mae0.0330.0000.033
standardize_se0.0100.0010.013
throw_msg_if_duplicates0.0360.0020.038
update_env_idfs_from_mae0.0010.0000.000
update_idfs_synonyms000
validate_MAE0.0250.0010.028
validate_SE0.0070.0000.008
validate_identifiers0.0020.0000.003
validate_json000
validate_mae_with_schema0.1550.0150.150
validate_se_assay_name0.0030.0010.003