Back to Build/check report for BioC 3.23:   simplified   long
ABCDEF[G]HIJKLMNOPQRSTUVWXYZ

This page was generated on 2025-11-05 11:32 -0500 (Wed, 05 Nov 2025).

HostnameOSArch (*)R versionInstalled pkgs
nebbiolo1Linux (Ubuntu 24.04.3 LTS)x86_64R Under development (unstable) (2025-10-20 r88955) -- "Unsuffered Consequences" 4818
Click on any hostname to see more info about the system (e.g. compilers)      (*) as reported by 'uname -p', except on Windows and Mac OS X

Package 788/2323HostnameOS / ArchINSTALLBUILDCHECKBUILD BIN
gCrisprTools 2.17.0  (landing page)
Russell Bainer
Snapshot Date: 2025-11-04 13:40 -0500 (Tue, 04 Nov 2025)
git_url: https://git.bioconductor.org/packages/gCrisprTools
git_branch: devel
git_last_commit: d372d36
git_last_commit_date: 2025-10-29 10:34:14 -0500 (Wed, 29 Oct 2025)
nebbiolo1Linux (Ubuntu 24.04.3 LTS) / x86_64  OK    OK    OK  UNNEEDED, same version is already published


CHECK results for gCrisprTools on nebbiolo1

To the developers/maintainers of the gCrisprTools package:
- Allow up to 24 hours (and sometimes 48 hours) for your latest push to git@git.bioconductor.org:packages/gCrisprTools.git to reflect on this report. See Troubleshooting Build Report for more information.
- Use the following Renviron settings to reproduce errors and warnings.
- If 'R CMD check' started to fail recently on the Linux builder(s) over a missing dependency, add the missing dependency to 'Suggests:' in your DESCRIPTION file. See Renviron.bioc for more information.

raw results


Summary

Package: gCrisprTools
Version: 2.17.0
Command: /home/biocbuild/bbs-3.23-bioc/R/bin/R CMD check --install=check:gCrisprTools.install-out.txt --library=/home/biocbuild/bbs-3.23-bioc/R/site-library --timings gCrisprTools_2.17.0.tar.gz
StartedAt: 2025-11-04 23:32:09 -0500 (Tue, 04 Nov 2025)
EndedAt: 2025-11-04 23:43:41 -0500 (Tue, 04 Nov 2025)
EllapsedTime: 691.9 seconds
RetCode: 0
Status:   OK  
CheckDir: gCrisprTools.Rcheck
Warnings: 0

Command output

##############################################################################
##############################################################################
###
### Running command:
###
###   /home/biocbuild/bbs-3.23-bioc/R/bin/R CMD check --install=check:gCrisprTools.install-out.txt --library=/home/biocbuild/bbs-3.23-bioc/R/site-library --timings gCrisprTools_2.17.0.tar.gz
###
##############################################################################
##############################################################################


* using log directory ‘/home/biocbuild/bbs-3.23-bioc/meat/gCrisprTools.Rcheck’
* using R Under development (unstable) (2025-10-20 r88955)
* using platform: x86_64-pc-linux-gnu
* R was compiled by
    gcc (Ubuntu 13.3.0-6ubuntu2~24.04) 13.3.0
    GNU Fortran (Ubuntu 13.3.0-6ubuntu2~24.04) 13.3.0
* running under: Ubuntu 24.04.3 LTS
* using session charset: UTF-8
* checking for file ‘gCrisprTools/DESCRIPTION’ ... OK
* checking extension type ... Package
* this is package ‘gCrisprTools’ version ‘2.17.0’
* package encoding: UTF-8
* checking package namespace information ... OK
* checking package dependencies ... OK
* checking if this is a source package ... OK
* checking if there is a namespace ... OK
* checking for hidden files and directories ... OK
* checking for portable file names ... OK
* checking for sufficient/correct file permissions ... OK
* checking whether package ‘gCrisprTools’ can be installed ... OK
* checking installed package size ... OK
* checking package directory ... OK
* checking ‘build’ directory ... OK
* checking DESCRIPTION meta-information ... OK
* checking top-level files ... OK
* checking for left-over files ... OK
* checking index information ... OK
* checking package subdirectories ... OK
* checking code files for non-ASCII characters ... OK
* checking R files for syntax errors ... OK
* checking whether the package can be loaded ... OK
* checking whether the package can be loaded with stated dependencies ... OK
* checking whether the package can be unloaded cleanly ... OK
* checking whether the namespace can be loaded with stated dependencies ... OK
* checking whether the namespace can be unloaded cleanly ... OK
* checking loading without being on the library search path ... OK
* checking dependencies in R code ... NOTE
Namespace in Imports field not imported from: ‘RobustRankAggreg’
  All declared Imports should be used.
* checking S3 generic/method consistency ... OK
* checking replacement functions ... OK
* checking foreign function calls ... OK
* checking R code for possible problems ... OK
* checking Rd files ... OK
* checking Rd metadata ... OK
* checking Rd cross-references ... OK
* checking for missing documentation entries ... OK
* checking for code/documentation mismatches ... OK
* checking Rd \usage sections ... NOTE
Documented arguments not in \usage in Rd file 'ct.targetSetEnrichment.Rd':
  ‘pvalue.cutoff’ ‘organism’ ‘db.cut’ ‘species’

Functions with \usage entries need to have the appropriate \alias
entries, and all their arguments documented.
The \usage entries must correspond to syntactically valid R code.
See chapter ‘Writing R documentation files’ in the ‘Writing R
Extensions’ manual.
* checking Rd contents ... OK
* checking for unstated dependencies in examples ... OK
* checking contents of ‘data’ directory ... OK
* checking data for non-ASCII characters ... OK
* checking data for ASCII and uncompressed saves ... OK
* checking files in ‘vignettes’ ... OK
* checking examples ... OK
Examples with CPU (user + system) or elapsed time > 5s
                        user system elapsed
ct.GREATdb            65.386  2.439  67.393
ct.makeReport         17.635  0.653  18.300
ct.seas               10.847  2.373  11.842
ct.guideCDF            8.417  0.455   8.873
ct.makeContrastReport  8.496  0.114   8.588
ct.compareContrasts    7.723  0.238   7.961
ct.upSet               7.055  0.775   7.830
ct.contrastBarchart    5.993  0.062   6.056
ct.GCbias              5.371  0.151   5.523
ct.stackGuides         4.626  0.804   5.431
ct.makeQCReport        5.344  0.074   5.419
* checking for unstated dependencies in ‘tests’ ... OK
* checking tests ...
  Running ‘unit.tests.R’
 OK
* checking for unstated dependencies in vignettes ... OK
* checking package vignettes ... OK
* checking re-building of vignette outputs ... OK
* checking PDF version of manual ... OK
* DONE

Status: 2 NOTEs
See
  ‘/home/biocbuild/bbs-3.23-bioc/meat/gCrisprTools.Rcheck/00check.log’
for details.


Installation output

gCrisprTools.Rcheck/00install.out

##############################################################################
##############################################################################
###
### Running command:
###
###   /home/biocbuild/bbs-3.23-bioc/R/bin/R CMD INSTALL gCrisprTools
###
##############################################################################
##############################################################################


* installing to library ‘/home/biocbuild/bbs-3.23-bioc/R/site-library’
* installing *source* package ‘gCrisprTools’ ...
** this is package ‘gCrisprTools’ version ‘2.17.0’
** using staged installation
** R
** data
** inst
** byte-compile and prepare package for lazy loading
** help
*** installing help indices
** building package indices
** installing vignettes
** testing if installed package can be loaded from temporary location
** testing if installed package can be loaded from final location
** testing if installed package keeps a record of temporary installation path
* DONE (gCrisprTools)

Tests output

gCrisprTools.Rcheck/tests/unit.tests.Rout


R Under development (unstable) (2025-10-20 r88955) -- "Unsuffered Consequences"
Copyright (C) 2025 The R Foundation for Statistical Computing
Platform: x86_64-pc-linux-gnu

R is free software and comes with ABSOLUTELY NO WARRANTY.
You are welcome to redistribute it under certain conditions.
Type 'license()' or 'licence()' for distribution details.

R is a collaborative project with many contributors.
Type 'contributors()' for more information and
'citation()' on how to cite R or R packages in publications.

Type 'demo()' for some demos, 'help()' for on-line help, or
'help.start()' for an HTML browser interface to help.
Type 'q()' to quit R.

> #require("BiocGenerics", quietly = TRUE)
> BiocGenerics:::testPackage("gCrisprTools")


RUNIT TEST PROTOCOL -- Tue Nov  4 23:38:27 2025 
*********************************************** 
Number of test functions: 0 
Number of errors: 0 
Number of failures: 0 

 
1 Test Suite : 
gCrisprTools RUnit Tests - 0 test functions, 0 errors, 0 failures
Number of test functions: 0 
Number of errors: 0 
Number of failures: 0 
> 
> proc.time()
   user  system elapsed 
  8.601   0.486   9.083 

Example timings

gCrisprTools.Rcheck/gCrisprTools-Ex.timings

nameusersystemelapsed
aln0.0010.0020.003
ann0.0500.0020.054
ct.CAT1.9690.1742.144
ct.DirectionalTests0.2430.2620.506
ct.GCbias5.3710.1515.523
ct.GREATdb65.386 2.43967.393
ct.PRC2.0890.0352.125
ct.ROC1.3490.0181.368
ct.RRAaPvals0.3070.0040.311
ct.RRAalpha0.2320.0020.234
ct.alignmentChart0.0050.0000.005
ct.alphaBeta0.0000.0010.001
ct.applyAlpha0.0010.0030.005
ct.buildSE0.3770.0040.380
ct.compareContrasts7.7230.2387.961
ct.contrastBarchart5.9930.0626.056
ct.expandAnnotation0.0580.0010.058
ct.filterReads0.2310.0100.242
ct.gRNARankByReplicate0.4020.0090.411
ct.generateResults0.4880.0060.495
ct.guideCDF8.4170.4558.873
ct.keyCheck0.0990.0020.101
ct.makeContrastReport8.4960.1148.588
ct.makeQCReport5.3440.0745.419
ct.makeReport17.635 0.65318.300
ct.makeRhoNull0.0010.0000.001
ct.normalizeBySlope1.2620.0541.317
ct.normalizeFQ0.8210.0430.864
ct.normalizeGuides3.1070.1683.276
ct.normalizeMedians0.7010.0510.752
ct.normalizeNTC0.8220.0370.859
ct.normalizeSpline0.9470.0591.006
ct.parseGeneSymbol0.0020.0000.002
ct.prepareAnnotation0.4880.0400.528
ct.preprocessFit1.6100.1911.800
ct.rankSimple3.6300.1093.740
ct.rawCountDensities0.1430.0090.152
ct.regularizeContrasts0.0830.0030.086
ct.resultCheck0.0530.0030.056
ct.scatter0.3160.0010.317
ct.seas10.847 2.37311.842
ct.seasPrep2.0350.3572.392
ct.signalSummary1.5400.0651.606
ct.simpleResult1.3500.2261.575
ct.softLog000
ct.stackGuides4.6260.8045.431
ct.targetSetEnrichment1.2630.1551.417
ct.topTargets0.3090.0200.329
ct.upSet7.0550.7757.830
ct.viewControls0.2410.0280.270
ct.viewGuides0.3900.0470.436
es0.0570.0020.058
essential.genes0.0010.0010.002
fit0.1810.0050.186
resultsDF0.0560.0020.057