| Back to Multiple platform build/check report for BioC 3.22: simplified long |
|
This page was generated on 2025-10-23 12:06 -0400 (Thu, 23 Oct 2025).
| Hostname | OS | Arch (*) | R version | Installed pkgs |
|---|---|---|---|---|
| nebbiolo2 | Linux (Ubuntu 24.04.3 LTS) | x86_64 | 4.5.1 Patched (2025-08-23 r88802) -- "Great Square Root" | 4894 |
| lconway | macOS 12.7.6 Monterey | x86_64 | 4.5.1 Patched (2025-09-10 r88807) -- "Great Square Root" | 4684 |
| kjohnson3 | macOS 13.7.7 Ventura | arm64 | 4.5.1 Patched (2025-09-10 r88807) -- "Great Square Root" | 4629 |
| taishan | Linux (openEuler 24.03 LTS) | aarch64 | 4.5.0 (2025-04-11) -- "How About a Twenty-Six" | 4642 |
| Click on any hostname to see more info about the system (e.g. compilers) (*) as reported by 'uname -p', except on Windows and Mac OS X | ||||
| Package 795/2355 | Hostname | OS / Arch | INSTALL | BUILD | CHECK | BUILD BIN | ||||||||
| gCrisprTools 2.15.0 (landing page) Russell Bainer
| nebbiolo2 | Linux (Ubuntu 24.04.3 LTS) / x86_64 | OK | OK | OK | |||||||||
| lconway | macOS 12.7.6 Monterey / x86_64 | OK | OK | OK | OK | |||||||||
| kjohnson3 | macOS 13.7.7 Ventura / arm64 | OK | OK | OK | OK | |||||||||
| taishan | Linux (openEuler 24.03 LTS) / aarch64 | OK | OK | NA | ||||||||||
|
To the developers/maintainers of the gCrisprTools package: - Allow up to 24 hours (and sometimes 48 hours) for your latest push to git@git.bioconductor.org:packages/gCrisprTools.git to reflect on this report. See Troubleshooting Build Report for more information. - Use the following Renviron settings to reproduce errors and warnings. - If 'R CMD check' started to fail recently on the Linux builder(s) over a missing dependency, add the missing dependency to 'Suggests:' in your DESCRIPTION file. See Renviron.bioc for more information. |
| Package: gCrisprTools |
| Version: 2.15.0 |
| Command: /Library/Frameworks/R.framework/Resources/bin/R CMD check --install=check:gCrisprTools.install-out.txt --library=/Library/Frameworks/R.framework/Resources/library --no-vignettes --timings gCrisprTools_2.15.0.tar.gz |
| StartedAt: 2025-10-22 19:51:21 -0400 (Wed, 22 Oct 2025) |
| EndedAt: 2025-10-22 19:53:55 -0400 (Wed, 22 Oct 2025) |
| EllapsedTime: 153.8 seconds |
| RetCode: 0 |
| Status: OK |
| CheckDir: gCrisprTools.Rcheck |
| Warnings: 0 |
##############################################################################
##############################################################################
###
### Running command:
###
### /Library/Frameworks/R.framework/Resources/bin/R CMD check --install=check:gCrisprTools.install-out.txt --library=/Library/Frameworks/R.framework/Resources/library --no-vignettes --timings gCrisprTools_2.15.0.tar.gz
###
##############################################################################
##############################################################################
* using log directory ‘/Users/biocbuild/bbs-3.22-bioc/meat/gCrisprTools.Rcheck’
* using R version 4.5.1 Patched (2025-09-10 r88807)
* using platform: aarch64-apple-darwin20
* R was compiled by
Apple clang version 16.0.0 (clang-1600.0.26.6)
GNU Fortran (GCC) 14.2.0
* running under: macOS Ventura 13.7.7
* using session charset: UTF-8
* using option ‘--no-vignettes’
* checking for file ‘gCrisprTools/DESCRIPTION’ ... OK
* checking extension type ... Package
* this is package ‘gCrisprTools’ version ‘2.15.0’
* package encoding: UTF-8
* checking package namespace information ... OK
* checking package dependencies ... OK
* checking if this is a source package ... OK
* checking if there is a namespace ... OK
* checking for hidden files and directories ... OK
* checking for portable file names ... OK
* checking for sufficient/correct file permissions ... OK
* checking whether package ‘gCrisprTools’ can be installed ... OK
* checking installed package size ... OK
* checking package directory ... OK
* checking ‘build’ directory ... OK
* checking DESCRIPTION meta-information ... OK
* checking top-level files ... OK
* checking for left-over files ... OK
* checking index information ... OK
* checking package subdirectories ... OK
* checking code files for non-ASCII characters ... OK
* checking R files for syntax errors ... OK
* checking whether the package can be loaded ... OK
* checking whether the package can be loaded with stated dependencies ... OK
* checking whether the package can be unloaded cleanly ... OK
* checking whether the namespace can be loaded with stated dependencies ... OK
* checking whether the namespace can be unloaded cleanly ... OK
* checking dependencies in R code ... NOTE
Namespace in Imports field not imported from: ‘RobustRankAggreg’
All declared Imports should be used.
* checking S3 generic/method consistency ... OK
* checking replacement functions ... OK
* checking foreign function calls ... OK
* checking R code for possible problems ... OK
* checking Rd files ... OK
* checking Rd metadata ... OK
* checking Rd cross-references ... OK
* checking for missing documentation entries ... OK
* checking for code/documentation mismatches ... OK
* checking Rd \usage sections ... NOTE
Documented arguments not in \usage in Rd file 'ct.targetSetEnrichment.Rd':
‘pvalue.cutoff’ ‘organism’ ‘db.cut’ ‘species’
Functions with \usage entries need to have the appropriate \alias
entries, and all their arguments documented.
The \usage entries must correspond to syntactically valid R code.
See chapter ‘Writing R documentation files’ in the ‘Writing R
Extensions’ manual.
* checking Rd contents ... OK
* checking for unstated dependencies in examples ... OK
* checking contents of ‘data’ directory ... OK
* checking data for non-ASCII characters ... OK
* checking data for ASCII and uncompressed saves ... OK
* checking files in ‘vignettes’ ... OK
* checking examples ... OK
Examples with CPU (user + system) or elapsed time > 5s
user system elapsed
ct.GREATdb 25.997 0.504 26.442
ct.guideCDF 5.219 2.259 7.519
ct.makeReport 6.204 0.873 7.110
* checking for unstated dependencies in ‘tests’ ... OK
* checking tests ...
Running ‘unit.tests.R’
OK
* checking for unstated dependencies in vignettes ... OK
* checking package vignettes ... OK
* checking running R code from vignettes ... SKIPPED
* checking re-building of vignette outputs ... SKIPPED
* checking PDF version of manual ... OK
* DONE
Status: 2 NOTEs
See
‘/Users/biocbuild/bbs-3.22-bioc/meat/gCrisprTools.Rcheck/00check.log’
for details.
gCrisprTools.Rcheck/00install.out
############################################################################## ############################################################################## ### ### Running command: ### ### /Library/Frameworks/R.framework/Resources/bin/R CMD INSTALL gCrisprTools ### ############################################################################## ############################################################################## * installing to library ‘/Library/Frameworks/R.framework/Versions/4.5-arm64/Resources/library’ * installing *source* package ‘gCrisprTools’ ... ** this is package ‘gCrisprTools’ version ‘2.15.0’ ** using staged installation ** R ** data ** inst ** byte-compile and prepare package for lazy loading ** help *** installing help indices ** building package indices ** installing vignettes ** testing if installed package can be loaded from temporary location ** testing if installed package can be loaded from final location ** testing if installed package keeps a record of temporary installation path * DONE (gCrisprTools)
gCrisprTools.Rcheck/tests/unit.tests.Rout
R version 4.5.1 Patched (2025-09-10 r88807) -- "Great Square Root"
Copyright (C) 2025 The R Foundation for Statistical Computing
Platform: aarch64-apple-darwin20
R is free software and comes with ABSOLUTELY NO WARRANTY.
You are welcome to redistribute it under certain conditions.
Type 'license()' or 'licence()' for distribution details.
R is a collaborative project with many contributors.
Type 'contributors()' for more information and
'citation()' on how to cite R or R packages in publications.
Type 'demo()' for some demos, 'help()' for on-line help, or
'help.start()' for an HTML browser interface to help.
Type 'q()' to quit R.
> #require("BiocGenerics", quietly = TRUE)
> BiocGenerics:::testPackage("gCrisprTools")
RUNIT TEST PROTOCOL -- Wed Oct 22 19:53:51 2025
***********************************************
Number of test functions: 0
Number of errors: 0
Number of failures: 0
1 Test Suite :
gCrisprTools RUnit Tests - 0 test functions, 0 errors, 0 failures
Number of test functions: 0
Number of errors: 0
Number of failures: 0
>
> proc.time()
user system elapsed
2.950 0.111 3.057
gCrisprTools.Rcheck/gCrisprTools-Ex.timings
| name | user | system | elapsed | |
| aln | 0.001 | 0.001 | 0.002 | |
| ann | 0.024 | 0.001 | 0.025 | |
| ct.CAT | 0.476 | 0.023 | 0.499 | |
| ct.DirectionalTests | 0.116 | 0.083 | 0.200 | |
| ct.GCbias | 2.769 | 0.120 | 2.898 | |
| ct.GREATdb | 25.997 | 0.504 | 26.442 | |
| ct.PRC | 0.929 | 0.055 | 1.024 | |
| ct.ROC | 0.478 | 0.007 | 0.490 | |
| ct.RRAaPvals | 0.130 | 0.007 | 0.140 | |
| ct.RRAalpha | 0.107 | 0.003 | 0.157 | |
| ct.alignmentChart | 0.002 | 0.001 | 0.003 | |
| ct.alphaBeta | 0 | 0 | 0 | |
| ct.applyAlpha | 0.001 | 0.002 | 0.002 | |
| ct.buildSE | 0.175 | 0.006 | 0.180 | |
| ct.compareContrasts | 3.227 | 0.345 | 3.580 | |
| ct.contrastBarchart | 2.090 | 0.030 | 2.132 | |
| ct.expandAnnotation | 0.028 | 0.001 | 0.030 | |
| ct.filterReads | 0.090 | 0.007 | 0.096 | |
| ct.gRNARankByReplicate | 0.140 | 0.013 | 0.155 | |
| ct.generateResults | 0.179 | 0.008 | 0.188 | |
| ct.guideCDF | 5.219 | 2.259 | 7.519 | |
| ct.keyCheck | 0.044 | 0.003 | 0.046 | |
| ct.makeContrastReport | 2.977 | 0.508 | 3.529 | |
| ct.makeQCReport | 1.371 | 0.173 | 1.566 | |
| ct.makeReport | 6.204 | 0.873 | 7.110 | |
| ct.makeRhoNull | 0.000 | 0.000 | 0.001 | |
| ct.normalizeBySlope | 0.565 | 0.033 | 0.605 | |
| ct.normalizeFQ | 0.312 | 0.025 | 0.346 | |
| ct.normalizeGuides | 1.178 | 0.113 | 1.294 | |
| ct.normalizeMedians | 0.260 | 0.022 | 0.284 | |
| ct.normalizeNTC | 0.314 | 0.026 | 0.340 | |
| ct.normalizeSpline | 0.375 | 0.034 | 0.409 | |
| ct.parseGeneSymbol | 0.001 | 0.000 | 0.001 | |
| ct.prepareAnnotation | 0.227 | 0.009 | 0.238 | |
| ct.preprocessFit | 0.515 | 0.076 | 0.594 | |
| ct.rankSimple | 1.260 | 0.011 | 1.272 | |
| ct.rawCountDensities | 0.058 | 0.004 | 0.062 | |
| ct.regularizeContrasts | 0.039 | 0.001 | 0.039 | |
| ct.resultCheck | 0.026 | 0.001 | 0.027 | |
| ct.scatter | 0.119 | 0.002 | 0.121 | |
| ct.seas | 3.857 | 0.433 | 4.144 | |
| ct.seasPrep | 0.711 | 0.113 | 0.824 | |
| ct.signalSummary | 0.493 | 0.011 | 0.505 | |
| ct.simpleResult | 0.444 | 0.038 | 0.493 | |
| ct.softLog | 0 | 0 | 0 | |
| ct.stackGuides | 1.867 | 0.425 | 2.297 | |
| ct.targetSetEnrichment | 0.431 | 0.040 | 0.471 | |
| ct.topTargets | 0.145 | 0.005 | 0.151 | |
| ct.upSet | 2.911 | 0.389 | 3.301 | |
| ct.viewControls | 0.089 | 0.012 | 0.100 | |
| ct.viewGuides | 0.127 | 0.006 | 0.135 | |
| es | 0.023 | 0.002 | 0.025 | |
| essential.genes | 0.000 | 0.001 | 0.001 | |
| fit | 0.076 | 0.004 | 0.078 | |
| resultsDF | 0.026 | 0.001 | 0.028 | |