| Back to Multiple platform build/check report for BioC 3.23: simplified long |
|
This page was generated on 2025-11-19 10:13 -0500 (Wed, 19 Nov 2025).
| Hostname | OS | Arch (*) | R version | Installed pkgs |
|---|---|---|---|---|
| nebbiolo1 | Linux (Ubuntu 24.04.3 LTS) | x86_64 | R Under development (unstable) (2025-10-20 r88955) -- "Unsuffered Consequences" | 4827 |
| lconway | macOS 12.7.6 Monterey | x86_64 | R Under development (unstable) (2025-10-21 r88958) -- "Unsuffered Consequences" | 4600 |
| kjohnson3 | macOS 13.7.7 Ventura | arm64 | R Under development (unstable) (2025-11-04 r88984) -- "Unsuffered Consequences" | 4564 |
| Click on any hostname to see more info about the system (e.g. compilers) (*) as reported by 'uname -p', except on Windows and Mac OS X | ||||
| Package 715/2325 | Hostname | OS / Arch | INSTALL | BUILD | CHECK | BUILD BIN | ||||||||
| fcScan 1.25.0 (landing page) Pierre Khoueiry
| nebbiolo1 | Linux (Ubuntu 24.04.3 LTS) / x86_64 | OK | OK | OK | |||||||||
| lconway | macOS 12.7.6 Monterey / x86_64 | OK | OK | OK | OK | |||||||||
| kjohnson3 | macOS 13.7.7 Ventura / arm64 | OK | OK | OK | OK | |||||||||
|
To the developers/maintainers of the fcScan package: - Allow up to 24 hours (and sometimes 48 hours) for your latest push to git@git.bioconductor.org:packages/fcScan.git to reflect on this report. See Troubleshooting Build Report for more information. - Use the following Renviron settings to reproduce errors and warnings. - If 'R CMD check' started to fail recently on the Linux builder(s) over a missing dependency, add the missing dependency to 'Suggests:' in your DESCRIPTION file. See Renviron.bioc for more information. |
| Package: fcScan |
| Version: 1.25.0 |
| Command: /Library/Frameworks/R.framework/Resources/bin/R CMD check --install=check:fcScan.install-out.txt --library=/Library/Frameworks/R.framework/Resources/library --no-vignettes --timings fcScan_1.25.0.tar.gz |
| StartedAt: 2025-11-18 21:02:08 -0500 (Tue, 18 Nov 2025) |
| EndedAt: 2025-11-18 21:07:58 -0500 (Tue, 18 Nov 2025) |
| EllapsedTime: 350.7 seconds |
| RetCode: 0 |
| Status: OK |
| CheckDir: fcScan.Rcheck |
| Warnings: 0 |
##############################################################################
##############################################################################
###
### Running command:
###
### /Library/Frameworks/R.framework/Resources/bin/R CMD check --install=check:fcScan.install-out.txt --library=/Library/Frameworks/R.framework/Resources/library --no-vignettes --timings fcScan_1.25.0.tar.gz
###
##############################################################################
##############################################################################
* using log directory ‘/Users/biocbuild/bbs-3.23-bioc/meat/fcScan.Rcheck’
* using R Under development (unstable) (2025-10-21 r88958)
* using platform: x86_64-apple-darwin20
* R was compiled by
Apple clang version 14.0.0 (clang-1400.0.29.202)
GNU Fortran (GCC) 14.2.0
* running under: macOS Ventura 13.7.8
* using session charset: UTF-8
* using option ‘--no-vignettes’
* checking for file ‘fcScan/DESCRIPTION’ ... OK
* checking extension type ... Package
* this is package ‘fcScan’ version ‘1.25.0’
* package encoding: UTF-8
* checking package namespace information ... OK
* checking package dependencies ... OK
* checking if this is a source package ... OK
* checking if there is a namespace ... OK
* checking for hidden files and directories ... OK
* checking for portable file names ... OK
* checking for sufficient/correct file permissions ... OK
* checking whether package ‘fcScan’ can be installed ... OK
* checking installed package size ... OK
* checking package directory ... OK
* checking ‘build’ directory ... OK
* checking DESCRIPTION meta-information ... OK
* checking top-level files ... OK
* checking for left-over files ... OK
* checking index information ... OK
* checking package subdirectories ... OK
* checking code files for non-ASCII characters ... OK
* checking R files for syntax errors ... OK
* checking whether the package can be loaded ... OK
* checking whether the package can be loaded with stated dependencies ... OK
* checking whether the package can be unloaded cleanly ... OK
* checking whether the namespace can be loaded with stated dependencies ... OK
* checking whether the namespace can be unloaded cleanly ... OK
* checking dependencies in R code ... OK
* checking S3 generic/method consistency ... OK
* checking replacement functions ... OK
* checking foreign function calls ... OK
* checking R code for possible problems ... OK
* checking Rd files ... OK
* checking Rd metadata ... OK
* checking Rd cross-references ... OK
* checking for missing documentation entries ... OK
* checking for code/documentation mismatches ... OK
* checking Rd \usage sections ... OK
* checking Rd contents ... OK
* checking for unstated dependencies in examples ... OK
* checking files in ‘vignettes’ ... OK
* checking examples ... OK
* checking for unstated dependencies in ‘tests’ ... OK
* checking tests ...
Running ‘runTests.R’
OK
* checking for unstated dependencies in vignettes ... OK
* checking package vignettes ... OK
* checking running R code from vignettes ... SKIPPED
* checking re-building of vignette outputs ... SKIPPED
* checking PDF version of manual ... OK
* DONE
Status: OK
fcScan.Rcheck/00install.out
############################################################################## ############################################################################## ### ### Running command: ### ### /Library/Frameworks/R.framework/Resources/bin/R CMD INSTALL fcScan ### ############################################################################## ############################################################################## * installing to library ‘/Library/Frameworks/R.framework/Versions/4.6-x86_64/Resources/library’ * installing *source* package ‘fcScan’ ... ** this is package ‘fcScan’ version ‘1.25.0’ ** using staged installation ** R ** inst ** byte-compile and prepare package for lazy loading ** help *** installing help indices ** building package indices ** installing vignettes ** testing if installed package can be loaded from temporary location ** testing if installed package can be loaded from final location ** testing if installed package keeps a record of temporary installation path * DONE (fcScan)
fcScan.Rcheck/tests/runTests.Rout
R Under development (unstable) (2025-10-21 r88958) -- "Unsuffered Consequences"
Copyright (C) 2025 The R Foundation for Statistical Computing
Platform: x86_64-apple-darwin20
R is free software and comes with ABSOLUTELY NO WARRANTY.
You are welcome to redistribute it under certain conditions.
Type 'license()' or 'licence()' for distribution details.
R is a collaborative project with many contributors.
Type 'contributors()' for more information and
'citation()' on how to cite R or R packages in publications.
Type 'demo()' for some demos, 'help()' for on-line help, or
'help.start()' for an HTML browser interface to help.
Type 'q()' to quit R.
> BiocGenerics:::testPackage("fcScan")
Loading required package: GenomicRanges
Loading required package: stats4
Loading required package: BiocGenerics
Loading required package: generics
Attaching package: 'generics'
The following objects are masked from 'package:base':
as.difftime, as.factor, as.ordered, intersect, is.element, setdiff,
setequal, union
Attaching package: 'BiocGenerics'
The following objects are masked from 'package:stats':
IQR, mad, sd, var, xtabs
The following objects are masked from 'package:base':
Filter, Find, Map, Position, Reduce, anyDuplicated, aperm, append,
as.data.frame, basename, cbind, colnames, dirname, do.call,
duplicated, eval, evalq, get, grep, grepl, is.unsorted, lapply,
mapply, match, mget, order, paste, pmax, pmax.int, pmin, pmin.int,
rank, rbind, rownames, sapply, saveRDS, table, tapply, unique,
unsplit, which.max, which.min
Loading required package: S4Vectors
Attaching package: 'S4Vectors'
The following object is masked from 'package:utils':
findMatches
The following objects are masked from 'package:base':
I, expand.grid, unname
Loading required package: IRanges
Loading required package: Seqinfo
17 entries loaded
Running getCluster using 1 threads
Time difference of 0.298089 secs
Sites in condition do not match sites in data
3 entries loaded
Running getCluster using 1 threads
Time difference of 0.1156919 secs
17 entries loaded
Running getCluster using 1 threads
Time difference of 0.1181531 secs
17 entries loaded
Running getCluster using 1 threads
Time difference of 0.122282 secs
17 entries loaded
Running getCluster using 1 threads
No cluster found
17 entries loaded
Running getCluster using 1 threads
Time difference of 0.13697 secs
17 entries loaded
Running getCluster using 1 threads
Time difference of 0.1453559 secs
17 entries loaded
Running getCluster using 1 threads
Time difference of 0.1282339 secs
17 entries loaded
Running getCluster using 1 threads
Time difference of 0.1261148 secs
17 entries loaded
Running getCluster using 1 threads
Time difference of 0.09481907 secs
17 entries loaded
Running getCluster using 1 threads
Time difference of 0.08674788 secs
6 entries loaded
Running getCluster using 1 threads
Time difference of 0.08833289 secs
6 entries loaded
Running getCluster using 1 threads
Time difference of 0.09380412 secs
6 entries loaded
Running getCluster using 1 threads
Time difference of 0.09693909 secs
6 entries loaded
Running getCluster using 1 threads
Time difference of 0.08376002 secs
10 entries loaded
Running getCluster using 1 threads
Time difference of 0.09993482 secs
10 entries loaded
Running getCluster using 1 threads
No cluster found
10 entries loaded
Running getCluster using 1 threads
Time difference of 0.0944469 secs
16 entries loaded
Running getCluster using 1 threads
Time difference of 0.0823741 secs
6 entries loaded
Running getCluster using 1 threads
Time difference of 0.09383106 secs
6 entries loaded
Running getCluster using 1 threads
Time difference of 0.08528996 secs
6 entries loaded
Running getCluster using 1 threads
Time difference of 0.1017051 secs
6 entries loaded
Running getCluster using 1 threads
Time difference of 0.1165578 secs
6 entries loaded
Running getCluster using 1 threads
Time difference of 0.1075661 secs
17 entries loaded
Running getCluster using 1 threads
Time difference of 0.08055902 secs
17 entries loaded
Running getCluster using 1 threads
Time difference of 0.09167504 secs
17 entries loaded
Running getCluster using 1 threads
Time difference of 0.09176803 secs
17 entries loaded
Running getCluster using 1 threads
Time difference of 0.1040151 secs
17 entries loaded
Running getCluster using 1 threads
Time difference of 0.1126211 secs
17 entries loaded
Running getCluster using 1 threads
Time difference of 0.1017389 secs
17 entries loaded
Running getCluster using 1 threads
Time difference of 0.09954596 secs
17 entries loaded
Running getCluster using 1 threads
Time difference of 0.1303279 secs
17 entries loaded
Running getCluster using 1 threads
Time difference of 0.1151271 secs
17 entries loaded
Running getCluster using 1 threads
Time difference of 0.121881 secs
17 entries loaded
Running getCluster using 1 threads
Time difference of 0.1497328 secs
17 entries loaded
Running getCluster using 1 threads
Time difference of 0.089324 secs
17 entries loaded
Running getCluster using 1 threads
Time difference of 0.1054008 secs
17 entries loaded
Running getCluster using 1 threads
Time difference of 0.1090002 secs
17 entries loaded
Running getCluster using 1 threads
Time difference of 0.0874579 secs
17 entries loaded
Running getCluster using 1 threads
Time difference of 0.1020131 secs
17 entries loaded
Running getCluster using 1 threads
Time difference of 0.100229 secs
17 entries loaded
Running getCluster using 1 threads
Time difference of 0.1179051 secs
17 entries loaded
Running getCluster using 1 threads
Time difference of 0.127681 secs
17 entries loaded
Running getCluster using 1 threads
Time difference of 0.1152689 secs
RUNIT TEST PROTOCOL -- Tue Nov 18 21:07:50 2025
***********************************************
Number of test functions: 1
Number of errors: 0
Number of failures: 0
1 Test Suite :
fcScan RUnit Tests - 1 test function, 0 errors, 0 failures
Number of test functions: 1
Number of errors: 0
Number of failures: 0
>
> proc.time()
user system elapsed
18.022 1.328 20.245
fcScan.Rcheck/fcScan-Ex.timings
| name | user | system | elapsed | |
| getCluster | 0.309 | 0.019 | 0.341 | |