Back to Multiple platform build/check report for BioC 3.21: simplified long |
|
This page was generated on 2025-01-28 11:47 -0500 (Tue, 28 Jan 2025).
Hostname | OS | Arch (*) | R version | Installed pkgs |
---|---|---|---|---|
nebbiolo1 | Linux (Ubuntu 24.04.1 LTS) | x86_64 | R Under development (unstable) (2025-01-20 r87609) -- "Unsuffered Consequences" | 4659 |
palomino7 | Windows Server 2022 Datacenter | x64 | R Under development (unstable) (2025-01-21 r87610 ucrt) -- "Unsuffered Consequences" | 4454 |
lconway | macOS 12.7.1 Monterey | x86_64 | R Under development (unstable) (2025-01-22 r87618) -- "Unsuffered Consequences" | 4465 |
kjohnson3 | macOS 13.7.1 Ventura | arm64 | R Under development (unstable) (2025-01-20 r87609) -- "Unsuffered Consequences" | 4419 |
kunpeng2 | Linux (openEuler 22.03 LTS-SP1) | aarch64 | R Under development (unstable) (2024-11-24 r87369) -- "Unsuffered Consequences" | 4409 |
Click on any hostname to see more info about the system (e.g. compilers) (*) as reported by 'uname -p', except on Windows and Mac OS X |
Package 604/2286 | Hostname | OS / Arch | INSTALL | BUILD | CHECK | BUILD BIN | ||||||||
drugTargetInteractions 1.15.0 (landing page) Thomas Girke
| nebbiolo1 | Linux (Ubuntu 24.04.1 LTS) / x86_64 | OK | OK | OK | |||||||||
palomino7 | Windows Server 2022 Datacenter / x64 | OK | OK | OK | OK | |||||||||
lconway | macOS 12.7.1 Monterey / x86_64 | OK | OK | OK | OK | |||||||||
kjohnson3 | macOS 13.7.1 Ventura / arm64 | OK | OK | OK | OK | |||||||||
kunpeng2 | Linux (openEuler 22.03 LTS-SP1) / aarch64 | OK | OK | WARNINGS | ||||||||||
To the developers/maintainers of the drugTargetInteractions package: - Allow up to 24 hours (and sometimes 48 hours) for your latest push to git@git.bioconductor.org:packages/drugTargetInteractions.git to reflect on this report. See Troubleshooting Build Report for more information. - Use the following Renviron settings to reproduce errors and warnings. - If 'R CMD check' started to fail recently on the Linux builder(s) over a missing dependency, add the missing dependency to 'Suggests:' in your DESCRIPTION file. See Renviron.bioc for more information. - See Martin Grigorov's blog post for how to debug Linux ARM64 related issues on a x86_64 host. |
Package: drugTargetInteractions |
Version: 1.15.0 |
Command: /home/biocbuild/R/R/bin/R CMD check --install=check:drugTargetInteractions.install-out.txt --library=/home/biocbuild/R/R/site-library --no-vignettes --timings drugTargetInteractions_1.15.0.tar.gz |
StartedAt: 2025-01-28 10:08:43 -0000 (Tue, 28 Jan 2025) |
EndedAt: 2025-01-28 10:15:23 -0000 (Tue, 28 Jan 2025) |
EllapsedTime: 400.4 seconds |
RetCode: 0 |
Status: WARNINGS |
CheckDir: drugTargetInteractions.Rcheck |
Warnings: 5 |
############################################################################## ############################################################################## ### ### Running command: ### ### /home/biocbuild/R/R/bin/R CMD check --install=check:drugTargetInteractions.install-out.txt --library=/home/biocbuild/R/R/site-library --no-vignettes --timings drugTargetInteractions_1.15.0.tar.gz ### ############################################################################## ############################################################################## * using log directory ‘/home/biocbuild/bbs-3.21-bioc/meat/drugTargetInteractions.Rcheck’ * using R Under development (unstable) (2024-11-24 r87369) * using platform: aarch64-unknown-linux-gnu * R was compiled by aarch64-unknown-linux-gnu-gcc (GCC) 14.2.0 GNU Fortran (GCC) 14.2.0 * running under: openEuler 24.03 (LTS) * using session charset: UTF-8 * using option ‘--no-vignettes’ * checking for file ‘drugTargetInteractions/DESCRIPTION’ ... OK * checking extension type ... Package * this is package ‘drugTargetInteractions’ version ‘1.15.0’ * checking package namespace information ... OK * checking package dependencies ... OK * checking if this is a source package ... OK * checking if there is a namespace ... OK * checking for hidden files and directories ... OK * checking for portable file names ... OK * checking for sufficient/correct file permissions ... OK * checking whether package ‘drugTargetInteractions’ can be installed ... WARNING Found the following significant warnings: Warning: program compiled against libxml 212 using older 211 See ‘/home/biocbuild/bbs-3.21-bioc/meat/drugTargetInteractions.Rcheck/00install.out’ for details. * checking installed package size ... OK * checking package directory ... OK * checking ‘build’ directory ... OK * checking DESCRIPTION meta-information ... OK * checking top-level files ... OK * checking for left-over files ... OK * checking index information ... OK * checking package subdirectories ... OK * checking code files for non-ASCII characters ... OK * checking R files for syntax errors ... OK * checking whether the package can be loaded ... OK * checking whether the package can be loaded with stated dependencies ... OK * checking whether the package can be unloaded cleanly ... OK * checking whether the namespace can be loaded with stated dependencies ... NOTE Warning: program compiled against libxml 212 using older 211 A namespace must be able to be loaded with just the base namespace loaded: otherwise if the namespace gets loaded by a saved object, the session will be unable to start. Probably some imports need to be declared in the NAMESPACE file. * checking whether the namespace can be unloaded cleanly ... OK * checking loading without being on the library search path ... OK * checking dependencies in R code ... NOTE Warning: program compiled against libxml 212 using older 211 * checking S3 generic/method consistency ... WARNING Warning: program compiled against libxml 212 using older 211 See section ‘Generic functions and methods’ in the ‘Writing R Extensions’ manual. * checking replacement functions ... WARNING Warning: program compiled against libxml 212 using older 211 The argument of a replacement function which corresponds to the right hand side must be named ‘value’. * checking foreign function calls ... NOTE Warning: program compiled against libxml 212 using older 211 See chapter ‘System and foreign language interfaces’ in the ‘Writing R Extensions’ manual. * checking R code for possible problems ... NOTE Warning: program compiled against libxml 212 using older 211 .getCacheFile: no visible binding for global variable 'create_time' getParalogs: no visible global function definition for 'setNames' Undefined global functions or variables: create_time setNames Consider adding importFrom("stats", "setNames") to your NAMESPACE file. * checking Rd files ... OK * checking Rd metadata ... OK * checking Rd cross-references ... NOTE Found the following Rd file(s) with Rd \link{} targets missing package anchors: getUniprotIDs.Rd: UniProt.ws Please provide package anchors for all Rd \link{} targets not in the package itself and the base packages. * checking for missing documentation entries ... WARNING Warning: program compiled against libxml 212 using older 211 All user-level objects in a package should have documentation entries. See chapter ‘Writing R documentation files’ in the ‘Writing R Extensions’ manual. * checking for code/documentation mismatches ... WARNING Warning: program compiled against libxml 212 using older 211 Warning: program compiled against libxml 212 using older 211 Warning: program compiled against libxml 212 using older 211 * checking Rd \usage sections ... NOTE Warning: program compiled against libxml 212 using older 211 The \usage entries for S3 methods should use the \method markup and not their full name. See chapter ‘Writing R documentation files’ in the ‘Writing R Extensions’ manual. * checking Rd contents ... OK * checking for unstated dependencies in examples ... OK * checking files in ‘vignettes’ ... OK * checking examples ... OK Examples with CPU (user + system) or elapsed time > 5s user system elapsed drugTargetAnnotTable 50.733 1.656 52.521 transformTTD 4.499 0.055 5.033 * checking for unstated dependencies in vignettes ... OK * checking package vignettes ... OK * checking running R code from vignettes ... SKIPPED * checking re-building of vignette outputs ... SKIPPED * checking PDF version of manual ... OK * DONE Status: 5 WARNINGs, 6 NOTEs See ‘/home/biocbuild/bbs-3.21-bioc/meat/drugTargetInteractions.Rcheck/00check.log’ for details.
drugTargetInteractions.Rcheck/00install.out
############################################################################## ############################################################################## ### ### Running command: ### ### /home/biocbuild/R/R/bin/R CMD INSTALL drugTargetInteractions ### ############################################################################## ############################################################################## * installing to library ‘/home/biocbuild/R/R-4.5.0-devel_2024-11-24/site-library’ * installing *source* package ‘drugTargetInteractions’ ... ** using staged installation ** R ** inst ** byte-compile and prepare package for lazy loading Warning: program compiled against libxml 212 using older 211 ** help *** installing help indices ** building package indices ** installing vignettes ** testing if installed package can be loaded from temporary location Warning: program compiled against libxml 212 using older 211 ** testing if installed package can be loaded from final location Warning: program compiled against libxml 212 using older 211 ** testing if installed package keeps a record of temporary installation path * DONE (drugTargetInteractions)
drugTargetInteractions.Rcheck/drugTargetInteractions-Ex.timings
name | user | system | elapsed | |
cmpIdMapping | 0.000 | 0.000 | 0.001 | |
downloadChemblDb | 0 | 0 | 0 | |
downloadUniChem | 1.217 | 0.124 | 2.442 | |
drugTargetAnnot | 0.018 | 0.004 | 0.029 | |
drugTargetAnnotTable | 50.733 | 1.656 | 52.521 | |
drugTargetBioactivity | 0.953 | 0.000 | 0.955 | |
genConfig | 0 | 0 | 0 | |
getDrugTarget | 0.022 | 0.000 | 0.024 | |
getParalogs | 0 | 0 | 0 | |
getSymEnsUp | 1.174 | 0.044 | 1.239 | |
getUniprotIDs | 0 | 0 | 0 | |
processDrugage | 0.077 | 0.000 | 2.126 | |
runDrugTarget_Annot_Bioassay | 0.437 | 0.004 | 0.445 | |
transformTTD | 4.499 | 0.055 | 5.033 | |