Back to Multiple platform build/check report for BioC 3.21:   simplified   long
AB[C]DEFGHIJKLMNOPQRSTUVWXYZ

This page was generated on 2025-02-03 12:37 -0500 (Mon, 03 Feb 2025).

HostnameOSArch (*)R versionInstalled pkgs
nebbiolo1Linux (Ubuntu 24.04.1 LTS)x86_64R Under development (unstable) (2025-01-20 r87609) -- "Unsuffered Consequences" 4704
palomino7Windows Server 2022 Datacenterx64R Under development (unstable) (2025-01-21 r87610 ucrt) -- "Unsuffered Consequences" 4467
lconwaymacOS 12.7.1 Montereyx86_64R Under development (unstable) (2025-01-22 r87618) -- "Unsuffered Consequences" 4478
Click on any hostname to see more info about the system (e.g. compilers)      (*) as reported by 'uname -p', except on Windows and Mac OS X

Package 381/2289HostnameOS / ArchINSTALLBUILDCHECKBUILD BIN
cn.mops 1.53.0  (landing page)
Gundula Povysil
Snapshot Date: 2025-02-02 13:40 -0500 (Sun, 02 Feb 2025)
git_url: https://git.bioconductor.org/packages/cn.mops
git_branch: devel
git_last_commit: f3ed325
git_last_commit_date: 2025-01-01 13:36:05 -0500 (Wed, 01 Jan 2025)
nebbiolo1Linux (Ubuntu 24.04.1 LTS) / x86_64  OK    OK    OK  UNNEEDED, same version is already published
palomino7Windows Server 2022 Datacenter / x64  OK    OK    OK    OK  UNNEEDED, same version is already published
lconwaymacOS 12.7.1 Monterey / x86_64  OK    OK    OK    OK  UNNEEDED, same version is already published


CHECK results for cn.mops on palomino7

To the developers/maintainers of the cn.mops package:
- Allow up to 24 hours (and sometimes 48 hours) for your latest push to git@git.bioconductor.org:packages/cn.mops.git to reflect on this report. See Troubleshooting Build Report for more information.
- Use the following Renviron settings to reproduce errors and warnings.
- If 'R CMD check' started to fail recently on the Linux builder(s) over a missing dependency, add the missing dependency to 'Suggests:' in your DESCRIPTION file. See Renviron.bioc for more information.

raw results


Summary

Package: cn.mops
Version: 1.53.0
Command: E:\biocbuild\bbs-3.21-bioc\R\bin\R.exe CMD check --no-multiarch --install=check:cn.mops.install-out.txt --library=E:\biocbuild\bbs-3.21-bioc\R\library --no-vignettes --timings cn.mops_1.53.0.tar.gz
StartedAt: 2025-02-02 23:41:51 -0500 (Sun, 02 Feb 2025)
EndedAt: 2025-02-02 23:45:54 -0500 (Sun, 02 Feb 2025)
EllapsedTime: 243.1 seconds
RetCode: 0
Status:   OK  
CheckDir: cn.mops.Rcheck
Warnings: 0

Command output

##############################################################################
##############################################################################
###
### Running command:
###
###   E:\biocbuild\bbs-3.21-bioc\R\bin\R.exe CMD check --no-multiarch --install=check:cn.mops.install-out.txt --library=E:\biocbuild\bbs-3.21-bioc\R\library --no-vignettes --timings cn.mops_1.53.0.tar.gz
###
##############################################################################
##############################################################################


* using log directory 'E:/biocbuild/bbs-3.21-bioc/meat/cn.mops.Rcheck'
* using R Under development (unstable) (2025-01-21 r87610 ucrt)
* using platform: x86_64-w64-mingw32
* R was compiled by
    gcc.exe (GCC) 13.3.0
    GNU Fortran (GCC) 13.3.0
* running under: Windows Server 2022 x64 (build 20348)
* using session charset: UTF-8
* using option '--no-vignettes'
* checking for file 'cn.mops/DESCRIPTION' ... OK
* checking extension type ... Package
* this is package 'cn.mops' version '1.53.0'
* checking package namespace information ... OK
* checking package dependencies ... OK
* checking if this is a source package ... OK
* checking if there is a namespace ... OK
* checking for hidden files and directories ... OK
* checking for portable file names ... OK
* checking whether package 'cn.mops' can be installed ... OK
* used C compiler: 'gcc.exe (GCC) 13.3.0'
* used C++ compiler: 'G__~1.EXE (GCC) 13.3.0'
* checking installed package size ... OK
* checking package directory ... OK
* checking 'build' directory ... OK
* checking DESCRIPTION meta-information ... OK
* checking top-level files ... OK
* checking for left-over files ... OK
* checking index information ... OK
* checking package subdirectories ... OK
* checking code files for non-ASCII characters ... OK
* checking R files for syntax errors ... OK
* checking whether the package can be loaded ... OK
* checking whether the package can be loaded with stated dependencies ... OK
* checking whether the package can be unloaded cleanly ... OK
* checking whether the namespace can be loaded with stated dependencies ... OK
* checking whether the namespace can be unloaded cleanly ... OK
* checking whether startup messages can be suppressed ... OK
* checking dependencies in R code ... OK
* checking S3 generic/method consistency ... OK
* checking replacement functions ... OK
* checking foreign function calls ... OK
* checking R code for possible problems ... OK
* checking Rd files ... OK
* checking Rd metadata ... OK
* checking Rd cross-references ... OK
* checking for missing documentation entries ... OK
* checking for code/documentation mismatches ... OK
* checking Rd \usage sections ... OK
* checking Rd contents ... OK
* checking for unstated dependencies in examples ... OK
* checking contents of 'data' directory ... OK
* checking data for non-ASCII characters ... OK
* checking data for ASCII and uncompressed saves ... OK
* checking line endings in C/C++/Fortran sources/headers ... OK
* checking compiled code ... NOTE
Note: information on .o files for x64 is not available
File 'E:/biocbuild/bbs-3.21-bioc/R/library/cn.mops/libs/x64/cn.mops.dll':
  Found '_exit', possibly from '_exit' (C)
  Found 'abort', possibly from 'abort' (C), 'runtime' (Fortran)

Compiled code should not call entry points which might terminate R nor
write to stdout/stderr instead of to the console, nor use Fortran I/O
nor system RNGs nor [v]sprintf. The detected symbols are linked into
the code but might come from libraries and not actually be called.

See 'Writing portable packages' in the 'Writing R Extensions' manual.
* checking sizes of PDF files under 'inst/doc' ... OK
* checking files in 'vignettes' ... OK
* checking examples ... OK
Examples with CPU (user + system) or elapsed time > 5s
                                                     user system elapsed
referencecn.mops                                    16.44   0.05   27.35
calcFractionalCopyNumbers-CNVDetectionResult-method 10.76   0.02   10.78
calcFractionalCopyNumbers                           10.19   0.07   10.27
cn.mops                                              8.18   0.14   22.60
haplocn.mops                                         1.36   0.04   10.93
getReadCountsFromBAM                                 0.51   0.08    5.86
getSegmentReadCountsFromBAM                          0.35   0.01    5.69
* checking for unstated dependencies in vignettes ... OK
* checking package vignettes ... OK
* checking running R code from vignettes ... SKIPPED
* checking re-building of vignette outputs ... SKIPPED
* checking PDF version of manual ... OK
* DONE

Status: 1 NOTE
See
  'E:/biocbuild/bbs-3.21-bioc/meat/cn.mops.Rcheck/00check.log'
for details.


Installation output

cn.mops.Rcheck/00install.out

##############################################################################
##############################################################################
###
### Running command:
###
###   E:\biocbuild\bbs-3.21-bioc\R\bin\R.exe CMD INSTALL cn.mops
###
##############################################################################
##############################################################################


* installing to library 'E:/biocbuild/bbs-3.21-bioc/R/library'
* installing *source* package 'cn.mops' ...
** this is package 'cn.mops' version '1.53.0'
** using staged installation
** libs
using C compiler: 'gcc.exe (GCC) 13.3.0'
using C++ compiler: 'G__~1.EXE (GCC) 13.3.0'
gcc  -I"E:/biocbuild/bbs-3.21-bioc/R/include" -DNDEBUG     -I"C:/rtools44/x86_64-w64-mingw32.static.posix/include"      -O2 -Wall  -mfpmath=sse -msse2 -mstackrealign   -c R_init_cnmops.c -o R_init_cnmops.o
g++ -std=gnu++17  -I"E:/biocbuild/bbs-3.21-bioc/R/include" -DNDEBUG     -I"C:/rtools44/x86_64-w64-mingw32.static.posix/include"      -O2 -Wall  -mfpmath=sse -msse2 -mstackrealign   -DR_NO_REMAP -c cnmops.cpp -o cnmops.o
g++ -std=gnu++17  -I"E:/biocbuild/bbs-3.21-bioc/R/include" -DNDEBUG     -I"C:/rtools44/x86_64-w64-mingw32.static.posix/include"      -O2 -Wall  -mfpmath=sse -msse2 -mstackrealign   -DR_NO_REMAP -c segment.cpp -o segment.o
segment.cpp: In function 'SEXPREC* segment(SEXP, SEXP, SEXP, SEXP, SEXP, SEXP)':
segment.cpp:59:27: warning: variable 'globalSd' set but not used [-Wunused-but-set-variable]
   59 |         double globalMean,globalSd,diff,M2,globalVariance;
      |                           ^~~~~~~~
segment.cpp:60:16: warning: variable 'oldStatistic' set but not used [-Wunused-but-set-variable]
   60 |         double oldStatistic, meanLeft,meanRight,varLeft,varRight;
      |                ^~~~~~~~~~~~
segment.cpp:61:38: warning: variable 'maxStatistic' set but not used [-Wunused-but-set-variable]
   61 |         double newStatistic,meanDiff,maxStatistic,DOF,a,b,eps1;
      |                                      ^~~~~~~~~~~~
segment.cpp:62:47: warning: variable 'maxIdx' set but not used [-Wunused-but-set-variable]
   62 |         double newPValue, maxPValue,oldPValue,maxIdx;
      |                                               ^~~~~~
In file included from segment.cpp:10:
E:/biocbuild/bbs-3.21-bioc/R/include/Rmath.h:211:25: warning: unused variable 'Rf_beta' [-Wunused-variable]
  211 | #define beta            Rf_beta
      |                         ^~~~~~~
segment.cpp:64:16: note: in expansion of macro 'beta'
   64 |         double beta,nn;
      |                ^~~~
g++ -std=gnu++17 -shared -s -static-libgcc -o cn.mops.dll tmp.def R_init_cnmops.o cnmops.o segment.o -LC:/rtools44/x86_64-w64-mingw32.static.posix/lib/x64 -LC:/rtools44/x86_64-w64-mingw32.static.posix/lib -LE:/biocbuild/bbs-3.21-bioc/R/bin/x64 -lR
installing to E:/biocbuild/bbs-3.21-bioc/R/library/00LOCK-cn.mops/00new/cn.mops/libs/x64
** R
** data
** inst
** byte-compile and prepare package for lazy loading
** help
*** installing help indices
** building package indices
** installing vignettes
** testing if installed package can be loaded from temporary location
** testing if installed package can be loaded from final location
** testing if installed package keeps a record of temporary installation path
* DONE (cn.mops)

Tests output


Example timings

cn.mops.Rcheck/cn.mops-Ex.timings

nameusersystemelapsed
CNVDetectionResult000
calcFractionalCopyNumbers-CNVDetectionResult-method10.76 0.0210.78
calcFractionalCopyNumbers10.19 0.0710.27
calcIntegerCopyNumbers-CNVDetectionResult-method0.480.000.48
calcIntegerCopyNumbers0.310.020.33
cn.mops 8.18 0.1422.60
cnvr-CNVDetectionResult-method0.210.020.23
cnvr0.550.010.56
cnvs-CNVDetectionResult-method0.250.020.26
cnvs0.30.00.3
exomecn.mops3.860.063.92
getReadCountsFromBAM0.510.085.86
getSegmentReadCountsFromBAM0.350.015.69
gr-CNVDetectionResult-method0.280.020.29
gr0.300.020.32
haplocn.mops 1.36 0.0410.93
individualCall-CNVDetectionResult-method0.200.020.22
individualCall0.190.010.20
iniCall-CNVDetectionResult-method0.280.020.30
iniCall0.290.030.33
integerCopyNumber-CNVDetectionResult-method0.270.030.29
integerCopyNumber0.340.000.35
localAssessments-CNVDetectionResult-method0.220.030.25
localAssessments0.270.000.26
makeRobustCNVR0.450.010.47
normalizeChromosomes0.160.070.21
normalizeGenome0.120.010.15
normalizedData-CNVDetectionResult-method0.270.020.28
normalizedData0.260.040.31
params-CNVDetectionResult-method0.680.020.69
params0.310.000.31
posteriorProbs-CNVDetectionResult-method0.250.020.26
posteriorProbs0.280.010.30
referencecn.mops16.44 0.0527.35
sampleNames-CNVDetectionResult-method0.280.010.29
sampleNames0.250.000.25
segment0.030.000.03
segmentation-CNVDetectionResult-method0.310.000.32
segmentation0.270.020.28
segplot-CNVDetectionResult-method1.290.031.33
segplot1.380.031.40
singlecn.mops0.950.000.95