Back to Multiple platform build/check report for BioC 3.21:   simplified   long
[A]BCDEFGHIJKLMNOPQRSTUVWXYZ

This page was generated on 2025-02-03 12:37 -0500 (Mon, 03 Feb 2025).

HostnameOSArch (*)R versionInstalled pkgs
nebbiolo1Linux (Ubuntu 24.04.1 LTS)x86_64R Under development (unstable) (2025-01-20 r87609) -- "Unsuffered Consequences" 4704
palomino7Windows Server 2022 Datacenterx64R Under development (unstable) (2025-01-21 r87610 ucrt) -- "Unsuffered Consequences" 4467
lconwaymacOS 12.7.1 Montereyx86_64R Under development (unstable) (2025-01-22 r87618) -- "Unsuffered Consequences" 4478
Click on any hostname to see more info about the system (e.g. compilers)      (*) as reported by 'uname -p', except on Windows and Mac OS X

Package 29/2289HostnameOS / ArchINSTALLBUILDCHECKBUILD BIN
affyio 1.77.3  (landing page)
Ben Bolstad
Snapshot Date: 2025-02-02 13:40 -0500 (Sun, 02 Feb 2025)
git_url: https://git.bioconductor.org/packages/affyio
git_branch: devel
git_last_commit: dff48aa
git_last_commit_date: 2025-01-24 00:23:54 -0500 (Fri, 24 Jan 2025)
nebbiolo1Linux (Ubuntu 24.04.1 LTS) / x86_64  OK    OK    WARNINGS  UNNEEDED, same version is already published
palomino7Windows Server 2022 Datacenter / x64  OK    OK    WARNINGS    OK  UNNEEDED, same version is already published
lconwaymacOS 12.7.1 Monterey / x86_64  OK    OK    WARNINGS    OK  UNNEEDED, same version is already published


INSTALL results for affyio on nebbiolo1

To the developers/maintainers of the affyio package:
- Allow up to 24 hours (and sometimes 48 hours) for your latest push to git@git.bioconductor.org:packages/affyio.git to reflect on this report. See Troubleshooting Build Report for more information.
- Use the following Renviron settings to reproduce errors and warnings.
- If 'R CMD check' started to fail recently on the Linux builder(s) over a missing dependency, add the missing dependency to 'Suggests:' in your DESCRIPTION file. See Renviron.bioc for more information.

raw results


Summary

Package: affyio
Version: 1.77.3
Command: /home/biocbuild/bbs-3.21-bioc/R/bin/R CMD INSTALL affyio
StartedAt: 2025-02-02 15:02:27 -0500 (Sun, 02 Feb 2025)
EndedAt: 2025-02-02 15:02:40 -0500 (Sun, 02 Feb 2025)
EllapsedTime: 12.6 seconds
RetCode: 0
Status:   OK  

Command output

##############################################################################
##############################################################################
###
### Running command:
###
###   /home/biocbuild/bbs-3.21-bioc/R/bin/R CMD INSTALL affyio
###
##############################################################################
##############################################################################


* installing to library ‘/home/biocbuild/bbs-3.21-bioc/R/site-library’
* installing *source* package ‘affyio’ ...
** this is package ‘affyio’ version ‘1.77.3’
** using staged installation
checking for gcc... gcc
checking whether the C compiler works... yes
checking for C compiler default output file name... a.out
checking for suffix of executables... 
checking whether we are cross compiling... no
checking for suffix of object files... o
checking whether we are using the GNU C compiler... yes
checking whether gcc accepts -g... yes
checking for gcc option to accept ISO C89... none needed
checking how to run the C preprocessor... gcc -E
checking for grep that handles long lines and -e... /usr/bin/grep
checking for egrep... /usr/bin/grep -E
checking for ANSI C header files... yes
checking for sys/types.h... yes
checking for sys/stat.h... yes
checking for stdlib.h... yes
checking for string.h... yes
checking for memory.h... yes
checking for strings.h... yes
checking for inttypes.h... yes
checking for stdint.h... yes
checking for unistd.h... yes
checking for main in -lz... yes
checking zlib.h usability... yes
checking zlib.h presence... yes
checking for zlib.h... yes
checking if zlib version >= 1.1.3... yes
checking for pthread_create in -lpthread... yes
checking if we can use pthreads... yes
checking if PTHREAD_STACK_MIN is defined... yes
configure: Enabling threading for affyio
configure: creating ./config.status
config.status: creating src/Makevars
** libs
using C compiler: ‘gcc (Ubuntu 13.3.0-6ubuntu2~24.04) 13.3.0’
gcc -I"/home/biocbuild/bbs-3.21-bioc/R/include" -DNDEBUG -DPACKAGE_NAME=\"\" -DPACKAGE_TARNAME=\"\" -DPACKAGE_VERSION=\"\" -DPACKAGE_STRING=\"\" -DPACKAGE_BUGREPORT=\"\" -DPACKAGE_URL=\"\" -DSTDC_HEADERS=1 -DHAVE_SYS_TYPES_H=1 -DHAVE_SYS_STAT_H=1 -DHAVE_STDLIB_H=1 -DHAVE_STRING_H=1 -DHAVE_MEMORY_H=1 -DHAVE_STRINGS_H=1 -DHAVE_INTTYPES_H=1 -DHAVE_STDINT_H=1 -DHAVE_UNISTD_H=1 -DHAVE_ZLIB=1 -DHAVE_LIBPTHREAD=1 -DUSE_PTHREADS=1  -I/usr/local/include   -g -O2   -fpic  -g -O2  -c fread_functions.c -o fread_functions.o
gcc -I"/home/biocbuild/bbs-3.21-bioc/R/include" -DNDEBUG -DPACKAGE_NAME=\"\" -DPACKAGE_TARNAME=\"\" -DPACKAGE_VERSION=\"\" -DPACKAGE_STRING=\"\" -DPACKAGE_BUGREPORT=\"\" -DPACKAGE_URL=\"\" -DSTDC_HEADERS=1 -DHAVE_SYS_TYPES_H=1 -DHAVE_SYS_STAT_H=1 -DHAVE_STDLIB_H=1 -DHAVE_STRING_H=1 -DHAVE_MEMORY_H=1 -DHAVE_STRINGS_H=1 -DHAVE_INTTYPES_H=1 -DHAVE_STDINT_H=1 -DHAVE_UNISTD_H=1 -DHAVE_ZLIB=1 -DHAVE_LIBPTHREAD=1 -DUSE_PTHREADS=1  -I/usr/local/include   -g -O2   -fpic  -g -O2  -c init_package.c -o init_package.o
gcc -I"/home/biocbuild/bbs-3.21-bioc/R/include" -DNDEBUG -DPACKAGE_NAME=\"\" -DPACKAGE_TARNAME=\"\" -DPACKAGE_VERSION=\"\" -DPACKAGE_STRING=\"\" -DPACKAGE_BUGREPORT=\"\" -DPACKAGE_URL=\"\" -DSTDC_HEADERS=1 -DHAVE_SYS_TYPES_H=1 -DHAVE_SYS_STAT_H=1 -DHAVE_STDLIB_H=1 -DHAVE_STRING_H=1 -DHAVE_MEMORY_H=1 -DHAVE_STRINGS_H=1 -DHAVE_INTTYPES_H=1 -DHAVE_STDINT_H=1 -DHAVE_UNISTD_H=1 -DHAVE_ZLIB=1 -DHAVE_LIBPTHREAD=1 -DUSE_PTHREADS=1  -I/usr/local/include   -g -O2   -fpic  -g -O2  -c read_abatch.c -o read_abatch.o
read_abatch.c: In function ‘read_cel_file_intensities’:
read_abatch.c:656:176: warning: format ‘%d’ expects argument of type ‘int’, but argument 3 has type ‘size_t’ {aka ‘long unsigned int’} [-Wformat=]
  656 |       Rprintf("Warning: found an empty line where not expected in %s.\nThis means that there is a cel intensity missing from the cel file.\nSucessfully read to cel intensity %d of %d expected\n", filename, i-1, i);
      |                                                                                                                                                                               ~^                              ~~~
      |                                                                                                                                                                                |                               |
      |                                                                                                                                                                                int                             size_t {aka long unsigned int}
      |                                                                                                                                                                               %ld
read_abatch.c:656:182: warning: format ‘%d’ expects argument of type ‘int’, but argument 4 has type ‘size_t’ {aka ‘long unsigned int’} [-Wformat=]
  656 |       Rprintf("Warning: found an empty line where not expected in %s.\nThis means that there is a cel intensity missing from the cel file.\nSucessfully read to cel intensity %d of %d expected\n", filename, i-1, i);
      |                                                                                                                                                                                     ~^                             ~
      |                                                                                                                                                                                      |                             |
      |                                                                                                                                                                                      int                           size_t {aka long unsigned int}
      |                                                                                                                                                                                     %ld
read_abatch.c:665:146: warning: format ‘%d’ expects argument of type ‘int’, but argument 3 has type ‘size_t’ {aka ‘long unsigned int’} [-Wformat=]
  665 |        Rprintf("Warning: found an incomplete line where not expected in %s.\nThe CEL file may be truncated. \nSucessfully read to cel intensity %d of %d expected\n", filename, i-1, rows);
      |                                                                                                                                                 ~^                              ~~~
      |                                                                                                                                                  |                               |
      |                                                                                                                                                  int                             size_t {aka long unsigned int}
      |                                                                                                                                                 %ld
read_abatch.c:665:152: warning: format ‘%d’ expects argument of type ‘int’, but argument 4 has type ‘size_t’ {aka ‘long unsigned int’} [-Wformat=]
  665 |        Rprintf("Warning: found an incomplete line where not expected in %s.\nThe CEL file may be truncated. \nSucessfully read to cel intensity %d of %d expected\n", filename, i-1, rows);
      |                                                                                                                                                       ~^                             ~~~~
      |                                                                                                                                                        |                             |
      |                                                                                                                                                        int                           size_t {aka long unsigned int}
      |                                                                                                                                                       %ld
read_abatch.c:677:145: warning: format ‘%d’ expects argument of type ‘int’, but argument 3 has type ‘size_t’ {aka ‘long unsigned int’} [-Wformat=]
  677 |       Rprintf("Warning: found an incomplete line where not expected in %s.\nThe CEL file may be truncated. \nSucessfully read to cel intensity %d of %d expected\n", filename, i-1, rows);
      |                                                                                                                                                ~^                              ~~~
      |                                                                                                                                                 |                               |
      |                                                                                                                                                 int                             size_t {aka long unsigned int}
      |                                                                                                                                                %ld
read_abatch.c:677:151: warning: format ‘%d’ expects argument of type ‘int’, but argument 4 has type ‘size_t’ {aka ‘long unsigned int’} [-Wformat=]
  677 |       Rprintf("Warning: found an incomplete line where not expected in %s.\nThe CEL file may be truncated. \nSucessfully read to cel intensity %d of %d expected\n", filename, i-1, rows);
      |                                                                                                                                                      ~^                             ~~~~
      |                                                                                                                                                       |                             |
      |                                                                                                                                                       int                           size_t {aka long unsigned int}
      |                                                                                                                                                      %ld
read_abatch.c:689:145: warning: format ‘%d’ expects argument of type ‘int’, but argument 3 has type ‘size_t’ {aka ‘long unsigned int’} [-Wformat=]
  689 |       Rprintf("Warning: found an incomplete line where not expected in %s.\nThe CEL file may be truncated. \nSucessfully read to cel intensity %d of %d expected\n", filename, i-1, rows);
      |                                                                                                                                                ~^                              ~~~
      |                                                                                                                                                 |                               |
      |                                                                                                                                                 int                             size_t {aka long unsigned int}
      |                                                                                                                                                %ld
read_abatch.c:689:151: warning: format ‘%d’ expects argument of type ‘int’, but argument 4 has type ‘size_t’ {aka ‘long unsigned int’} [-Wformat=]
  689 |       Rprintf("Warning: found an incomplete line where not expected in %s.\nThe CEL file may be truncated. \nSucessfully read to cel intensity %d of %d expected\n", filename, i-1, rows);
      |                                                                                                                                                      ~^                             ~~~~
      |                                                                                                                                                       |                             |
      |                                                                                                                                                       int                           size_t {aka long unsigned int}
      |                                                                                                                                                      %ld
read_abatch.c: In function ‘read_cel_file_stddev’:
read_abatch.c:764:178: warning: format ‘%d’ expects argument of type ‘int’, but argument 3 has type ‘size_t’ {aka ‘long unsigned int’} [-Wformat=]
  764 |       Rprintf("Warning: found an empty line where not expected in %s.\n This means that there is a cel intensity missing from the cel file.\n Sucessfully read to cel intensity %d of %d expected\n", filename, i-1, i);
      |                                                                                                                                                                                 ~^                              ~~~
      |                                                                                                                                                                                  |                               |
      |                                                                                                                                                                                  int                             size_t {aka long unsigned int}
      |                                                                                                                                                                                 %ld
read_abatch.c:764:184: warning: format ‘%d’ expects argument of type ‘int’, but argument 4 has type ‘size_t’ {aka ‘long unsigned int’} [-Wformat=]
  764 |       Rprintf("Warning: found an empty line where not expected in %s.\n This means that there is a cel intensity missing from the cel file.\n Sucessfully read to cel intensity %d of %d expected\n", filename, i-1, i);
      |                                                                                                                                                                                       ~^                             ~
      |                                                                                                                                                                                        |                             |
      |                                                                                                                                                                                        int                           size_t {aka long unsigned int}
      |                                                                                                                                                                                       %ld
read_abatch.c:774:145: warning: format ‘%d’ expects argument of type ‘int’, but argument 3 has type ‘size_t’ {aka ‘long unsigned int’} [-Wformat=]
  774 |       Rprintf("Warning: found an incomplete line where not expected in %s.\nThe CEL file may be truncated. \nSucessfully read to cel intensity %d of %d expected\n", filename, i-1, rows);
      |                                                                                                                                                ~^                              ~~~
      |                                                                                                                                                 |                               |
      |                                                                                                                                                 int                             size_t {aka long unsigned int}
      |                                                                                                                                                %ld
read_abatch.c:774:151: warning: format ‘%d’ expects argument of type ‘int’, but argument 4 has type ‘size_t’ {aka ‘long unsigned int’} [-Wformat=]
  774 |       Rprintf("Warning: found an incomplete line where not expected in %s.\nThe CEL file may be truncated. \nSucessfully read to cel intensity %d of %d expected\n", filename, i-1, rows);
      |                                                                                                                                                      ~^                             ~~~~
      |                                                                                                                                                       |                             |
      |                                                                                                                                                       int                           size_t {aka long unsigned int}
      |                                                                                                                                                      %ld
read_abatch.c:785:145: warning: format ‘%d’ expects argument of type ‘int’, but argument 3 has type ‘size_t’ {aka ‘long unsigned int’} [-Wformat=]
  785 |       Rprintf("Warning: found an incomplete line where not expected in %s.\nThe CEL file may be truncated. \nSucessfully read to cel intensity %d of %d expected\n", filename, i-1, rows);
      |                                                                                                                                                ~^                              ~~~
      |                                                                                                                                                 |                               |
      |                                                                                                                                                 int                             size_t {aka long unsigned int}
      |                                                                                                                                                %ld
read_abatch.c:785:151: warning: format ‘%d’ expects argument of type ‘int’, but argument 4 has type ‘size_t’ {aka ‘long unsigned int’} [-Wformat=]
  785 |       Rprintf("Warning: found an incomplete line where not expected in %s.\nThe CEL file may be truncated. \nSucessfully read to cel intensity %d of %d expected\n", filename, i-1, rows);
      |                                                                                                                                                      ~^                             ~~~~
      |                                                                                                                                                       |                             |
      |                                                                                                                                                       int                           size_t {aka long unsigned int}
      |                                                                                                                                                      %ld
read_abatch.c:795:145: warning: format ‘%d’ expects argument of type ‘int’, but argument 3 has type ‘size_t’ {aka ‘long unsigned int’} [-Wformat=]
  795 |       Rprintf("Warning: found an incomplete line where not expected in %s.\nThe CEL file may be truncated. \nSucessfully read to cel intensity %d of %d expected\n", filename, i-1, rows);
      |                                                                                                                                                ~^                              ~~~
      |                                                                                                                                                 |                               |
      |                                                                                                                                                 int                             size_t {aka long unsigned int}
      |                                                                                                                                                %ld
read_abatch.c:795:151: warning: format ‘%d’ expects argument of type ‘int’, but argument 4 has type ‘size_t’ {aka ‘long unsigned int’} [-Wformat=]
  795 |       Rprintf("Warning: found an incomplete line where not expected in %s.\nThe CEL file may be truncated. \nSucessfully read to cel intensity %d of %d expected\n", filename, i-1, rows);
      |                                                                                                                                                      ~^                             ~~~~
      |                                                                                                                                                       |                             |
      |                                                                                                                                                       int                           size_t {aka long unsigned int}
      |                                                                                                                                                      %ld
read_abatch.c:805:145: warning: format ‘%d’ expects argument of type ‘int’, but argument 3 has type ‘size_t’ {aka ‘long unsigned int’} [-Wformat=]
  805 |       Rprintf("Warning: found an incomplete line where not expected in %s.\nThe CEL file may be truncated. \nSucessfully read to cel intensity %d of %d expected\n", filename, i-1, rows);
      |                                                                                                                                                ~^                              ~~~
      |                                                                                                                                                 |                               |
      |                                                                                                                                                 int                             size_t {aka long unsigned int}
      |                                                                                                                                                %ld
read_abatch.c:805:151: warning: format ‘%d’ expects argument of type ‘int’, but argument 4 has type ‘size_t’ {aka ‘long unsigned int’} [-Wformat=]
  805 |       Rprintf("Warning: found an incomplete line where not expected in %s.\nThe CEL file may be truncated. \nSucessfully read to cel intensity %d of %d expected\n", filename, i-1, rows);
      |                                                                                                                                                      ~^                             ~~~~
      |                                                                                                                                                       |                             |
      |                                                                                                                                                       int                           size_t {aka long unsigned int}
      |                                                                                                                                                      %ld
read_abatch.c: In function ‘read_cel_file_npixels’:
read_abatch.c:870:178: warning: format ‘%d’ expects argument of type ‘int’, but argument 3 has type ‘size_t’ {aka ‘long unsigned int’} [-Wformat=]
  870 |       Rprintf("Warning: found an empty line where not expected in %s.\n This means that there is a cel intensity missing from the cel file.\n Sucessfully read to cel intensity %d of %d expected\n", filename, i-1, i);
      |                                                                                                                                                                                 ~^                              ~~~
      |                                                                                                                                                                                  |                               |
      |                                                                                                                                                                                  int                             size_t {aka long unsigned int}
      |                                                                                                                                                                                 %ld
read_abatch.c:870:184: warning: format ‘%d’ expects argument of type ‘int’, but argument 4 has type ‘size_t’ {aka ‘long unsigned int’} [-Wformat=]
  870 |       Rprintf("Warning: found an empty line where not expected in %s.\n This means that there is a cel intensity missing from the cel file.\n Sucessfully read to cel intensity %d of %d expected\n", filename, i-1, i);
      |                                                                                                                                                                                       ~^                             ~
      |                                                                                                                                                                                        |                             |
      |                                                                                                                                                                                        int                           size_t {aka long unsigned int}
      |                                                                                                                                                                                       %ld
read_abatch.c:879:145: warning: format ‘%d’ expects argument of type ‘int’, but argument 3 has type ‘size_t’ {aka ‘long unsigned int’} [-Wformat=]
  879 |       Rprintf("Warning: found an incomplete line where not expected in %s.\nThe CEL file may be truncated. \nSucessfully read to cel intensity %d of %d expected\n", filename, i-1, rows);
      |                                                                                                                                                ~^                              ~~~
      |                                                                                                                                                 |                               |
      |                                                                                                                                                 int                             size_t {aka long unsigned int}
      |                                                                                                                                                %ld
read_abatch.c:879:151: warning: format ‘%d’ expects argument of type ‘int’, but argument 4 has type ‘size_t’ {aka ‘long unsigned int’} [-Wformat=]
  879 |       Rprintf("Warning: found an incomplete line where not expected in %s.\nThe CEL file may be truncated. \nSucessfully read to cel intensity %d of %d expected\n", filename, i-1, rows);
      |                                                                                                                                                      ~^                             ~~~~
      |                                                                                                                                                       |                             |
      |                                                                                                                                                       int                           size_t {aka long unsigned int}
      |                                                                                                                                                      %ld
read_abatch.c:890:145: warning: format ‘%d’ expects argument of type ‘int’, but argument 3 has type ‘size_t’ {aka ‘long unsigned int’} [-Wformat=]
  890 |       Rprintf("Warning: found an incomplete line where not expected in %s.\nThe CEL file may be truncated. \nSucessfully read to cel intensity %d of %d expected\n", filename, i-1, rows);
      |                                                                                                                                                ~^                              ~~~
      |                                                                                                                                                 |                               |
      |                                                                                                                                                 int                             size_t {aka long unsigned int}
      |                                                                                                                                                %ld
read_abatch.c:890:151: warning: format ‘%d’ expects argument of type ‘int’, but argument 4 has type ‘size_t’ {aka ‘long unsigned int’} [-Wformat=]
  890 |       Rprintf("Warning: found an incomplete line where not expected in %s.\nThe CEL file may be truncated. \nSucessfully read to cel intensity %d of %d expected\n", filename, i-1, rows);
      |                                                                                                                                                      ~^                             ~~~~
      |                                                                                                                                                       |                             |
      |                                                                                                                                                       int                           size_t {aka long unsigned int}
      |                                                                                                                                                      %ld
read_abatch.c:901:145: warning: format ‘%d’ expects argument of type ‘int’, but argument 3 has type ‘size_t’ {aka ‘long unsigned int’} [-Wformat=]
  901 |       Rprintf("Warning: found an incomplete line where not expected in %s.\nThe CEL file may be truncated. \nSucessfully read to cel intensity %d of %d expected\n", filename, i-1, rows);
      |                                                                                                                                                ~^                              ~~~
      |                                                                                                                                                 |                               |
      |                                                                                                                                                 int                             size_t {aka long unsigned int}
      |                                                                                                                                                %ld
read_abatch.c:901:151: warning: format ‘%d’ expects argument of type ‘int’, but argument 4 has type ‘size_t’ {aka ‘long unsigned int’} [-Wformat=]
  901 |       Rprintf("Warning: found an incomplete line where not expected in %s.\nThe CEL file may be truncated. \nSucessfully read to cel intensity %d of %d expected\n", filename, i-1, rows);
      |                                                                                                                                                      ~^                             ~~~~
      |                                                                                                                                                       |                             |
      |                                                                                                                                                       int                           size_t {aka long unsigned int}
      |                                                                                                                                                      %ld
read_abatch.c:913:145: warning: format ‘%d’ expects argument of type ‘int’, but argument 3 has type ‘size_t’ {aka ‘long unsigned int’} [-Wformat=]
  913 |       Rprintf("Warning: found an incomplete line where not expected in %s.\nThe CEL file may be truncated. \nSucessfully read to cel intensity %d of %d expected\n", filename, i-1, rows);
      |                                                                                                                                                ~^                              ~~~
      |                                                                                                                                                 |                               |
      |                                                                                                                                                 int                             size_t {aka long unsigned int}
      |                                                                                                                                                %ld
read_abatch.c:913:151: warning: format ‘%d’ expects argument of type ‘int’, but argument 4 has type ‘size_t’ {aka ‘long unsigned int’} [-Wformat=]
  913 |       Rprintf("Warning: found an incomplete line where not expected in %s.\nThe CEL file may be truncated. \nSucessfully read to cel intensity %d of %d expected\n", filename, i-1, rows);
      |                                                                                                                                                      ~^                             ~~~~
      |                                                                                                                                                       |                             |
      |                                                                                                                                                       int                           size_t {aka long unsigned int}
      |                                                                                                                                                      %ld
read_abatch.c:924:145: warning: format ‘%d’ expects argument of type ‘int’, but argument 3 has type ‘size_t’ {aka ‘long unsigned int’} [-Wformat=]
  924 |       Rprintf("Warning: found an incomplete line where not expected in %s.\nThe CEL file may be truncated. \nSucessfully read to cel intensity %d of %d expected\n", filename, i-1, rows);
      |                                                                                                                                                ~^                              ~~~
      |                                                                                                                                                 |                               |
      |                                                                                                                                                 int                             size_t {aka long unsigned int}
      |                                                                                                                                                %ld
read_abatch.c:924:151: warning: format ‘%d’ expects argument of type ‘int’, but argument 4 has type ‘size_t’ {aka ‘long unsigned int’} [-Wformat=]
  924 |       Rprintf("Warning: found an incomplete line where not expected in %s.\nThe CEL file may be truncated. \nSucessfully read to cel intensity %d of %d expected\n", filename, i-1, rows);
      |                                                                                                                                                      ~^                             ~~~~
      |                                                                                                                                                       |                             |
      |                                                                                                                                                       int                           size_t {aka long unsigned int}
      |                                                                                                                                                      %ld
read_abatch.c: In function ‘read_gzcel_file_intensities’:
read_abatch.c:1567:145: warning: format ‘%d’ expects argument of type ‘int’, but argument 3 has type ‘size_t’ {aka ‘long unsigned int’} [-Wformat=]
 1567 |       Rprintf("Warning: found an incomplete line where not expected in %s.\nThe CEL file may be truncated. \nSucessfully read to cel intensity %d of %d expected\n", filename, i-1, rows);
      |                                                                                                                                                ~^                              ~~~
      |                                                                                                                                                 |                               |
      |                                                                                                                                                 int                             size_t {aka long unsigned int}
      |                                                                                                                                                %ld
read_abatch.c:1567:151: warning: format ‘%d’ expects argument of type ‘int’, but argument 4 has type ‘size_t’ {aka ‘long unsigned int’} [-Wformat=]
 1567 |       Rprintf("Warning: found an incomplete line where not expected in %s.\nThe CEL file may be truncated. \nSucessfully read to cel intensity %d of %d expected\n", filename, i-1, rows);
      |                                                                                                                                                      ~^                             ~~~~
      |                                                                                                                                                       |                             |
      |                                                                                                                                                       int                           size_t {aka long unsigned int}
      |                                                                                                                                                      %ld
read_abatch.c:1578:145: warning: format ‘%d’ expects argument of type ‘int’, but argument 3 has type ‘size_t’ {aka ‘long unsigned int’} [-Wformat=]
 1578 |       Rprintf("Warning: found an incomplete line where not expected in %s.\nThe CEL file may be truncated. \nSucessfully read to cel intensity %d of %d expected\n", filename, i-1, rows);
      |                                                                                                                                                ~^                              ~~~
      |                                                                                                                                                 |                               |
      |                                                                                                                                                 int                             size_t {aka long unsigned int}
      |                                                                                                                                                %ld
read_abatch.c:1578:151: warning: format ‘%d’ expects argument of type ‘int’, but argument 4 has type ‘size_t’ {aka ‘long unsigned int’} [-Wformat=]
 1578 |       Rprintf("Warning: found an incomplete line where not expected in %s.\nThe CEL file may be truncated. \nSucessfully read to cel intensity %d of %d expected\n", filename, i-1, rows);
      |                                                                                                                                                      ~^                             ~~~~
      |                                                                                                                                                       |                             |
      |                                                                                                                                                       int                           size_t {aka long unsigned int}
      |                                                                                                                                                      %ld
read_abatch.c:1589:145: warning: format ‘%d’ expects argument of type ‘int’, but argument 3 has type ‘size_t’ {aka ‘long unsigned int’} [-Wformat=]
 1589 |       Rprintf("Warning: found an incomplete line where not expected in %s.\nThe CEL file may be truncated. \nSucessfully read to cel intensity %d of %d expected\n", filename, i-1, rows);
      |                                                                                                                                                ~^                              ~~~
      |                                                                                                                                                 |                               |
      |                                                                                                                                                 int                             size_t {aka long unsigned int}
      |                                                                                                                                                %ld
read_abatch.c:1589:151: warning: format ‘%d’ expects argument of type ‘int’, but argument 4 has type ‘size_t’ {aka ‘long unsigned int’} [-Wformat=]
 1589 |       Rprintf("Warning: found an incomplete line where not expected in %s.\nThe CEL file may be truncated. \nSucessfully read to cel intensity %d of %d expected\n", filename, i-1, rows);
      |                                                                                                                                                      ~^                             ~~~~
      |                                                                                                                                                       |                             |
      |                                                                                                                                                       int                           size_t {aka long unsigned int}
      |                                                                                                                                                      %ld
read_abatch.c: In function ‘read_gzcel_file_stddev’:
read_abatch.c:1665:145: warning: format ‘%d’ expects argument of type ‘int’, but argument 3 has type ‘size_t’ {aka ‘long unsigned int’} [-Wformat=]
 1665 |       Rprintf("Warning: found an incomplete line where not expected in %s.\nThe CEL file may be truncated. \nSucessfully read to cel intensity %d of %d expected\n", filename, i-1, rows);
      |                                                                                                                                                ~^                              ~~~
      |                                                                                                                                                 |                               |
      |                                                                                                                                                 int                             size_t {aka long unsigned int}
      |                                                                                                                                                %ld
read_abatch.c:1665:151: warning: format ‘%d’ expects argument of type ‘int’, but argument 4 has type ‘size_t’ {aka ‘long unsigned int’} [-Wformat=]
 1665 |       Rprintf("Warning: found an incomplete line where not expected in %s.\nThe CEL file may be truncated. \nSucessfully read to cel intensity %d of %d expected\n", filename, i-1, rows);
      |                                                                                                                                                      ~^                             ~~~~
      |                                                                                                                                                       |                             |
      |                                                                                                                                                       int                           size_t {aka long unsigned int}
      |                                                                                                                                                      %ld
read_abatch.c:1677:145: warning: format ‘%d’ expects argument of type ‘int’, but argument 3 has type ‘size_t’ {aka ‘long unsigned int’} [-Wformat=]
 1677 |       Rprintf("Warning: found an incomplete line where not expected in %s.\nThe CEL file may be truncated. \nSucessfully read to cel intensity %d of %d expected\n", filename, i-1, rows);
      |                                                                                                                                                ~^                              ~~~
      |                                                                                                                                                 |                               |
      |                                                                                                                                                 int                             size_t {aka long unsigned int}
      |                                                                                                                                                %ld
read_abatch.c:1677:151: warning: format ‘%d’ expects argument of type ‘int’, but argument 4 has type ‘size_t’ {aka ‘long unsigned int’} [-Wformat=]
 1677 |       Rprintf("Warning: found an incomplete line where not expected in %s.\nThe CEL file may be truncated. \nSucessfully read to cel intensity %d of %d expected\n", filename, i-1, rows);
      |                                                                                                                                                      ~^                             ~~~~
      |                                                                                                                                                       |                             |
      |                                                                                                                                                       int                           size_t {aka long unsigned int}
      |                                                                                                                                                      %ld
read_abatch.c:1689:145: warning: format ‘%d’ expects argument of type ‘int’, but argument 3 has type ‘size_t’ {aka ‘long unsigned int’} [-Wformat=]
 1689 |       Rprintf("Warning: found an incomplete line where not expected in %s.\nThe CEL file may be truncated. \nSucessfully read to cel intensity %d of %d expected\n", filename, i-1, rows);
      |                                                                                                                                                ~^                              ~~~
      |                                                                                                                                                 |                               |
      |                                                                                                                                                 int                             size_t {aka long unsigned int}
      |                                                                                                                                                %ld
read_abatch.c:1689:151: warning: format ‘%d’ expects argument of type ‘int’, but argument 4 has type ‘size_t’ {aka ‘long unsigned int’} [-Wformat=]
 1689 |       Rprintf("Warning: found an incomplete line where not expected in %s.\nThe CEL file may be truncated. \nSucessfully read to cel intensity %d of %d expected\n", filename, i-1, rows);
      |                                                                                                                                                      ~^                             ~~~~
      |                                                                                                                                                       |                             |
      |                                                                                                                                                       int                           size_t {aka long unsigned int}
      |                                                                                                                                                      %ld
read_abatch.c:1701:145: warning: format ‘%d’ expects argument of type ‘int’, but argument 3 has type ‘size_t’ {aka ‘long unsigned int’} [-Wformat=]
 1701 |       Rprintf("Warning: found an incomplete line where not expected in %s.\nThe CEL file may be truncated. \nSucessfully read to cel intensity %d of %d expected\n", filename, i-1, rows);
      |                                                                                                                                                ~^                              ~~~
      |                                                                                                                                                 |                               |
      |                                                                                                                                                 int                             size_t {aka long unsigned int}
      |                                                                                                                                                %ld
read_abatch.c:1701:151: warning: format ‘%d’ expects argument of type ‘int’, but argument 4 has type ‘size_t’ {aka ‘long unsigned int’} [-Wformat=]
 1701 |       Rprintf("Warning: found an incomplete line where not expected in %s.\nThe CEL file may be truncated. \nSucessfully read to cel intensity %d of %d expected\n", filename, i-1, rows);
      |                                                                                                                                                      ~^                             ~~~~
      |                                                                                                                                                       |                             |
      |                                                                                                                                                       int                           size_t {aka long unsigned int}
      |                                                                                                                                                      %ld
read_abatch.c: In function ‘read_gzcel_file_npixels’:
read_abatch.c:1769:145: warning: format ‘%d’ expects argument of type ‘int’, but argument 3 has type ‘size_t’ {aka ‘long unsigned int’} [-Wformat=]
 1769 |       Rprintf("Warning: found an incomplete line where not expected in %s.\nThe CEL file may be truncated. \nSucessfully read to cel intensity %d of %d expected\n", filename, i-1, rows);
      |                                                                                                                                                ~^                              ~~~
      |                                                                                                                                                 |                               |
      |                                                                                                                                                 int                             size_t {aka long unsigned int}
      |                                                                                                                                                %ld
read_abatch.c:1769:151: warning: format ‘%d’ expects argument of type ‘int’, but argument 4 has type ‘size_t’ {aka ‘long unsigned int’} [-Wformat=]
 1769 |       Rprintf("Warning: found an incomplete line where not expected in %s.\nThe CEL file may be truncated. \nSucessfully read to cel intensity %d of %d expected\n", filename, i-1, rows);
      |                                                                                                                                                      ~^                             ~~~~
      |                                                                                                                                                       |                             |
      |                                                                                                                                                       int                           size_t {aka long unsigned int}
      |                                                                                                                                                      %ld
read_abatch.c:1780:145: warning: format ‘%d’ expects argument of type ‘int’, but argument 3 has type ‘size_t’ {aka ‘long unsigned int’} [-Wformat=]
 1780 |       Rprintf("Warning: found an incomplete line where not expected in %s.\nThe CEL file may be truncated. \nSucessfully read to cel intensity %d of %d expected\n", filename, i-1, rows);
      |                                                                                                                                                ~^                              ~~~
      |                                                                                                                                                 |                               |
      |                                                                                                                                                 int                             size_t {aka long unsigned int}
      |                                                                                                                                                %ld
read_abatch.c:1780:151: warning: format ‘%d’ expects argument of type ‘int’, but argument 4 has type ‘size_t’ {aka ‘long unsigned int’} [-Wformat=]
 1780 |       Rprintf("Warning: found an incomplete line where not expected in %s.\nThe CEL file may be truncated. \nSucessfully read to cel intensity %d of %d expected\n", filename, i-1, rows);
      |                                                                                                                                                      ~^                             ~~~~
      |                                                                                                                                                       |                             |
      |                                                                                                                                                       int                           size_t {aka long unsigned int}
      |                                                                                                                                                      %ld
read_abatch.c:1791:145: warning: format ‘%d’ expects argument of type ‘int’, but argument 3 has type ‘size_t’ {aka ‘long unsigned int’} [-Wformat=]
 1791 |       Rprintf("Warning: found an incomplete line where not expected in %s.\nThe CEL file may be truncated. \nSucessfully read to cel intensity %d of %d expected\n", filename, i-1, rows);
      |                                                                                                                                                ~^                              ~~~
      |                                                                                                                                                 |                               |
      |                                                                                                                                                 int                             size_t {aka long unsigned int}
      |                                                                                                                                                %ld
read_abatch.c:1791:151: warning: format ‘%d’ expects argument of type ‘int’, but argument 4 has type ‘size_t’ {aka ‘long unsigned int’} [-Wformat=]
 1791 |       Rprintf("Warning: found an incomplete line where not expected in %s.\nThe CEL file may be truncated. \nSucessfully read to cel intensity %d of %d expected\n", filename, i-1, rows);
      |                                                                                                                                                      ~^                             ~~~~
      |                                                                                                                                                       |                             |
      |                                                                                                                                                       int                           size_t {aka long unsigned int}
      |                                                                                                                                                      %ld
read_abatch.c:1801:145: warning: format ‘%d’ expects argument of type ‘int’, but argument 3 has type ‘size_t’ {aka ‘long unsigned int’} [-Wformat=]
 1801 |       Rprintf("Warning: found an incomplete line where not expected in %s.\nThe CEL file may be truncated. \nSucessfully read to cel intensity %d of %d expected\n", filename, i-1, rows);
      |                                                                                                                                                ~^                              ~~~
      |                                                                                                                                                 |                               |
      |                                                                                                                                                 int                             size_t {aka long unsigned int}
      |                                                                                                                                                %ld
read_abatch.c:1801:151: warning: format ‘%d’ expects argument of type ‘int’, but argument 4 has type ‘size_t’ {aka ‘long unsigned int’} [-Wformat=]
 1801 |       Rprintf("Warning: found an incomplete line where not expected in %s.\nThe CEL file may be truncated. \nSucessfully read to cel intensity %d of %d expected\n", filename, i-1, rows);
      |                                                                                                                                                      ~^                             ~~~~
      |                                                                                                                                                       |                             |
      |                                                                                                                                                       int                           size_t {aka long unsigned int}
      |                                                                                                                                                      %ld
read_abatch.c:1811:145: warning: format ‘%d’ expects argument of type ‘int’, but argument 3 has type ‘size_t’ {aka ‘long unsigned int’} [-Wformat=]
 1811 |       Rprintf("Warning: found an incomplete line where not expected in %s.\nThe CEL file may be truncated. \nSucessfully read to cel intensity %d of %d expected\n", filename, i-1, rows);
      |                                                                                                                                                ~^                              ~~~
      |                                                                                                                                                 |                               |
      |                                                                                                                                                 int                             size_t {aka long unsigned int}
      |                                                                                                                                                %ld
read_abatch.c:1811:151: warning: format ‘%d’ expects argument of type ‘int’, but argument 4 has type ‘size_t’ {aka ‘long unsigned int’} [-Wformat=]
 1811 |       Rprintf("Warning: found an incomplete line where not expected in %s.\nThe CEL file may be truncated. \nSucessfully read to cel intensity %d of %d expected\n", filename, i-1, rows);
      |                                                                                                                                                      ~^                             ~~~~
      |                                                                                                                                                       |                             |
      |                                                                                                                                                       int                           size_t {aka long unsigned int}
      |                                                                                                                                                      %ld
gcc -I"/home/biocbuild/bbs-3.21-bioc/R/include" -DNDEBUG -DPACKAGE_NAME=\"\" -DPACKAGE_TARNAME=\"\" -DPACKAGE_VERSION=\"\" -DPACKAGE_STRING=\"\" -DPACKAGE_BUGREPORT=\"\" -DPACKAGE_URL=\"\" -DSTDC_HEADERS=1 -DHAVE_SYS_TYPES_H=1 -DHAVE_SYS_STAT_H=1 -DHAVE_STDLIB_H=1 -DHAVE_STRING_H=1 -DHAVE_MEMORY_H=1 -DHAVE_STRINGS_H=1 -DHAVE_INTTYPES_H=1 -DHAVE_STDINT_H=1 -DHAVE_UNISTD_H=1 -DHAVE_ZLIB=1 -DHAVE_LIBPTHREAD=1 -DUSE_PTHREADS=1  -I/usr/local/include   -g -O2   -fpic  -g -O2  -c read_bpmap.c -o read_bpmap.o
read_bpmap.c: In function ‘ReadBPMAPFileIntoRList’:
read_bpmap.c:849:39: warning: format ‘%s’ expects argument of type ‘char *’, but argument 2 has type ‘SEXP’ {aka ‘struct SEXPREC *’} [-Wformat=]
  849 |       error("Unable to open the file %s",filename);
      |                                      ~^  ~~~~~~~~
      |                                       |  |
      |                                       |  SEXP {aka struct SEXPREC *}
      |                                       char *
read_bpmap.c:698:27: warning: ‘__builtin___sprintf_chk’ may write a terminating nul past the end of the destination [-Wformat-overflow=]
  698 |           sprintf(buf, "%d", j+1);
      |                           ^
In file included from /usr/include/stdio.h:980,
                 from /home/biocbuild/bbs-3.21-bioc/R/include/R.h:44,
                 from read_bpmap.c:23:
In function ‘sprintf’,
    inlined from ‘readBPMAPSeqIdPositionInfo’ at read_bpmap.c:698:4,
    inlined from ‘ReadBPMAPFileIntoRList’ at read_bpmap.c:873:3:
/usr/include/x86_64-linux-gnu/bits/stdio2.h:30:10: note: ‘__builtin___sprintf_chk’ output between 2 and 11 bytes into a destination of size 10
   30 |   return __builtin___sprintf_chk (__s, __USE_FORTIFY_LEVEL - 1,
      |          ^~~~~~~~~~~~~~~~~~~~~~~~~~~~~~~~~~~~~~~~~~~~~~~~~~~~~~
   31 |                                   __glibc_objsize (__s), __fmt,
      |                                   ~~~~~~~~~~~~~~~~~~~~~~~~~~~~~
   32 |                                   __va_arg_pack ());
      |                                   ~~~~~~~~~~~~~~~~~
read_bpmap.c: In function ‘ReadBPMAPFileIntoRList’:
read_bpmap.c:655:27: warning: ‘__builtin___sprintf_chk’ may write a terminating nul past the end of the destination [-Wformat-overflow=]
  655 |           sprintf(buf, "%d", j+1);
      |                           ^
In function ‘sprintf’,
    inlined from ‘readBPMAPSeqIdPositionInfo’ at read_bpmap.c:655:4,
    inlined from ‘ReadBPMAPFileIntoRList’ at read_bpmap.c:873:3:
/usr/include/x86_64-linux-gnu/bits/stdio2.h:30:10: note: ‘__builtin___sprintf_chk’ output between 2 and 11 bytes into a destination of size 10
   30 |   return __builtin___sprintf_chk (__s, __USE_FORTIFY_LEVEL - 1,
      |          ^~~~~~~~~~~~~~~~~~~~~~~~~~~~~~~~~~~~~~~~~~~~~~~~~~~~~~
   31 |                                   __glibc_objsize (__s), __fmt,
      |                                   ~~~~~~~~~~~~~~~~~~~~~~~~~~~~~
   32 |                                   __va_arg_pack ());
      |                                   ~~~~~~~~~~~~~~~~~
read_bpmap.c: In function ‘ReadBPMAPFileIntoRList’:
read_bpmap.c:603:25: warning: ‘__builtin___sprintf_chk’ may write a terminating nul past the end of the destination [-Wformat-overflow=]
  603 |         sprintf(buf, "%d", j+1);
      |                         ^
In function ‘sprintf’,
    inlined from ‘readBPMAPSeqIdPositionInfo’ at read_bpmap.c:603:2,
    inlined from ‘ReadBPMAPFileIntoRList’ at read_bpmap.c:873:3:
/usr/include/x86_64-linux-gnu/bits/stdio2.h:30:10: note: ‘__builtin___sprintf_chk’ output between 2 and 11 bytes into a destination of size 10
   30 |   return __builtin___sprintf_chk (__s, __USE_FORTIFY_LEVEL - 1,
      |          ^~~~~~~~~~~~~~~~~~~~~~~~~~~~~~~~~~~~~~~~~~~~~~~~~~~~~~
   31 |                                   __glibc_objsize (__s), __fmt,
      |                                   ~~~~~~~~~~~~~~~~~~~~~~~~~~~~~
   32 |                                   __va_arg_pack ());
      |                                   ~~~~~~~~~~~~~~~~~
gcc -I"/home/biocbuild/bbs-3.21-bioc/R/include" -DNDEBUG -DPACKAGE_NAME=\"\" -DPACKAGE_TARNAME=\"\" -DPACKAGE_VERSION=\"\" -DPACKAGE_STRING=\"\" -DPACKAGE_BUGREPORT=\"\" -DPACKAGE_URL=\"\" -DSTDC_HEADERS=1 -DHAVE_SYS_TYPES_H=1 -DHAVE_SYS_STAT_H=1 -DHAVE_STDLIB_H=1 -DHAVE_STRING_H=1 -DHAVE_MEMORY_H=1 -DHAVE_STRINGS_H=1 -DHAVE_INTTYPES_H=1 -DHAVE_STDINT_H=1 -DHAVE_UNISTD_H=1 -DHAVE_ZLIB=1 -DHAVE_LIBPTHREAD=1 -DUSE_PTHREADS=1  -I/usr/local/include   -g -O2   -fpic  -g -O2  -c read_cdf_xda.c -o read_cdf_xda.o
gcc -I"/home/biocbuild/bbs-3.21-bioc/R/include" -DNDEBUG -DPACKAGE_NAME=\"\" -DPACKAGE_TARNAME=\"\" -DPACKAGE_VERSION=\"\" -DPACKAGE_STRING=\"\" -DPACKAGE_BUGREPORT=\"\" -DPACKAGE_URL=\"\" -DSTDC_HEADERS=1 -DHAVE_SYS_TYPES_H=1 -DHAVE_SYS_STAT_H=1 -DHAVE_STDLIB_H=1 -DHAVE_STRING_H=1 -DHAVE_MEMORY_H=1 -DHAVE_STRINGS_H=1 -DHAVE_INTTYPES_H=1 -DHAVE_STDINT_H=1 -DHAVE_UNISTD_H=1 -DHAVE_ZLIB=1 -DHAVE_LIBPTHREAD=1 -DUSE_PTHREADS=1  -I/usr/local/include   -g -O2   -fpic  -g -O2  -c read_cdffile2.c -o read_cdffile2.o
gcc -I"/home/biocbuild/bbs-3.21-bioc/R/include" -DNDEBUG -DPACKAGE_NAME=\"\" -DPACKAGE_TARNAME=\"\" -DPACKAGE_VERSION=\"\" -DPACKAGE_STRING=\"\" -DPACKAGE_BUGREPORT=\"\" -DPACKAGE_URL=\"\" -DSTDC_HEADERS=1 -DHAVE_SYS_TYPES_H=1 -DHAVE_SYS_STAT_H=1 -DHAVE_STDLIB_H=1 -DHAVE_STRING_H=1 -DHAVE_MEMORY_H=1 -DHAVE_STRINGS_H=1 -DHAVE_INTTYPES_H=1 -DHAVE_STDINT_H=1 -DHAVE_UNISTD_H=1 -DHAVE_ZLIB=1 -DHAVE_LIBPTHREAD=1 -DUSE_PTHREADS=1  -I/usr/local/include   -g -O2   -fpic  -g -O2  -c read_celfile_generic.c -o read_celfile_generic.o
gcc -I"/home/biocbuild/bbs-3.21-bioc/R/include" -DNDEBUG -DPACKAGE_NAME=\"\" -DPACKAGE_TARNAME=\"\" -DPACKAGE_VERSION=\"\" -DPACKAGE_STRING=\"\" -DPACKAGE_BUGREPORT=\"\" -DPACKAGE_URL=\"\" -DSTDC_HEADERS=1 -DHAVE_SYS_TYPES_H=1 -DHAVE_SYS_STAT_H=1 -DHAVE_STDLIB_H=1 -DHAVE_STRING_H=1 -DHAVE_MEMORY_H=1 -DHAVE_STRINGS_H=1 -DHAVE_INTTYPES_H=1 -DHAVE_STDINT_H=1 -DHAVE_UNISTD_H=1 -DHAVE_ZLIB=1 -DHAVE_LIBPTHREAD=1 -DUSE_PTHREADS=1  -I/usr/local/include   -g -O2   -fpic  -g -O2  -c read_clf.c -o read_clf.o
gcc -I"/home/biocbuild/bbs-3.21-bioc/R/include" -DNDEBUG -DPACKAGE_NAME=\"\" -DPACKAGE_TARNAME=\"\" -DPACKAGE_VERSION=\"\" -DPACKAGE_STRING=\"\" -DPACKAGE_BUGREPORT=\"\" -DPACKAGE_URL=\"\" -DSTDC_HEADERS=1 -DHAVE_SYS_TYPES_H=1 -DHAVE_SYS_STAT_H=1 -DHAVE_STDLIB_H=1 -DHAVE_STRING_H=1 -DHAVE_MEMORY_H=1 -DHAVE_STRINGS_H=1 -DHAVE_INTTYPES_H=1 -DHAVE_STDINT_H=1 -DHAVE_UNISTD_H=1 -DHAVE_ZLIB=1 -DHAVE_LIBPTHREAD=1 -DUSE_PTHREADS=1  -I/usr/local/include   -g -O2   -fpic  -g -O2  -c read_generic.c -o read_generic.o
read_generic.c: In function ‘print_decode_nvt_triplet’:
read_generic.c:1293:37: warning: format ‘%f’ expects argument of type ‘double’, but argument 2 has type ‘int’ [-Wformat=]
 1293 |     Rprintf("Its a float  value is %f\n",temp32);
      |                                    ~^    ~~~~~~
      |                                     |    |
      |                                     |    int
      |                                     double
      |                                    %d
gcc -I"/home/biocbuild/bbs-3.21-bioc/R/include" -DNDEBUG -DPACKAGE_NAME=\"\" -DPACKAGE_TARNAME=\"\" -DPACKAGE_VERSION=\"\" -DPACKAGE_STRING=\"\" -DPACKAGE_BUGREPORT=\"\" -DPACKAGE_URL=\"\" -DSTDC_HEADERS=1 -DHAVE_SYS_TYPES_H=1 -DHAVE_SYS_STAT_H=1 -DHAVE_STDLIB_H=1 -DHAVE_STRING_H=1 -DHAVE_MEMORY_H=1 -DHAVE_STRINGS_H=1 -DHAVE_INTTYPES_H=1 -DHAVE_STDINT_H=1 -DHAVE_UNISTD_H=1 -DHAVE_ZLIB=1 -DHAVE_LIBPTHREAD=1 -DUSE_PTHREADS=1  -I/usr/local/include   -g -O2   -fpic  -g -O2  -c read_multichannel_celfile_generic.c -o read_multichannel_celfile_generic.o
gcc -I"/home/biocbuild/bbs-3.21-bioc/R/include" -DNDEBUG -DPACKAGE_NAME=\"\" -DPACKAGE_TARNAME=\"\" -DPACKAGE_VERSION=\"\" -DPACKAGE_STRING=\"\" -DPACKAGE_BUGREPORT=\"\" -DPACKAGE_URL=\"\" -DSTDC_HEADERS=1 -DHAVE_SYS_TYPES_H=1 -DHAVE_SYS_STAT_H=1 -DHAVE_STDLIB_H=1 -DHAVE_STRING_H=1 -DHAVE_MEMORY_H=1 -DHAVE_STRINGS_H=1 -DHAVE_INTTYPES_H=1 -DHAVE_STDINT_H=1 -DHAVE_UNISTD_H=1 -DHAVE_ZLIB=1 -DHAVE_LIBPTHREAD=1 -DUSE_PTHREADS=1  -I/usr/local/include   -g -O2   -fpic  -g -O2  -c read_pgf.c -o read_pgf.o
gcc -shared -L/home/biocbuild/bbs-3.21-bioc/R/lib -L/usr/local/lib -o affyio.so fread_functions.o init_package.o read_abatch.o read_bpmap.o read_cdf_xda.o read_cdffile2.o read_celfile_generic.o read_clf.o read_generic.o read_multichannel_celfile_generic.o read_pgf.o -lpthread -lz -L/home/biocbuild/bbs-3.21-bioc/R/lib -lR
installing to /home/biocbuild/bbs-3.21-bioc/R/site-library/00LOCK-affyio/00new/affyio/libs
** R
** byte-compile and prepare package for lazy loading
** help
*** installing help indices
** building package indices
** testing if installed package can be loaded from temporary location
** checking absolute paths in shared objects and dynamic libraries
** testing if installed package can be loaded from final location
** testing if installed package keeps a record of temporary installation path
* DONE (affyio)