| Back to Multiple platform build/check report for BioC 3.22: simplified long |
|
This page was generated on 2025-10-21 12:08 -0400 (Tue, 21 Oct 2025).
| Hostname | OS | Arch (*) | R version | Installed pkgs |
|---|---|---|---|---|
| nebbiolo2 | Linux (Ubuntu 24.04.3 LTS) | x86_64 | 4.5.1 Patched (2025-08-23 r88802) -- "Great Square Root" | 4887 |
| lconway | macOS 12.7.6 Monterey | x86_64 | 4.5.1 Patched (2025-09-10 r88807) -- "Great Square Root" | 4677 |
| kjohnson3 | macOS 13.7.7 Ventura | arm64 | 4.5.1 Patched (2025-09-10 r88807) -- "Great Square Root" | 4622 |
| taishan | Linux (openEuler 24.03 LTS) | aarch64 | 4.5.0 (2025-04-11) -- "How About a Twenty-Six" | 4642 |
| Click on any hostname to see more info about the system (e.g. compilers) (*) as reported by 'uname -p', except on Windows and Mac OS X | ||||
| Package 2340/2353 | Hostname | OS / Arch | INSTALL | BUILD | CHECK | BUILD BIN | ||||||||
| Xeva 1.25.0 (landing page) Benjamin Haibe-Kains
| nebbiolo2 | Linux (Ubuntu 24.04.3 LTS) / x86_64 | OK | OK | OK | |||||||||
| lconway | macOS 12.7.6 Monterey / x86_64 | OK | OK | OK | OK | |||||||||
| kjohnson3 | macOS 13.7.7 Ventura / arm64 | OK | OK | OK | OK | |||||||||
| taishan | Linux (openEuler 24.03 LTS) / aarch64 | OK | OK | OK | ||||||||||
|
To the developers/maintainers of the Xeva package: - Allow up to 24 hours (and sometimes 48 hours) for your latest push to git@git.bioconductor.org:packages/Xeva.git to reflect on this report. See Troubleshooting Build Report for more information. - Use the following Renviron settings to reproduce errors and warnings. - If 'R CMD check' started to fail recently on the Linux builder(s) over a missing dependency, add the missing dependency to 'Suggests:' in your DESCRIPTION file. See Renviron.bioc for more information. - See Martin Grigorov's blog post for how to debug Linux ARM64 related issues on a x86_64 host. |
| Package: Xeva |
| Version: 1.25.0 |
| Command: /home/biocbuild/R/R/bin/R CMD check --install=check:Xeva.install-out.txt --library=/home/biocbuild/R/R/site-library --no-vignettes --timings Xeva_1.25.0.tar.gz |
| StartedAt: 2025-10-17 14:58:27 -0000 (Fri, 17 Oct 2025) |
| EndedAt: 2025-10-17 15:03:56 -0000 (Fri, 17 Oct 2025) |
| EllapsedTime: 329.3 seconds |
| RetCode: 0 |
| Status: OK |
| CheckDir: Xeva.Rcheck |
| Warnings: 0 |
##############################################################################
##############################################################################
###
### Running command:
###
### /home/biocbuild/R/R/bin/R CMD check --install=check:Xeva.install-out.txt --library=/home/biocbuild/R/R/site-library --no-vignettes --timings Xeva_1.25.0.tar.gz
###
##############################################################################
##############################################################################
* using log directory ‘/home/biocbuild/bbs-3.22-bioc/meat/Xeva.Rcheck’
* using R version 4.5.0 (2025-04-11)
* using platform: aarch64-unknown-linux-gnu
* R was compiled by
aarch64-unknown-linux-gnu-gcc (GCC) 14.2.0
GNU Fortran (GCC) 14.2.0
* running under: openEuler 24.03 (LTS)
* using session charset: UTF-8
* using option ‘--no-vignettes’
* checking for file ‘Xeva/DESCRIPTION’ ... OK
* checking extension type ... Package
* this is package ‘Xeva’ version ‘1.25.0’
* package encoding: UTF-8
* checking package namespace information ... OK
* checking package dependencies ... OK
* checking if this is a source package ... OK
* checking if there is a namespace ... OK
* checking for hidden files and directories ... OK
* checking for portable file names ... OK
* checking for sufficient/correct file permissions ... OK
* checking whether package ‘Xeva’ can be installed ... OK
* checking installed package size ... OK
* checking package directory ... OK
* checking ‘build’ directory ... OK
* checking DESCRIPTION meta-information ... OK
* checking top-level files ... OK
* checking for left-over files ... OK
* checking index information ... OK
* checking package subdirectories ... OK
* checking code files for non-ASCII characters ... OK
* checking R files for syntax errors ... OK
* checking whether the package can be loaded ... OK
* checking whether the package can be loaded with stated dependencies ... OK
* checking whether the package can be unloaded cleanly ... OK
* checking whether the namespace can be loaded with stated dependencies ... OK
* checking whether the namespace can be unloaded cleanly ... OK
* checking loading without being on the library search path ... OK
* checking dependencies in R code ... NOTE
Namespace in Imports field not imported from: ‘downloader’
All declared Imports should be used.
* checking S3 generic/method consistency ... OK
* checking replacement functions ... OK
* checking foreign function calls ... OK
* checking R code for possible problems ... OK
* checking Rd files ... NOTE
checkRd: (-1) drugInform.Rd:7: Lost braces; missing escapes or markup?
7 | Get the drug information slot from a {XevaSet} object.}
| ^
checkRd: (-1) drugInform.Rd:21: Lost braces; missing escapes or markup?
21 | Get the drug information slot from a {XevaSet} object.
| ^
* checking Rd metadata ... OK
* checking Rd cross-references ... OK
* checking for missing documentation entries ... OK
* checking for code/documentation mismatches ... OK
* checking Rd \usage sections ... OK
* checking Rd contents ... OK
* checking for unstated dependencies in examples ... OK
* checking contents of ‘data’ directory ... OK
* checking data for non-ASCII characters ... OK
* checking data for ASCII and uncompressed saves ... OK
* checking files in ‘vignettes’ ... OK
* checking examples ... OK
* checking for unstated dependencies in vignettes ... OK
* checking package vignettes ... OK
* checking running R code from vignettes ... SKIPPED
* checking re-building of vignette outputs ... SKIPPED
* checking PDF version of manual ... OK
* DONE
Status: 2 NOTEs
See
‘/home/biocbuild/bbs-3.22-bioc/meat/Xeva.Rcheck/00check.log’
for details.
Xeva.Rcheck/00install.out
############################################################################## ############################################################################## ### ### Running command: ### ### /home/biocbuild/R/R/bin/R CMD INSTALL Xeva ### ############################################################################## ############################################################################## * installing to library ‘/home/biocbuild/R/R-4.5.0/site-library’ * installing *source* package ‘Xeva’ ... ** this is package ‘Xeva’ version ‘1.25.0’ ** using staged installation ** R ** data ** inst ** byte-compile and prepare package for lazy loading ** help *** installing help indices ** building package indices ** installing vignettes ** testing if installed package can be loaded from temporary location ** testing if installed package can be loaded from final location ** testing if installed package keeps a record of temporary installation path * DONE (Xeva)
Xeva.Rcheck/Xeva-Ex.timings
| name | user | system | elapsed | |
| ABC | 0.005 | 0.000 | 0.004 | |
| AUC | 0.025 | 0.000 | 0.025 | |
| TGI | 0.001 | 0.000 | 0.001 | |
| addExperimentalDesign | 0.106 | 0.008 | 0.114 | |
| angle | 0.011 | 0.000 | 0.010 | |
| batchInfo | 0.917 | 0.028 | 0.947 | |
| createXevaSet | 0.099 | 0.044 | 0.303 | |
| dosePlot | 0.830 | 0.080 | 0.912 | |
| drugInform | 0.104 | 0.003 | 0.108 | |
| drugSensitivitySig | 0.454 | 0.039 | 0.494 | |
| getExperiment | 0.170 | 0.008 | 0.182 | |
| getMolecularProfiles | 0.109 | 0.000 | 0.109 | |
| lmm | 0.120 | 0.004 | 0.125 | |
| mRECIST | 0.003 | 0.000 | 0.003 | |
| modelInfo | 0.114 | 0.000 | 0.114 | |
| plotPDX | 2.813 | 0.211 | 3.033 | |
| plotmRECIST | 2.760 | 0.136 | 2.905 | |
| response | 0.172 | 0.000 | 0.172 | |
| selectModelIds | 0.207 | 0.003 | 0.211 | |
| sensitivity | 0.117 | 0.001 | 0.117 | |
| setResponse | 4.076 | 0.187 | 4.277 | |
| slope | 0.012 | 0.000 | 0.013 | |
| subsetXeva | 0.199 | 0.004 | 0.204 | |
| summarizeMolecularProfiles | 0.143 | 0.008 | 0.152 | |
| summarizeResponse | 0.234 | 0.004 | 0.238 | |
| waterfall | 1.208 | 0.028 | 1.240 | |