| Back to Build/check report for BioC 3.22: simplified long |
|
This page was generated on 2025-10-27 12:45 -0400 (Mon, 27 Oct 2025).
| Hostname | OS | Arch (*) | R version | Installed pkgs |
|---|---|---|---|---|
| kjohnson3 | macOS 13.7.7 Ventura | arm64 | 4.5.1 Patched (2025-09-10 r88807) -- "Great Square Root" | 4637 |
| Click on any hostname to see more info about the system (e.g. compilers) (*) as reported by 'uname -p', except on Windows and Mac OS X | ||||
| Package 2348/2361 | Hostname | OS / Arch | INSTALL | BUILD | CHECK | BUILD BIN | ||||||||
| Xeva 1.25.0 (landing page) Benjamin Haibe-Kains
| kjohnson3 | macOS 13.7.7 Ventura / arm64 | OK | OK | OK | OK | ||||||||
|
To the developers/maintainers of the Xeva package: - Allow up to 24 hours (and sometimes 48 hours) for your latest push to git@git.bioconductor.org:packages/Xeva.git to reflect on this report. See Troubleshooting Build Report for more information. - Use the following Renviron settings to reproduce errors and warnings. - If 'R CMD check' started to fail recently on the Linux builder(s) over a missing dependency, add the missing dependency to 'Suggests:' in your DESCRIPTION file. See Renviron.bioc for more information. |
| Package: Xeva |
| Version: 1.25.0 |
| Command: /Library/Frameworks/R.framework/Resources/bin/R CMD check --install=check:Xeva.install-out.txt --library=/Library/Frameworks/R.framework/Resources/library --no-vignettes --timings Xeva_1.25.0.tar.gz |
| StartedAt: 2025-10-26 22:20:36 -0400 (Sun, 26 Oct 2025) |
| EndedAt: 2025-10-26 22:22:12 -0400 (Sun, 26 Oct 2025) |
| EllapsedTime: 96.1 seconds |
| RetCode: 0 |
| Status: OK |
| CheckDir: Xeva.Rcheck |
| Warnings: 0 |
##############################################################################
##############################################################################
###
### Running command:
###
### /Library/Frameworks/R.framework/Resources/bin/R CMD check --install=check:Xeva.install-out.txt --library=/Library/Frameworks/R.framework/Resources/library --no-vignettes --timings Xeva_1.25.0.tar.gz
###
##############################################################################
##############################################################################
* using log directory ‘/Users/biocbuild/bbs-3.22-bioc/meat/Xeva.Rcheck’
* using R version 4.5.1 Patched (2025-09-10 r88807)
* using platform: aarch64-apple-darwin20
* R was compiled by
Apple clang version 16.0.0 (clang-1600.0.26.6)
GNU Fortran (GCC) 14.2.0
* running under: macOS Ventura 13.7.7
* using session charset: UTF-8
* using option ‘--no-vignettes’
* checking for file ‘Xeva/DESCRIPTION’ ... OK
* checking extension type ... Package
* this is package ‘Xeva’ version ‘1.25.0’
* package encoding: UTF-8
* checking package namespace information ... OK
* checking package dependencies ... OK
* checking if this is a source package ... OK
* checking if there is a namespace ... OK
* checking for hidden files and directories ... OK
* checking for portable file names ... OK
* checking for sufficient/correct file permissions ... OK
* checking whether package ‘Xeva’ can be installed ... OK
* checking installed package size ... OK
* checking package directory ... OK
* checking ‘build’ directory ... OK
* checking DESCRIPTION meta-information ... OK
* checking top-level files ... OK
* checking for left-over files ... OK
* checking index information ... OK
* checking package subdirectories ... OK
* checking code files for non-ASCII characters ... OK
* checking R files for syntax errors ... OK
* checking whether the package can be loaded ... OK
* checking whether the package can be loaded with stated dependencies ... OK
* checking whether the package can be unloaded cleanly ... OK
* checking whether the namespace can be loaded with stated dependencies ... OK
* checking whether the namespace can be unloaded cleanly ... OK
* checking dependencies in R code ... NOTE
Namespace in Imports field not imported from: ‘downloader’
All declared Imports should be used.
* checking S3 generic/method consistency ... OK
* checking replacement functions ... OK
* checking foreign function calls ... OK
* checking R code for possible problems ... OK
* checking Rd files ... NOTE
checkRd: (-1) drugInform.Rd:7: Lost braces; missing escapes or markup?
7 | Get the drug information slot from a {XevaSet} object.}
| ^
checkRd: (-1) drugInform.Rd:21: Lost braces; missing escapes or markup?
21 | Get the drug information slot from a {XevaSet} object.
| ^
* checking Rd metadata ... OK
* checking Rd cross-references ... OK
* checking for missing documentation entries ... OK
* checking for code/documentation mismatches ... OK
* checking Rd \usage sections ... OK
* checking Rd contents ... OK
* checking for unstated dependencies in examples ... OK
* checking contents of ‘data’ directory ... OK
* checking data for non-ASCII characters ... OK
* checking data for ASCII and uncompressed saves ... OK
* checking sizes of PDF files under ‘inst/doc’ ... OK
* checking files in ‘vignettes’ ... OK
* checking examples ... OK
* checking for unstated dependencies in vignettes ... OK
* checking package vignettes ... OK
* checking running R code from vignettes ... SKIPPED
* checking re-building of vignette outputs ... SKIPPED
* checking PDF version of manual ... OK
* DONE
Status: 2 NOTEs
See
‘/Users/biocbuild/bbs-3.22-bioc/meat/Xeva.Rcheck/00check.log’
for details.
Xeva.Rcheck/00install.out
############################################################################## ############################################################################## ### ### Running command: ### ### /Library/Frameworks/R.framework/Resources/bin/R CMD INSTALL Xeva ### ############################################################################## ############################################################################## * installing to library ‘/Library/Frameworks/R.framework/Versions/4.5-arm64/Resources/library’ * installing *source* package ‘Xeva’ ... ** this is package ‘Xeva’ version ‘1.25.0’ ** using staged installation ** R ** data ** inst ** byte-compile and prepare package for lazy loading ** help *** installing help indices ** building package indices ** installing vignettes ** testing if installed package can be loaded from temporary location ** testing if installed package can be loaded from final location ** testing if installed package keeps a record of temporary installation path * DONE (Xeva)
Xeva.Rcheck/Xeva-Ex.timings
| name | user | system | elapsed | |
| ABC | 0.001 | 0.001 | 0.002 | |
| AUC | 0.006 | 0.000 | 0.007 | |
| TGI | 0 | 0 | 0 | |
| addExperimentalDesign | 0.040 | 0.002 | 0.043 | |
| angle | 0.003 | 0.000 | 0.003 | |
| batchInfo | 0.063 | 0.006 | 0.068 | |
| createXevaSet | 0.353 | 0.007 | 0.360 | |
| dosePlot | 0.190 | 0.004 | 0.194 | |
| drugInform | 0.037 | 0.001 | 0.038 | |
| drugSensitivitySig | 0.119 | 0.006 | 0.124 | |
| getExperiment | 0.051 | 0.002 | 0.052 | |
| getMolecularProfiles | 0.036 | 0.001 | 0.037 | |
| lmm | 0.026 | 0.001 | 0.027 | |
| mRECIST | 0.001 | 0.000 | 0.001 | |
| modelInfo | 0.038 | 0.001 | 0.039 | |
| plotPDX | 0.553 | 0.009 | 0.561 | |
| plotmRECIST | 0.544 | 0.009 | 0.553 | |
| response | 0.048 | 0.001 | 0.049 | |
| selectModelIds | 0.052 | 0.001 | 0.053 | |
| sensitivity | 0.039 | 0.001 | 0.040 | |
| setResponse | 0.653 | 0.008 | 0.661 | |
| slope | 0.005 | 0.000 | 0.005 | |
| subsetXeva | 0.061 | 0.001 | 0.062 | |
| summarizeMolecularProfiles | 0.049 | 0.001 | 0.050 | |
| summarizeResponse | 0.073 | 0.001 | 0.074 | |
| waterfall | 0.283 | 0.001 | 0.284 | |