Back to Multiple platform build/check report for BioC 3.23:   simplified   long
ABCDEFGHIJKLMNOPQR[S]TUVWXYZ

This page was generated on 2025-11-26 11:38 -0500 (Wed, 26 Nov 2025).

HostnameOSArch (*)R versionInstalled pkgs
nebbiolo1Linux (Ubuntu 24.04.3 LTS)x86_64R Under development (unstable) (2025-10-20 r88955) -- "Unsuffered Consequences" 4830
lconwaymacOS 12.7.6 Montereyx86_64R Under development (unstable) (2025-10-21 r88958) -- "Unsuffered Consequences" 4609
kjohnson3macOS 13.7.7 Venturaarm64R Under development (unstable) (2025-11-04 r88984) -- "Unsuffered Consequences" 4569
Click on any hostname to see more info about the system (e.g. compilers)      (*) as reported by 'uname -p', except on Windows and Mac OS X

Package 2065/2328HostnameOS / ArchINSTALLBUILDCHECKBUILD BIN
SpectriPy 1.1.0  (landing page)
Johannes Rainer
Snapshot Date: 2025-11-25 13:40 -0500 (Tue, 25 Nov 2025)
git_url: https://git.bioconductor.org/packages/SpectriPy
git_branch: devel
git_last_commit: 09e5773
git_last_commit_date: 2025-10-29 11:36:52 -0500 (Wed, 29 Oct 2025)
nebbiolo1Linux (Ubuntu 24.04.3 LTS) / x86_64  OK    OK    OK  UNNEEDED, same version is already published
lconwaymacOS 12.7.6 Monterey / x86_64  OK    OK    OK    OK  YES
kjohnson3macOS 13.7.7 Ventura / arm64  ERROR    ERROR  skippedskipped


CHECK results for SpectriPy on nebbiolo1

To the developers/maintainers of the SpectriPy package:
- Allow up to 24 hours (and sometimes 48 hours) for your latest push to git@git.bioconductor.org:packages/SpectriPy.git to reflect on this report. See Troubleshooting Build Report for more information.
- Use the following Renviron settings to reproduce errors and warnings.
- If 'R CMD check' started to fail recently on the Linux builder(s) over a missing dependency, add the missing dependency to 'Suggests:' in your DESCRIPTION file. See Renviron.bioc for more information.

raw results


Summary

Package: SpectriPy
Version: 1.1.0
Command: /home/biocbuild/bbs-3.23-bioc/R/bin/R CMD check --install=check:SpectriPy.install-out.txt --library=/home/biocbuild/bbs-3.23-bioc/R/site-library --timings SpectriPy_1.1.0.tar.gz
StartedAt: 2025-11-26 04:25:59 -0500 (Wed, 26 Nov 2025)
EndedAt: 2025-11-26 04:39:06 -0500 (Wed, 26 Nov 2025)
EllapsedTime: 787.0 seconds
RetCode: 0
Status:   OK  
CheckDir: SpectriPy.Rcheck
Warnings: 0

Command output

##############################################################################
##############################################################################
###
### Running command:
###
###   /home/biocbuild/bbs-3.23-bioc/R/bin/R CMD check --install=check:SpectriPy.install-out.txt --library=/home/biocbuild/bbs-3.23-bioc/R/site-library --timings SpectriPy_1.1.0.tar.gz
###
##############################################################################
##############################################################################


* using log directory ‘/home/biocbuild/bbs-3.23-bioc/meat/SpectriPy.Rcheck’
* using R Under development (unstable) (2025-10-20 r88955)
* using platform: x86_64-pc-linux-gnu
* R was compiled by
    gcc (Ubuntu 13.3.0-6ubuntu2~24.04) 13.3.0
    GNU Fortran (Ubuntu 13.3.0-6ubuntu2~24.04) 13.3.0
* running under: Ubuntu 24.04.3 LTS
* using session charset: UTF-8
* checking for file ‘SpectriPy/DESCRIPTION’ ... OK
* this is package ‘SpectriPy’ version ‘1.1.0’
* package encoding: UTF-8
* checking package namespace information ... OK
* checking package dependencies ... OK
* checking if this is a source package ... OK
* checking if there is a namespace ... OK
* checking for hidden files and directories ... OK
* checking for portable file names ... OK
* checking for sufficient/correct file permissions ... OK
* checking whether package ‘SpectriPy’ can be installed ... OK
* checking installed package size ... OK
* checking package directory ... OK
* checking ‘build’ directory ... OK
* checking DESCRIPTION meta-information ... OK
* checking top-level files ... OK
* checking for left-over files ... OK
* checking index information ... OK
* checking package subdirectories ... OK
* checking code files for non-ASCII characters ... OK
* checking R files for syntax errors ... OK
* checking whether the package can be loaded ... OK
* checking whether the package can be loaded with stated dependencies ... OK
* checking whether the package can be unloaded cleanly ... OK
* checking whether the namespace can be loaded with stated dependencies ... OK
* checking whether the namespace can be unloaded cleanly ... OK
* checking loading without being on the library search path ... OK
* checking whether startup messages can be suppressed ... OK
* checking dependencies in R code ... NOTE
Unexported object imported by a ':::' call: ‘Spectra:::.check_peaks_data_value’
  See the note in ?`:::` about the use of this operator.
* checking S3 generic/method consistency ... OK
* checking replacement functions ... OK
* checking foreign function calls ... OK
* checking R code for possible problems ... OK
* checking Rd files ... OK
* checking Rd metadata ... OK
* checking Rd cross-references ... OK
* checking for missing documentation entries ... OK
* checking for code/documentation mismatches ... OK
* checking Rd \usage sections ... OK
* checking Rd contents ... OK
* checking for unstated dependencies in examples ... OK
* checking files in ‘vignettes’ ... OK
* checking examples ... OK
Examples with CPU (user + system) or elapsed time > 5s
             user system elapsed
MsBackendPy 5.501  0.925   6.233
* checking for unstated dependencies in ‘tests’ ... OK
* checking tests ...
  Running ‘testthat.R’
 OK
* checking for unstated dependencies in vignettes ... OK
* checking package vignettes ... OK
* checking re-building of vignette outputs ... OK
* checking PDF version of manual ... OK
* DONE

Status: 1 NOTE
See
  ‘/home/biocbuild/bbs-3.23-bioc/meat/SpectriPy.Rcheck/00check.log’
for details.


Installation output

SpectriPy.Rcheck/00install.out

##############################################################################
##############################################################################
###
### Running command:
###
###   /home/biocbuild/bbs-3.23-bioc/R/bin/R CMD INSTALL SpectriPy
###
##############################################################################
##############################################################################


* installing to library ‘/home/biocbuild/bbs-3.23-bioc/R/site-library’
* installing *source* package ‘SpectriPy’ ...
** this is package ‘SpectriPy’ version ‘1.1.0’
** using staged installation
** R
** inst
** byte-compile and prepare package for lazy loading
** help
*** installing help indices
*** copying figures
** building package indices
** installing vignettes
** testing if installed package can be loaded from temporary location
** testing if installed package can be loaded from final location
** testing if installed package keeps a record of temporary installation path
* DONE (SpectriPy)

Tests output

SpectriPy.Rcheck/tests/testthat.Rout


R Under development (unstable) (2025-10-20 r88955) -- "Unsuffered Consequences"
Copyright (C) 2025 The R Foundation for Statistical Computing
Platform: x86_64-pc-linux-gnu

R is free software and comes with ABSOLUTELY NO WARRANTY.
You are welcome to redistribute it under certain conditions.
Type 'license()' or 'licence()' for distribution details.

R is a collaborative project with many contributors.
Type 'contributors()' for more information and
'citation()' on how to cite R or R packages in publications.

Type 'demo()' for some demos, 'help()' for on-line help, or
'help.start()' for an HTML browser interface to help.
Type 'q()' to quit R.

> library(testthat)
> library(Spectra)
Loading required package: S4Vectors
Loading required package: stats4
Loading required package: BiocGenerics
Loading required package: generics

Attaching package: 'generics'

The following objects are masked from 'package:base':

    as.difftime, as.factor, as.ordered, intersect, is.element, setdiff,
    setequal, union


Attaching package: 'BiocGenerics'

The following objects are masked from 'package:stats':

    IQR, mad, sd, var, xtabs

The following objects are masked from 'package:base':

    Filter, Find, Map, Position, Reduce, anyDuplicated, aperm, append,
    as.data.frame, basename, cbind, colnames, dirname, do.call,
    duplicated, eval, evalq, get, grep, grepl, is.unsorted, lapply,
    mapply, match, mget, order, paste, pmax, pmax.int, pmin, pmin.int,
    rank, rbind, rownames, sapply, saveRDS, table, tapply, unique,
    unsplit, which.max, which.min


Attaching package: 'S4Vectors'

The following object is masked from 'package:utils':

    findMatches

The following objects are masked from 'package:base':

    I, expand.grid, unname

Loading required package: BiocParallel
> library(SpectriPy)
Loading required package: reticulate
> library(MsBackendMgf)
> 
> fl <- system.file("extdata", "mgf", "test.mgf", package = "SpectriPy")
> s <- Spectra(fl, source = MsBackendMgf())
Start data import from 1 files ... done
> s <- setBackend(s, MsBackendPy(), pythonVariableName = "py_be")
> 
> be <- s@backend
> 
> test_check("SpectriPy")
2025-11-26 04:30:27,881:WARNING:matchms:add_precursor_mz:No precursor_mz found in metadata.
2025-11-26 04:30:27,882:WARNING:matchms:add_precursor_mz:No precursor_mz found in metadata.
2025-11-26 04:30:27,882:WARNING:matchms:add_precursor_mz:No precursor_mz found in metadata.
2025-11-26 04:30:27,883:WARNING:matchms:add_precursor_mz:No precursor_mz found in metadata.
2025-11-26 04:30:27,884:WARNING:matchms:add_precursor_mz:No precursor_mz found in metadata.
2025-11-26 04:30:27,885:WARNING:matchms:add_precursor_mz:No precursor_mz found in metadata.
2025-11-26 04:30:27,885:WARNING:matchms:add_precursor_mz:No precursor_mz found in metadata.
2025-11-26 04:30:27,886:WARNING:matchms:add_precursor_mz:No precursor_mz found in metadata.
2025-11-26 04:30:27,887:WARNING:matchms:add_precursor_mz:No precursor_mz found in metadata.
2025-11-26 04:30:27,887:WARNING:matchms:add_precursor_mz:No precursor_mz found in metadata.
2025-11-26 04:30:27,888:WARNING:matchms:add_precursor_mz:No precursor_mz found in metadata.
2025-11-26 04:30:27,889:WARNING:matchms:add_precursor_mz:No precursor_mz found in metadata.
2025-11-26 04:30:27,889:WARNING:matchms:add_precursor_mz:No precursor_mz found in metadata.
2025-11-26 04:30:27,890:WARNING:matchms:add_precursor_mz:No precursor_mz found in metadata.
2025-11-26 04:30:27,891:WARNING:matchms:add_precursor_mz:No precursor_mz found in metadata.
2025-11-26 04:30:27,891:WARNING:matchms:add_precursor_mz:No precursor_mz found in metadata.
2025-11-26 04:30:27,892:WARNING:matchms:add_precursor_mz:No precursor_mz found in metadata.
2025-11-26 04:30:27,893:WARNING:matchms:add_precursor_mz:No precursor_mz found in metadata.
2025-11-26 04:30:27,894:WARNING:matchms:add_precursor_mz:No precursor_mz found in metadata.
2025-11-26 04:30:27,894:WARNING:matchms:add_precursor_mz:No precursor_mz found in metadata.
2025-11-26 04:30:27,895:WARNING:matchms:add_precursor_mz:No precursor_mz found in metadata.
2025-11-26 04:30:27,896:WARNING:matchms:add_precursor_mz:No precursor_mz found in metadata.
2025-11-26 04:30:27,896:WARNING:matchms:add_precursor_mz:No precursor_mz found in metadata.
2025-11-26 04:30:27,897:WARNING:matchms:add_precursor_mz:No precursor_mz found in metadata.
2025-11-26 04:30:27,898:WARNING:matchms:add_precursor_mz:No precursor_mz found in metadata.
2025-11-26 04:30:27,898:WARNING:matchms:add_precursor_mz:No precursor_mz found in metadata.
2025-11-26 04:30:27,899:WARNING:matchms:add_precursor_mz:No precursor_mz found in metadata.
2025-11-26 04:30:27,900:WARNING:matchms:add_precursor_mz:No precursor_mz found in metadata.
2025-11-26 04:30:27,900:WARNING:matchms:add_precursor_mz:No precursor_mz found in metadata.
2025-11-26 04:30:27,901:WARNING:matchms:add_precursor_mz:No precursor_mz found in metadata.
2025-11-26 04:30:27,902:WARNING:matchms:add_precursor_mz:No precursor_mz found in metadata.
2025-11-26 04:30:27,902:WARNING:matchms:add_precursor_mz:No precursor_mz found in metadata.
2025-11-26 04:30:27,903:WARNING:matchms:add_precursor_mz:No precursor_mz found in metadata.
2025-11-26 04:30:27,904:WARNING:matchms:add_precursor_mz:No precursor_mz found in metadata.
2025-11-26 04:30:27,905:WARNING:matchms:add_precursor_mz:No precursor_mz found in metadata.
2025-11-26 04:30:27,905:WARNING:matchms:add_precursor_mz:No precursor_mz found in metadata.
2025-11-26 04:30:27,906:WARNING:matchms:add_precursor_mz:No precursor_mz found in metadata.
2025-11-26 04:30:27,907:WARNING:matchms:add_precursor_mz:No precursor_mz found in metadata.
2025-11-26 04:30:27,907:WARNING:matchms:add_precursor_mz:No precursor_mz found in metadata.
2025-11-26 04:30:27,908:WARNING:matchms:add_precursor_mz:No precursor_mz found in metadata.
2025-11-26 04:30:27,909:WARNING:matchms:add_precursor_mz:No precursor_mz found in metadata.
2025-11-26 04:30:27,909:WARNING:matchms:add_precursor_mz:No precursor_mz found in metadata.
2025-11-26 04:30:27,910:WARNING:matchms:add_precursor_mz:No precursor_mz found in metadata.
2025-11-26 04:30:27,911:WARNING:matchms:add_precursor_mz:No precursor_mz found in metadata.
2025-11-26 04:30:27,912:WARNING:matchms:add_precursor_mz:No precursor_mz found in metadata.
2025-11-26 04:30:27,913:WARNING:matchms:add_precursor_mz:No precursor_mz found in metadata.
2025-11-26 04:30:27,913:WARNING:matchms:add_precursor_mz:No precursor_mz found in metadata.
2025-11-26 04:30:27,914:WARNING:matchms:add_precursor_mz:No precursor_mz found in metadata.
2025-11-26 04:30:27,915:WARNING:matchms:add_precursor_mz:No precursor_mz found in metadata.
2025-11-26 04:30:27,915:WARNING:matchms:add_precursor_mz:No precursor_mz found in metadata.
2025-11-26 04:30:27,916:WARNING:matchms:add_precursor_mz:No precursor_mz found in metadata.
2025-11-26 04:30:27,917:WARNING:matchms:add_precursor_mz:No precursor_mz found in metadata.
2025-11-26 04:30:27,917:WARNING:matchms:add_precursor_mz:No precursor_mz found in metadata.
2025-11-26 04:30:27,918:WARNING:matchms:add_precursor_mz:No precursor_mz found in metadata.
2025-11-26 04:30:27,919:WARNING:matchms:add_precursor_mz:No precursor_mz found in metadata.
2025-11-26 04:30:27,919:WARNING:matchms:add_precursor_mz:No precursor_mz found in metadata.
2025-11-26 04:30:27,920:WARNING:matchms:add_precursor_mz:No precursor_mz found in metadata.
2025-11-26 04:30:27,921:WARNING:matchms:add_precursor_mz:No precursor_mz found in metadata.
2025-11-26 04:30:27,921:WARNING:matchms:add_precursor_mz:No precursor_mz found in metadata.
2025-11-26 04:30:27,922:WARNING:matchms:add_precursor_mz:No precursor_mz found in metadata.
2025-11-26 04:30:27,923:WARNING:matchms:add_precursor_mz:No precursor_mz found in metadata.
2025-11-26 04:30:27,924:WARNING:matchms:add_precursor_mz:No precursor_mz found in metadata.
2025-11-26 04:30:27,924:WARNING:matchms:add_precursor_mz:No precursor_mz found in metadata.
2025-11-26 04:30:27,925:WARNING:matchms:add_precursor_mz:No precursor_mz found in metadata.
2025-11-26 04:30:27,926:WARNING:matchms:add_precursor_mz:No precursor_mz found in metadata.
2025-11-26 04:30:27,926:WARNING:matchms:add_precursor_mz:No precursor_mz found in metadata.
2025-11-26 04:30:27,927:WARNING:matchms:add_precursor_mz:No precursor_mz found in metadata.
2025-11-26 04:30:27,928:WARNING:matchms:add_precursor_mz:No precursor_mz found in metadata.
2025-11-26 04:30:27,928:WARNING:matchms:add_precursor_mz:No precursor_mz found in metadata.
2025-11-26 04:30:27,929:WARNING:matchms:add_precursor_mz:No precursor_mz found in metadata.
2025-11-26 04:30:27,930:WARNING:matchms:add_precursor_mz:No precursor_mz found in metadata.
2025-11-26 04:30:27,930:WARNING:matchms:add_precursor_mz:No precursor_mz found in metadata.
2025-11-26 04:30:27,931:WARNING:matchms:add_precursor_mz:No precursor_mz found in metadata.
2025-11-26 04:30:27,932:WARNING:matchms:add_precursor_mz:No precursor_mz found in metadata.
2025-11-26 04:30:27,932:WARNING:matchms:add_precursor_mz:No precursor_mz found in metadata.
2025-11-26 04:30:27,933:WARNING:matchms:add_precursor_mz:No precursor_mz found in metadata.
2025-11-26 04:30:27,934:WARNING:matchms:add_precursor_mz:No precursor_mz found in metadata.
2025-11-26 04:30:27,934:WARNING:matchms:add_precursor_mz:No precursor_mz found in metadata.
2025-11-26 04:30:27,935:WARNING:matchms:add_precursor_mz:No precursor_mz found in metadata.
2025-11-26 04:30:27,936:WARNING:matchms:add_precursor_mz:No precursor_mz found in metadata.
2025-11-26 04:30:27,936:WARNING:matchms:add_precursor_mz:No precursor_mz found in metadata.
2025-11-26 04:30:27,937:WARNING:matchms:add_precursor_mz:No precursor_mz found in metadata.
2025-11-26 04:30:27,938:WARNING:matchms:add_precursor_mz:No precursor_mz found in metadata.
2025-11-26 04:30:27,939:WARNING:matchms:add_precursor_mz:No precursor_mz found in metadata.
2025-11-26 04:30:27,939:WARNING:matchms:add_precursor_mz:No precursor_mz found in metadata.
2025-11-26 04:30:27,940:WARNING:matchms:add_precursor_mz:No precursor_mz found in metadata.
2025-11-26 04:30:27,941:WARNING:matchms:add_precursor_mz:No precursor_mz found in metadata.
2025-11-26 04:30:27,941:WARNING:matchms:add_precursor_mz:No precursor_mz found in metadata.
2025-11-26 04:30:27,942:WARNING:matchms:add_precursor_mz:No precursor_mz found in metadata.
2025-11-26 04:30:27,943:WARNING:matchms:add_precursor_mz:No precursor_mz found in metadata.
2025-11-26 04:30:27,944:WARNING:matchms:add_precursor_mz:No precursor_mz found in metadata.
2025-11-26 04:30:27,944:WARNING:matchms:add_precursor_mz:No precursor_mz found in metadata.
2025-11-26 04:30:27,945:WARNING:matchms:add_precursor_mz:No precursor_mz found in metadata.
2025-11-26 04:30:27,946:WARNING:matchms:add_precursor_mz:No precursor_mz found in metadata.
2025-11-26 04:30:27,946:WARNING:matchms:add_precursor_mz:No precursor_mz found in metadata.
2025-11-26 04:30:27,947:WARNING:matchms:add_precursor_mz:No precursor_mz found in metadata.
2025-11-26 04:30:27,948:WARNING:matchms:add_precursor_mz:No precursor_mz found in metadata.
2025-11-26 04:30:27,948:WARNING:matchms:add_precursor_mz:No precursor_mz found in metadata.
2025-11-26 04:30:27,949:WARNING:matchms:add_precursor_mz:No precursor_mz found in metadata.
2025-11-26 04:30:27,950:WARNING:matchms:add_precursor_mz:No precursor_mz found in metadata.

Calculating similarities:   0%|          | 0/4 [00:00<?, ?it/s]
Calculating similarities:  25%|██▌       | 1/4 [00:02<00:07,  2.51s/it]
Calculating similarities: 100%|██████████| 4/4 [00:02<00:00,  1.59it/s]

Calculating similarities:   0%|          | 0/4 [00:00<?, ?it/s]
Calculating similarities: 100%|██████████| 4/4 [00:00<00:00, 4984.32it/s]

Calculating similarities:   0%|          | 0/4 [00:00<?, ?it/s]
Calculating similarities: 100%|██████████| 4/4 [00:00<00:00, 4184.89it/s]

Calculating similarities:   0%|          | 0/4 [00:00<?, ?it/s]
Calculating similarities: 100%|██████████| 4/4 [00:00<00:00, 5088.63it/s]

Calculating similarities:   0%|          | 0/2 [00:00<?, ?it/s]
Calculating similarities: 100%|██████████| 2/2 [00:00<00:00, 5130.65it/s]

Calculating similarities:   0%|          | 0/2 [00:00<?, ?it/s]
Calculating similarities: 100%|██████████| 2/2 [00:00<00:00, 4136.39it/s]

Calculating similarities:   0%|          | 0/2 [00:00<?, ?it/s]
Calculating similarities: 100%|██████████| 2/2 [00:00<00:00, 5349.88it/s]

Calculating similarities:   0%|          | 0/2 [00:00<?, ?it/s]
Calculating similarities: 100%|██████████| 2/2 [00:00<00:00, 2373.01it/s]

Calculating similarities:   0%|          | 0/2 [00:00<?, ?it/s]
Calculating similarities: 100%|██████████| 2/2 [00:00<00:00, 3457.79it/s]

Calculating similarities:   0%|          | 0/2 [00:00<?, ?it/s]
Calculating similarities: 100%|██████████| 2/2 [00:00<00:00, 3067.13it/s]

Calculating similarities:   0%|          | 0/4 [00:00<?, ?it/s]
Calculating similarities:  50%|█████     | 2/4 [00:00<00:00, 2170.40it/s]

Calculating similarities:   0%|          | 0/2 [00:00<?, ?it/s]
Calculating similarities:  50%|█████     | 1/2 [00:00<00:00,  1.64it/s]
Calculating similarities: 100%|██████████| 2/2 [00:00<00:00,  3.27it/s]

Calculating similarities:   0%|          | 0/2 [00:00<?, ?it/s]
Calculating similarities:  50%|█████     | 1/2 [00:00<00:00,  1.21it/s]
Calculating similarities: 100%|██████████| 2/2 [00:00<00:00,  2.43it/s]
2025-11-26 04:30:39,223:WARNING:matchms:add_precursor_mz:No precursor_mz found in metadata.
2025-11-26 04:30:39,276:WARNING:matchms:add_precursor_mz:No precursor_mz found in metadata.
2025-11-26 04:30:39,277:WARNING:matchms:add_precursor_mz:No precursor_mz found in metadata.
2025-11-26 04:30:39,278:WARNING:matchms:add_precursor_mz:No precursor_mz found in metadata.
2025-11-26 04:30:39,360:WARNING:matchms:add_precursor_mz:No precursor_mz found in metadata.
2025-11-26 04:30:39,360:WARNING:matchms:add_precursor_mz:No precursor_mz found in metadata.
2025-11-26 04:30:39,361:WARNING:matchms:add_precursor_mz:No precursor_mz found in metadata.
2025-11-26 04:30:39,605:WARNING:matchms:add_precursor_mz:No precursor_mz found in metadata.
2025-11-26 04:30:39,605:WARNING:matchms:add_precursor_mz:No precursor_mz found in metadata.
2025-11-26 04:30:39,606:WARNING:matchms:add_precursor_mz:No precursor_mz found in metadata.
2025-11-26 04:30:39,637:WARNING:matchms:add_precursor_mz:No precursor_mz found in metadata.
2025-11-26 04:30:39,637:WARNING:matchms:add_precursor_mz:No precursor_mz found in metadata.
2025-11-26 04:30:39,638:WARNING:matchms:add_precursor_mz:No precursor_mz found in metadata.
2025-11-26 04:30:39,944:WARNING:matchms:add_precursor_mz:No precursor_mz found in metadata.
2025-11-26 04:30:39,945:WARNING:matchms:add_precursor_mz:No precursor_mz found in metadata.
2025-11-26 04:30:39,946:WARNING:matchms:add_precursor_mz:No precursor_mz found in metadata.
2025-11-26 04:30:39,961:WARNING:matchms:add_precursor_mz:No precursor_mz found in metadata.
2025-11-26 04:30:39,962:WARNING:matchms:add_precursor_mz:No precursor_mz found in metadata.
2025-11-26 04:30:39,962:WARNING:matchms:add_precursor_mz:No precursor_mz found in metadata.

Processing spectra:   0%|          | 0/4 [00:00<?, ?it/s]
Processing spectra: 100%|██████████| 4/4 [00:00<00:00, 3560.53it/s]

Processing spectra:   0%|          | 0/4 [00:00<?, ?it/s]
Processing spectra: 100%|██████████| 4/4 [00:00<00:00, 3927.25it/s]

Processing spectra:   0%|          | 0/4 [00:00<?, ?it/s]
Processing spectra: 100%|██████████| 4/4 [00:00<00:00, 4141.50it/s]

Processing spectra:   0%|          | 0/4 [00:00<?, ?it/s]
Processing spectra: 100%|██████████| 4/4 [00:00<00:00, 4171.36it/s]

Processing spectra:   0%|          | 0/4 [00:00<?, ?it/s]
Processing spectra: 100%|██████████| 4/4 [00:00<00:00, 4016.57it/s]
[ FAIL 0 | WARN 4 | SKIP 1 | PASS 592 ]

══ Skipped tests (1) ═══════════════════════════════════════════════════════════
• empty test (1): 'test_zzz.R:16:1'

[ FAIL 0 | WARN 4 | SKIP 1 | PASS 592 ]
> 
> ## TODO: add tests from the Spectra unit test suite!
> 
> ## ## Run the MsBackend spectra variable test suite
> ## test_suite <- system.file("test_backends", "test_MsBackend",
> ##                           package = "Spectra")
> 
> ## ## Run single test file.
> ## res <- test_dir(test_suite, stop_on_failure = TRUE)
> 
> proc.time()
   user  system elapsed 
 28.690   2.839  30.860 

Example timings

SpectriPy.Rcheck/SpectriPy-Ex.timings

nameusersystemelapsed
MsBackendPy5.5010.9256.233
compareSpectriPy2.3490.2612.628
conversion0.3380.2560.457
filterSpectriPy0.1730.0240.197