| Back to Build/check report for BioC 3.23: simplified long |
|
This page was generated on 2025-11-06 11:32 -0500 (Thu, 06 Nov 2025).
| Hostname | OS | Arch (*) | R version | Installed pkgs |
|---|---|---|---|---|
| nebbiolo1 | Linux (Ubuntu 24.04.3 LTS) | x86_64 | R Under development (unstable) (2025-10-20 r88955) -- "Unsuffered Consequences" | 4818 |
| Click on any hostname to see more info about the system (e.g. compilers) (*) as reported by 'uname -p', except on Windows and Mac OS X | ||||
| Package 1717/2323 | Hostname | OS / Arch | INSTALL | BUILD | CHECK | BUILD BIN | ||||||||
| ReactomeGSA 1.25.0 (landing page) Johannes Griss
| nebbiolo1 | Linux (Ubuntu 24.04.3 LTS) / x86_64 | OK | OK | OK | |||||||||
|
To the developers/maintainers of the ReactomeGSA package: - Allow up to 24 hours (and sometimes 48 hours) for your latest push to git@git.bioconductor.org:packages/ReactomeGSA.git to reflect on this report. See Troubleshooting Build Report for more information. - Use the following Renviron settings to reproduce errors and warnings. - If 'R CMD check' started to fail recently on the Linux builder(s) over a missing dependency, add the missing dependency to 'Suggests:' in your DESCRIPTION file. See Renviron.bioc for more information. |
| Package: ReactomeGSA |
| Version: 1.25.0 |
| Command: /home/biocbuild/bbs-3.23-bioc/R/bin/R CMD check --install=check:ReactomeGSA.install-out.txt --library=/home/biocbuild/bbs-3.23-bioc/R/site-library --timings ReactomeGSA_1.25.0.tar.gz |
| StartedAt: 2025-11-06 03:00:34 -0500 (Thu, 06 Nov 2025) |
| EndedAt: 2025-11-06 03:20:03 -0500 (Thu, 06 Nov 2025) |
| EllapsedTime: 1169.4 seconds |
| RetCode: 0 |
| Status: OK |
| CheckDir: ReactomeGSA.Rcheck |
| Warnings: 0 |
##############################################################################
##############################################################################
###
### Running command:
###
### /home/biocbuild/bbs-3.23-bioc/R/bin/R CMD check --install=check:ReactomeGSA.install-out.txt --library=/home/biocbuild/bbs-3.23-bioc/R/site-library --timings ReactomeGSA_1.25.0.tar.gz
###
##############################################################################
##############################################################################
* using log directory ‘/home/biocbuild/bbs-3.23-bioc/meat/ReactomeGSA.Rcheck’
* using R Under development (unstable) (2025-10-20 r88955)
* using platform: x86_64-pc-linux-gnu
* R was compiled by
gcc (Ubuntu 13.3.0-6ubuntu2~24.04) 13.3.0
GNU Fortran (Ubuntu 13.3.0-6ubuntu2~24.04) 13.3.0
* running under: Ubuntu 24.04.3 LTS
* using session charset: UTF-8
* checking for file ‘ReactomeGSA/DESCRIPTION’ ... OK
* checking extension type ... Package
* this is package ‘ReactomeGSA’ version ‘1.25.0’
* package encoding: UTF-8
* checking package namespace information ... OK
* checking package dependencies ... OK
* checking if this is a source package ... OK
* checking if there is a namespace ... OK
* checking for hidden files and directories ... OK
* checking for portable file names ... OK
* checking for sufficient/correct file permissions ... OK
* checking whether package ‘ReactomeGSA’ can be installed ... OK
* checking installed package size ... OK
* checking package directory ... OK
* checking ‘build’ directory ... OK
* checking DESCRIPTION meta-information ... OK
* checking top-level files ... OK
* checking for left-over files ... OK
* checking index information ... OK
* checking package subdirectories ... OK
* checking code files for non-ASCII characters ... OK
* checking R files for syntax errors ... OK
* checking whether the package can be loaded ... OK
* checking whether the package can be loaded with stated dependencies ... OK
* checking whether the package can be unloaded cleanly ... OK
* checking whether the namespace can be loaded with stated dependencies ... OK
* checking whether the namespace can be unloaded cleanly ... OK
* checking loading without being on the library search path ... OK
* checking whether startup messages can be suppressed ... OK
* checking dependencies in R code ... OK
* checking S3 generic/method consistency ... OK
* checking replacement functions ... OK
* checking foreign function calls ... OK
* checking R code for possible problems ... NOTE
plot_correlations,ReactomeAnalysisResult: no visible binding for global
variable ‘combined_sig’
plot_correlations,ReactomeAnalysisResult: no visible binding for global
variable ‘alpha’
plot_gsva_pathway,ReactomeAnalysisResult: no visible binding for global
variable ‘cluster_id’
plot_gsva_pathway,ReactomeAnalysisResult: no visible binding for global
variable ‘expr’
plot_gsva_pca,ReactomeAnalysisResult: no visible binding for global
variable ‘gsva_result’
plot_gsva_pca,ReactomeAnalysisResult: no visible binding for global
variable ‘PC1’
plot_gsva_pca,ReactomeAnalysisResult: no visible binding for global
variable ‘PC2’
plot_heatmap,ReactomeAnalysisResult: no visible global function
definition for ‘desc’
plot_heatmap,ReactomeAnalysisResult: no visible binding for global
variable ‘n_sig’
plot_heatmap,ReactomeAnalysisResult: no visible binding for global
variable ‘dataset’
plot_heatmap,ReactomeAnalysisResult: no visible binding for global
variable ‘Name’
plot_volcano,ReactomeAnalysisResult: no visible binding for global
variable ‘av_foldchange’
plot_volcano,ReactomeAnalysisResult: no visible binding for global
variable ‘FDR’
Undefined global functions or variables:
FDR Name PC1 PC2 alpha av_foldchange cluster_id combined_sig dataset
desc expr gsva_result n_sig
* checking Rd files ... OK
* checking Rd metadata ... OK
* checking Rd cross-references ... OK
* checking for missing documentation entries ... OK
* checking for code/documentation mismatches ... OK
* checking Rd \usage sections ... OK
* checking Rd contents ... OK
* checking for unstated dependencies in examples ... OK
* checking files in ‘vignettes’ ... OK
* checking examples ... OK
Examples with CPU (user + system) or elapsed time > 5s
user system elapsed
plot_gsva_heatmap-ReactomeAnalysisResult-method 36.817 0.942 107.999
plot_gsva_pathway 33.931 0.722 67.910
plot_gsva_pca 33.690 0.725 75.527
analyse_sc_clusters-Seurat-method 32.979 1.029 79.922
plot_gsva_heatmap 33.528 0.476 72.446
plot_gsva_pathway-ReactomeAnalysisResult-method 32.695 0.785 68.313
analyse_sc_clusters-SingleCellExperiment-method 32.645 0.721 69.660
plot_gsva_pca-ReactomeAnalysisResult-method 32.675 0.660 68.095
analyse_sc_clusters 31.387 0.594 67.965
generate_pseudo_bulk_data 14.537 0.864 15.431
perform_reactome_analysis 6.466 0.153 53.076
load_public_dataset 5.166 0.170 46.029
ReactomeAnalysisRequest 4.849 0.286 5.137
* checking for unstated dependencies in ‘tests’ ... OK
* checking tests ...
Running ‘testthat.R’
OK
* checking for unstated dependencies in vignettes ... OK
* checking package vignettes ... OK
* checking re-building of vignette outputs ... OK
* checking PDF version of manual ... OK
* DONE
Status: 1 NOTE
See
‘/home/biocbuild/bbs-3.23-bioc/meat/ReactomeGSA.Rcheck/00check.log’
for details.
ReactomeGSA.Rcheck/00install.out
############################################################################## ############################################################################## ### ### Running command: ### ### /home/biocbuild/bbs-3.23-bioc/R/bin/R CMD INSTALL ReactomeGSA ### ############################################################################## ############################################################################## * installing to library ‘/home/biocbuild/bbs-3.23-bioc/R/site-library’ * installing *source* package ‘ReactomeGSA’ ... ** this is package ‘ReactomeGSA’ version ‘1.25.0’ ** using staged installation ** R ** inst ** byte-compile and prepare package for lazy loading in method for ‘analyse_sc_clusters’ with signature ‘object="Seurat"’: no definition for class “Seurat” in method for ‘analyse_sc_clusters’ with signature ‘object="SingleCellExperiment"’: no definition for class “SingleCellExperiment” in method for ‘add_dataset’ with signature ‘request="ReactomeAnalysisRequest",expression_values="EList"’: no definition for class “EList” in method for ‘add_dataset’ with signature ‘request="ReactomeAnalysisRequest",expression_values="DGEList"’: no definition for class “DGEList” in method for ‘generate_pseudo_bulk_data’ with signature ‘object="Seurat"’: no definition for class “Seurat” in method for ‘generate_pseudo_bulk_data’ with signature ‘object="SingleCellExperiment"’: no definition for class “SingleCellExperiment” ** help *** installing help indices ** building package indices ** installing vignettes ** testing if installed package can be loaded from temporary location ** testing if installed package can be loaded from final location ** testing if installed package keeps a record of temporary installation path * DONE (ReactomeGSA)
ReactomeGSA.Rcheck/tests/testthat.Rout
R Under development (unstable) (2025-10-20 r88955) -- "Unsuffered Consequences"
Copyright (C) 2025 The R Foundation for Statistical Computing
Platform: x86_64-pc-linux-gnu
R is free software and comes with ABSOLUTELY NO WARRANTY.
You are welcome to redistribute it under certain conditions.
Type 'license()' or 'licence()' for distribution details.
R is a collaborative project with many contributors.
Type 'contributors()' for more information and
'citation()' on how to cite R or R packages in publications.
Type 'demo()' for some demos, 'help()' for on-line help, or
'help.start()' for an HTML browser interface to help.
Type 'q()' to quit R.
> library(testthat)
> library(ReactomeGSA)
>
> test_check("ReactomeGSA")
[ FAIL 0 | WARN 0 | SKIP 0 | PASS 17 ]
>
> proc.time()
user system elapsed
1.944 0.142 2.076
ReactomeGSA.Rcheck/ReactomeGSA-Ex.timings
| name | user | system | elapsed | |
| ReactomeAnalysisRequest | 4.849 | 0.286 | 5.137 | |
| ReactomeAnalysisResult-class | 0.183 | 0.008 | 0.191 | |
| add_dataset-ReactomeAnalysisRequest-DGEList-method | 0.841 | 0.012 | 0.854 | |
| add_dataset-ReactomeAnalysisRequest-EList-method | 0.495 | 0.006 | 0.502 | |
| add_dataset-ReactomeAnalysisRequest-ExpressionSet-method | 0.493 | 0.028 | 0.522 | |
| add_dataset-ReactomeAnalysisRequest-data.frame-method | 0.562 | 0.011 | 0.572 | |
| add_dataset-ReactomeAnalysisRequest-matrix-method | 0.512 | 0.004 | 0.517 | |
| add_dataset | 0.506 | 0.006 | 0.512 | |
| analyse_sc_clusters-Seurat-method | 32.979 | 1.029 | 79.922 | |
| analyse_sc_clusters-SingleCellExperiment-method | 32.645 | 0.721 | 69.660 | |
| analyse_sc_clusters | 31.387 | 0.594 | 67.965 | |
| find_public_datasets | 0.488 | 0.010 | 4.629 | |
| generate_metadata | 0.002 | 0.000 | 0.001 | |
| generate_pseudo_bulk_data | 14.537 | 0.864 | 15.431 | |
| get_public_species | 0.142 | 0.003 | 0.584 | |
| get_reactome_data_types | 0.355 | 0.008 | 1.245 | |
| get_reactome_methods | 0.487 | 0.019 | 1.848 | |
| get_result-ReactomeAnalysisResult-method | 0.245 | 0.012 | 0.257 | |
| get_result | 0.226 | 0.005 | 0.231 | |
| load_public_dataset | 5.166 | 0.170 | 46.029 | |
| names-ReactomeAnalysisResult-method | 0.195 | 0.012 | 0.206 | |
| open_reactome-ReactomeAnalysisResult-method | 0.199 | 0.014 | 0.213 | |
| open_reactome | 0.194 | 0.006 | 0.200 | |
| pathways-ReactomeAnalysisResult-method | 0.235 | 0.020 | 0.255 | |
| pathways | 0.199 | 0.010 | 0.209 | |
| perform_reactome_analysis | 6.466 | 0.153 | 53.076 | |
| plot_correlations-ReactomeAnalysisResult-method | 0.281 | 0.007 | 0.287 | |
| plot_correlations | 0.242 | 0.008 | 0.251 | |
| plot_gsva_heatmap-ReactomeAnalysisResult-method | 36.817 | 0.942 | 107.999 | |
| plot_gsva_heatmap | 33.528 | 0.476 | 72.446 | |
| plot_gsva_pathway-ReactomeAnalysisResult-method | 32.695 | 0.785 | 68.313 | |
| plot_gsva_pathway | 33.931 | 0.722 | 67.910 | |
| plot_gsva_pca-ReactomeAnalysisResult-method | 32.675 | 0.660 | 68.095 | |
| plot_gsva_pca | 33.690 | 0.725 | 75.527 | |
| plot_heatmap-ReactomeAnalysisResult-method | 0.577 | 0.005 | 0.582 | |
| plot_heatmap | 0.663 | 0.014 | 0.677 | |
| plot_volcano-ReactomeAnalysisResult-method | 0.221 | 0.006 | 0.227 | |
| plot_volcano | 0.236 | 0.003 | 0.239 | |
| print-ReactomeAnalysisRequest-method | 0.001 | 0.001 | 0.002 | |
| print-ReactomeAnalysisResult-method | 0.232 | 0.004 | 0.235 | |
| reactome_links-ReactomeAnalysisResult-method | 0.230 | 0.004 | 0.234 | |
| reactome_links | 0.225 | 0.004 | 0.230 | |
| result_types-ReactomeAnalysisResult-method | 0.24 | 0.00 | 0.24 | |
| result_types | 0.231 | 0.004 | 0.234 | |
| set_method-ReactomeAnalysisRequest-method | 0.003 | 0.000 | 0.002 | |
| set_method | 0.002 | 0.000 | 0.002 | |
| set_parameters-ReactomeAnalysisRequest-method | 0.002 | 0.000 | 0.002 | |
| set_parameters | 0.002 | 0.000 | 0.002 | |
| show-ReactomeAnalysisRequest-method | 0.001 | 0.000 | 0.002 | |
| show-ReactomeAnalysisResult-method | 0.247 | 0.003 | 0.250 | |