Back to Multiple platform build/check report for BioC 3.21:   simplified   long
ABCDEFGHIJKLMNOPQ[R]STUVWXYZ

This page was generated on 2025-02-18 11:39 -0500 (Tue, 18 Feb 2025).

HostnameOSArch (*)R versionInstalled pkgs
nebbiolo1Linux (Ubuntu 24.04.1 LTS)x86_64R Under development (unstable) (2025-01-20 r87609) -- "Unsuffered Consequences" 4720
palomino7Windows Server 2022 Datacenterx64R Under development (unstable) (2025-01-21 r87610 ucrt) -- "Unsuffered Consequences" 4482
lconwaymacOS 12.7.1 Montereyx86_64R Under development (unstable) (2025-01-22 r87618) -- "Unsuffered Consequences" 4493
kjohnson3macOS 13.7.1 Venturaarm64R Under development (unstable) (2025-01-20 r87609) -- "Unsuffered Consequences" 4446
Click on any hostname to see more info about the system (e.g. compilers)      (*) as reported by 'uname -p', except on Windows and Mac OS X

Package 1665/2295HostnameOS / ArchINSTALLBUILDCHECKBUILD BIN
Rarr 1.7.1  (landing page)
Mike Smith
Snapshot Date: 2025-02-17 13:40 -0500 (Mon, 17 Feb 2025)
git_url: https://git.bioconductor.org/packages/Rarr
git_branch: devel
git_last_commit: 44fb98e
git_last_commit_date: 2025-02-03 09:10:48 -0500 (Mon, 03 Feb 2025)
nebbiolo1Linux (Ubuntu 24.04.1 LTS) / x86_64  OK    OK    OK  UNNEEDED, same version is already published
palomino7Windows Server 2022 Datacenter / x64  OK    OK    OK    OK  UNNEEDED, same version is already published
lconwaymacOS 12.7.1 Monterey / x86_64  OK    OK    OK    OK  UNNEEDED, same version is already published
kjohnson3macOS 13.7.1 Ventura / arm64  OK    OK    OK    OK  UNNEEDED, same version is already published


CHECK results for Rarr on nebbiolo1

To the developers/maintainers of the Rarr package:
- Allow up to 24 hours (and sometimes 48 hours) for your latest push to git@git.bioconductor.org:packages/Rarr.git to reflect on this report. See Troubleshooting Build Report for more information.
- Use the following Renviron settings to reproduce errors and warnings.
- If 'R CMD check' started to fail recently on the Linux builder(s) over a missing dependency, add the missing dependency to 'Suggests:' in your DESCRIPTION file. See Renviron.bioc for more information.

raw results


Summary

Package: Rarr
Version: 1.7.1
Command: /home/biocbuild/bbs-3.21-bioc/R/bin/R CMD check --install=check:Rarr.install-out.txt --library=/home/biocbuild/bbs-3.21-bioc/R/site-library --timings Rarr_1.7.1.tar.gz
StartedAt: 2025-02-18 01:21:27 -0500 (Tue, 18 Feb 2025)
EndedAt: 2025-02-18 01:23:50 -0500 (Tue, 18 Feb 2025)
EllapsedTime: 143.2 seconds
RetCode: 0
Status:   OK  
CheckDir: Rarr.Rcheck
Warnings: 0

Command output

##############################################################################
##############################################################################
###
### Running command:
###
###   /home/biocbuild/bbs-3.21-bioc/R/bin/R CMD check --install=check:Rarr.install-out.txt --library=/home/biocbuild/bbs-3.21-bioc/R/site-library --timings Rarr_1.7.1.tar.gz
###
##############################################################################
##############################################################################


* using log directory ‘/home/biocbuild/bbs-3.21-bioc/meat/Rarr.Rcheck’
* using R Under development (unstable) (2025-01-20 r87609)
* using platform: x86_64-pc-linux-gnu
* R was compiled by
    gcc (Ubuntu 13.3.0-6ubuntu2~24.04) 13.3.0
    GNU Fortran (Ubuntu 13.3.0-6ubuntu2~24.04) 13.3.0
* running under: Ubuntu 24.04.2 LTS
* using session charset: UTF-8
* checking for file ‘Rarr/DESCRIPTION’ ... OK
* this is package ‘Rarr’ version ‘1.7.1’
* package encoding: UTF-8
* checking package namespace information ... OK
* checking package dependencies ... OK
* checking if this is a source package ... OK
* checking if there is a namespace ... OK
* checking for hidden files and directories ... NOTE
Found the following hidden files and directories:
  inst/extdata/zarr_examples/column-first/Unicode.zarr/.zarray
  inst/extdata/zarr_examples/column-first/boolean.zarr/.zarray
  inst/extdata/zarr_examples/column-first/float16.zarr/.zarray
  inst/extdata/zarr_examples/column-first/float32.zarr/.zarray
  inst/extdata/zarr_examples/column-first/float64.zarr/.zarray
  inst/extdata/zarr_examples/column-first/int16.zarr/.zarray
  inst/extdata/zarr_examples/column-first/int32.zarr/.zarray
  inst/extdata/zarr_examples/column-first/int64.zarr/.zarray
  inst/extdata/zarr_examples/column-first/int8.zarr/.zarray
  inst/extdata/zarr_examples/column-first/string.zarr/.zarray
  inst/extdata/zarr_examples/column-first/uint16.zarr/.zarray
  inst/extdata/zarr_examples/column-first/uint32.zarr/.zarray
  inst/extdata/zarr_examples/column-first/uint64.zarr/.zarray
  inst/extdata/zarr_examples/column-first/uint8.zarr/.zarray
  inst/extdata/zarr_examples/column-first/vlenUTF8.zarr/.zarray
  inst/extdata/zarr_examples/compression/bzip2.zarr/.zarray
  inst/extdata/zarr_examples/compression/lz4.zarr/.zarray
  inst/extdata/zarr_examples/compression/lzma.zarr/.zarray
  inst/extdata/zarr_examples/compression/zlib.zarr/.zarray
  inst/extdata/zarr_examples/compression/zstd.zarr/.zarray
  inst/extdata/zarr_examples/fill-values/double-inf.zarr/.zarray
  inst/extdata/zarr_examples/fill-values/double-neginf.zarr/.zarray
  inst/extdata/zarr_examples/row-first/float16.zarr/.zarray
  inst/extdata/zarr_examples/row-first/float32.zarr/.zarray
  inst/extdata/zarr_examples/row-first/float64.zarr/.zarray
  inst/extdata/zarr_examples/row-first/int16.zarr/.zarray
  inst/extdata/zarr_examples/row-first/int32.zarr/.zarray
  inst/extdata/zarr_examples/row-first/int64.zarr/.zarray
  inst/extdata/zarr_examples/row-first/int8.zarr/.zarray
  inst/extdata/zarr_examples/row-first/string.zarr/.zarray
  inst/extdata/zarr_examples/row-first/uint32.zarr/.zarray
  inst/extdata/zarr_examples/row-first/uint64.zarr/.zarray
  inst/extdata/zarr_examples/row-first/uint8.zarr/.zarray
These were most likely included in error. See section ‘Package
structure’ in the ‘Writing R Extensions’ manual.
* checking for portable file names ... OK
* checking for sufficient/correct file permissions ... OK
* checking whether package ‘Rarr’ can be installed ... OK
* used C compiler: ‘gcc (Ubuntu 13.3.0-6ubuntu2~24.04) 13.3.0’
* checking installed package size ... OK
* checking package directory ... OK
* checking ‘build’ directory ... OK
* checking DESCRIPTION meta-information ... OK
* checking top-level files ... OK
* checking for left-over files ... OK
* checking index information ... OK
* checking package subdirectories ... OK
* checking code files for non-ASCII characters ... OK
* checking R files for syntax errors ... OK
* checking whether the package can be loaded ... OK
* checking whether the package can be loaded with stated dependencies ... OK
* checking whether the package can be unloaded cleanly ... OK
* checking whether the namespace can be loaded with stated dependencies ... OK
* checking whether the namespace can be unloaded cleanly ... OK
* checking loading without being on the library search path ... OK
* checking dependencies in R code ... OK
* checking S3 generic/method consistency ... OK
* checking replacement functions ... OK
* checking foreign function calls ... OK
* checking R code for possible problems ... OK
* checking Rd files ... OK
* checking Rd metadata ... OK
* checking Rd cross-references ... NOTE
Found the following Rd file(s) with Rd \link{} targets missing package
anchors:
  ZarrRealizationSink.Rd: RealizationSink-class
Please provide package anchors for all Rd \link{} targets not in the
package itself and the base packages.
* checking for missing documentation entries ... OK
* checking for code/documentation mismatches ... OK
* checking Rd \usage sections ... OK
* checking Rd contents ... OK
* checking for unstated dependencies in examples ... OK
* checking line endings in shell scripts ... OK
* checking line endings in C/C++/Fortran sources/headers ... OK
* checking line endings in Makefiles ... OK
* checking compilation flags in Makevars ... OK
* checking for GNU extensions in Makefiles ... INFO
GNU make is a SystemRequirements.
* checking for portable use of $(BLAS_LIBS) and $(LAPACK_LIBS) ... OK
* checking use of PKG_*FLAGS in Makefiles ... OK
* checking include directives in Makefiles ... OK
* checking compiled code ... NOTE
Note: information on .o files is not available
* checking files in ‘vignettes’ ... OK
* checking examples ... OK
* checking for unstated dependencies in ‘tests’ ... OK
* checking tests ...
  Running ‘tinytest.R’
 OK
* checking for unstated dependencies in vignettes ... OK
* checking package vignettes ... OK
* checking re-building of vignette outputs ... OK
* checking PDF version of manual ... OK
* DONE

Status: 3 NOTEs
See
  ‘/home/biocbuild/bbs-3.21-bioc/meat/Rarr.Rcheck/00check.log’
for details.


Installation output

Rarr.Rcheck/00install.out

##############################################################################
##############################################################################
###
### Running command:
###
###   /home/biocbuild/bbs-3.21-bioc/R/bin/R CMD INSTALL Rarr
###
##############################################################################
##############################################################################


* installing to library ‘/home/biocbuild/bbs-3.21-bioc/R/site-library’
* installing *source* package ‘Rarr’ ...
** this is package ‘Rarr’ version ‘1.7.1’
** using staged installation
NO_RLIB=
R_CPPFLAGS=-I/home/biocbuild/bbs-3.21-bioc/R/include
configure: is Bioc build machine
configure: configuring the Zstd filter...
configure: compiling bundled Zstd library
configure: configuring the BLOSC filter...
configure: compiling bundled BLOSC library
checking whether C compiler accepts -msse2... no
configure: Bioc build machine; disabling MAVX2
checking for gcc __builtin_cpu_init function... (cached) true
checking for x86 sse2 instruction support... yes
configure: creating ./config.status
config.status: creating src/Makevars
config.status: creating src/compression_tools/blosc/lib/blosc-1.20.1/Makefile
config.status: creating src/compression_tools/blosc/Makefile
config.status: creating src/compression_tools/blosc/lib/snappy-1.1.1/Makefile
** libs
using C compiler: ‘gcc (Ubuntu 13.3.0-6ubuntu2~24.04) 13.3.0’
gcc -I"/home/biocbuild/bbs-3.21-bioc/R/include" -DNDEBUG -I/usr/local/include  -I/usr/local/include   -g -O2 -fpic  -g -O2  -c Rarr.c -o Rarr.o
gcc -I"/home/biocbuild/bbs-3.21-bioc/R/include" -DNDEBUG -I/usr/local/include  -I/usr/local/include   -g -O2 -fpic  -g -O2  -c bit64_conversion.c -o bit64_conversion.o
gcc -I"/home/biocbuild/bbs-3.21-bioc/R/include" -DNDEBUG -I/usr/local/include  -I/usr/local/include   -g -O2 -fpic  -g -O2  -c compress.c -o compress.o
gcc -I"/home/biocbuild/bbs-3.21-bioc/R/include" -DNDEBUG -I/usr/local/include  -I/usr/local/include   -g -O2 -fpic  -g -O2  -c decompress.c -o decompress.o
gcc -I"/home/biocbuild/bbs-3.21-bioc/R/include" -DNDEBUG -I/usr/local/include  -I/usr/local/include   -g -O2 -fpic  -g -O2  -c float16_conversion.c -o float16_conversion.o
gcc -I"/home/biocbuild/bbs-3.21-bioc/R/include" -DNDEBUG -I/usr/local/include  -I/usr/local/include   -g -O2 -fpic  -g -O2  -c type_conversion.c -o type_conversion.o
make -C compression_tools/zstd
make[1]: Entering directory '/home/biocbuild/bbs-3.21-bioc/meat/Rarr/src/compression_tools/zstd'
gcc -g -O2 -fpic -I. -I./common -DXXH_NAMESPACE=ZSTD_ -DNDEBUG -DZSTD_DISABLE_ASM -c common/debug.c -o common/debug.o
gcc -g -O2 -fpic -I. -I./common -DXXH_NAMESPACE=ZSTD_ -DNDEBUG -DZSTD_DISABLE_ASM -c common/entropy_common.c -o common/entropy_common.o
gcc -g -O2 -fpic -I. -I./common -DXXH_NAMESPACE=ZSTD_ -DNDEBUG -DZSTD_DISABLE_ASM -c common/error_private.c -o common/error_private.o
gcc -g -O2 -fpic -I. -I./common -DXXH_NAMESPACE=ZSTD_ -DNDEBUG -DZSTD_DISABLE_ASM -c common/fse_decompress.c -o common/fse_decompress.o
gcc -g -O2 -fpic -I. -I./common -DXXH_NAMESPACE=ZSTD_ -DNDEBUG -DZSTD_DISABLE_ASM -c common/pool.c -o common/pool.o -o common/pool.o
gcc -g -O2 -fpic -I. -I./common -DXXH_NAMESPACE=ZSTD_ -DNDEBUG -DZSTD_DISABLE_ASM -c common/threading.c -o common/threading.o
gcc -g -O2 -fpic -I. -I./common -DXXH_NAMESPACE=ZSTD_ -DNDEBUG -DZSTD_DISABLE_ASM -c common/xxhash.c -o common/xxhash.o
gcc -g -O2 -fpic -I. -I./common -DXXH_NAMESPACE=ZSTD_ -DNDEBUG -DZSTD_DISABLE_ASM -c common/zstd_common.c -o common/zstd_common.o
gcc -g -O2 -fpic -I. -I./common -DXXH_NAMESPACE=ZSTD_ -DNDEBUG -DZSTD_DISABLE_ASM -c compress/fse_compress.c -o compress/fse_compress.o
gcc -g -O2 -fpic -I. -I./common -DXXH_NAMESPACE=ZSTD_ -DNDEBUG -DZSTD_DISABLE_ASM -c compress/hist.c -o compress/hist.o
gcc -g -O2 -fpic -I. -I./common -DXXH_NAMESPACE=ZSTD_ -DNDEBUG -DZSTD_DISABLE_ASM -c compress/huf_compress.c -o compress/huf_compress.o
gcc -g -O2 -fpic -I. -I./common -DXXH_NAMESPACE=ZSTD_ -DNDEBUG -DZSTD_DISABLE_ASM -c compress/zstd_compress.c -o compress/zstd_compress.o
gcc -g -O2 -fpic -I. -I./common -DXXH_NAMESPACE=ZSTD_ -DNDEBUG -DZSTD_DISABLE_ASM -c compress/zstd_compress_literals.c -o compress/zstd_compress_literals.o
gcc -g -O2 -fpic -I. -I./common -DXXH_NAMESPACE=ZSTD_ -DNDEBUG -DZSTD_DISABLE_ASM -c compress/zstd_compress_sequences.c -o compress/zstd_compress_sequences.o
gcc -g -O2 -fpic -I. -I./common -DXXH_NAMESPACE=ZSTD_ -DNDEBUG -DZSTD_DISABLE_ASM -c compress/zstd_compress_superblock.c -o compress/zstd_compress_superblock.o
gcc -g -O2 -fpic -I. -I./common -DXXH_NAMESPACE=ZSTD_ -DNDEBUG -DZSTD_DISABLE_ASM -c compress/zstd_double_fast.c -o compress/zstd_double_fast.o
gcc -g -O2 -fpic -I. -I./common -DXXH_NAMESPACE=ZSTD_ -DNDEBUG -DZSTD_DISABLE_ASM -c compress/zstd_fast.c -o compress/zstd_fast.o
gcc -g -O2 -fpic -I. -I./common -DXXH_NAMESPACE=ZSTD_ -DNDEBUG -DZSTD_DISABLE_ASM -c compress/zstd_lazy.c -o compress/zstd_lazy.o
gcc -g -O2 -fpic -I. -I./common -DXXH_NAMESPACE=ZSTD_ -DNDEBUG -DZSTD_DISABLE_ASM -c compress/zstd_ldm.c -o compress/zstd_ldm.o
gcc -g -O2 -fpic -I. -I./common -DXXH_NAMESPACE=ZSTD_ -DNDEBUG -DZSTD_DISABLE_ASM -c compress/zstd_opt.c -o compress/zstd_opt.o
gcc -g -O2 -fpic -I. -I./common -DXXH_NAMESPACE=ZSTD_ -DNDEBUG -DZSTD_DISABLE_ASM -c compress/zstdmt_compress.c -o compress/zstdmt_compress.o
gcc -g -O2 -fpic -I. -I./common -DXXH_NAMESPACE=ZSTD_ -DNDEBUG -DZSTD_DISABLE_ASM -c decompress/huf_decompress.c -o decompress/huf_decompress.o
gcc -g -O2 -fpic -I. -I./common -DXXH_NAMESPACE=ZSTD_ -DNDEBUG -DZSTD_DISABLE_ASM -c decompress/zstd_ddict.c -o decompress/zstd_ddict.o
gcc -g -O2 -fpic -I. -I./common -DXXH_NAMESPACE=ZSTD_ -DNDEBUG -DZSTD_DISABLE_ASM -c decompress/zstd_decompress.c -o decompress/zstd_decompress.o
gcc -g -O2 -fpic -I. -I./common -DXXH_NAMESPACE=ZSTD_ -DNDEBUG -DZSTD_DISABLE_ASM -c decompress/zstd_decompress_block.c -o decompress/zstd_decompress_block.o
rm -f libzstd.a
ar cq libzstd.a common/debug.o common/entropy_common.o common/error_private.o common/fse_decompress.o common/pool.o common/threading.o common/xxhash.o common/zstd_common.o compress/fse_compress.o compress/hist.o compress/huf_compress.o compress/zstd_compress.o compress/zstd_compress_literals.o compress/zstd_compress_sequences.o compress/zstd_compress_superblock.o compress/zstd_double_fast.o compress/zstd_fast.o compress/zstd_lazy.o compress/zstd_ldm.o compress/zstd_opt.o compress/zstdmt_compress.o decompress/huf_decompress.o decompress/zstd_ddict.o decompress/zstd_decompress.o decompress/zstd_decompress_block.o
ranlib libzstd.a
make[1]: Leaving directory '/home/biocbuild/bbs-3.21-bioc/meat/Rarr/src/compression_tools/zstd'
make -C compression_tools/blosc
make[1]: Entering directory '/home/biocbuild/bbs-3.21-bioc/meat/Rarr/src/compression_tools/blosc'
make -C lib/snappy-1.1.1
make[2]: Entering directory '/home/biocbuild/bbs-3.21-bioc/meat/Rarr/src/compression_tools/blosc/lib/snappy-1.1.1'
g++ -std=gnu++17 -g -O2 -fpic -I/usr/local/include -I/home/biocbuild/bbs-3.21-bioc/R/include -DUSING_R  -c snappy.cc
g++ -std=gnu++17 -g -O2 -fpic -I/usr/local/include -I/home/biocbuild/bbs-3.21-bioc/R/include -DUSING_R  -c snappy-c.cc
g++ -std=gnu++17 -g -O2 -fpic -I/usr/local/include -I/home/biocbuild/bbs-3.21-bioc/R/include -DUSING_R  -c snappy-sinksource.cc
g++ -std=gnu++17 -g -O2 -fpic -I/usr/local/include -I/home/biocbuild/bbs-3.21-bioc/R/include -DUSING_R  -c snappy-stubs-internal.cc
make[2]: Leaving directory '/home/biocbuild/bbs-3.21-bioc/meat/Rarr/src/compression_tools/blosc/lib/snappy-1.1.1'
make -C lib/lz4-1.9.2
make[2]: Entering directory '/home/biocbuild/bbs-3.21-bioc/meat/Rarr/src/compression_tools/blosc/lib/lz4-1.9.2'
gcc -g -O2 -fpic -DNLZ4_DEBUG -c lz4.c
gcc -g -O2 -fpic -DNLZ4_DEBUG -c lz4hc.c
make[2]: Leaving directory '/home/biocbuild/bbs-3.21-bioc/meat/Rarr/src/compression_tools/blosc/lib/lz4-1.9.2'
make -C lib/blosc-1.20.1 all
make[2]: Entering directory '/home/biocbuild/bbs-3.21-bioc/meat/Rarr/src/compression_tools/blosc/lib/blosc-1.20.1'
gcc -g -O2 -fpic -I/usr/local/include -I/home/biocbuild/bbs-3.21-bioc/R/include -I../lz4-1.9.2 -I../snappy-1.1.1 -I../../../zstd   -DUSING_R  -c bitshuffle-generic.c
gcc -g -O2 -fpic -I/usr/local/include -I/home/biocbuild/bbs-3.21-bioc/R/include -I../lz4-1.9.2 -I../snappy-1.1.1 -I../../../zstd   -DUSING_R  -c shuffle-generic.c
gcc -g -O2 -fpic -I/usr/local/include -I/home/biocbuild/bbs-3.21-bioc/R/include -I../lz4-1.9.2 -I../snappy-1.1.1 -I../../../zstd   -DUSING_R    -c shuffle.c
gcc -g -O2 -fpic -I/usr/local/include -I/home/biocbuild/bbs-3.21-bioc/R/include -I../lz4-1.9.2 -I../snappy-1.1.1 -I../../../zstd   -DUSING_R  -c blosclz.c
gcc -g -O2 -fpic -I/usr/local/include -I/home/biocbuild/bbs-3.21-bioc/R/include -I../lz4-1.9.2 -I../snappy-1.1.1 -I../../../zstd   -DUSING_R  -c blosc.c
gcc -g -O2 -fpic -I/usr/local/include -I/home/biocbuild/bbs-3.21-bioc/R/include -I../lz4-1.9.2 -I../snappy-1.1.1 -I../../../zstd   -DUSING_R  -c fastcopy.c
make[2]: Leaving directory '/home/biocbuild/bbs-3.21-bioc/meat/Rarr/src/compression_tools/blosc/lib/blosc-1.20.1'
rm -f libblosc.a
ar cq libblosc.a lib/blosc-1.20.1/blosc.o lib/blosc-1.20.1/bitshuffle-generic.o lib/blosc-1.20.1/blosclz.o lib/blosc-1.20.1/shuffle.o lib/blosc-1.20.1/fastcopy.o lib/blosc-1.20.1/shuffle-generic.o lib/snappy-1.1.1/snappy.o lib/snappy-1.1.1/snappy-c.o lib/snappy-1.1.1/snappy-sinksource.o lib/snappy-1.1.1/snappy-stubs-internal.o lib/lz4-1.9.2/lz4.o lib/lz4-1.9.2/lz4hc.o
ranlib libblosc.a
make[1]: Leaving directory '/home/biocbuild/bbs-3.21-bioc/meat/Rarr/src/compression_tools/blosc'
gcc -shared -L/home/biocbuild/bbs-3.21-bioc/R/lib -L/usr/local/lib -o Rarr.so Rarr.o bit64_conversion.o compress.o decompress.o float16_conversion.o type_conversion.o ./compression_tools/blosc/libblosc.a ./compression_tools/zstd/libzstd.a -L/home/biocbuild/bbs-3.21-bioc/R/lib -lR
installing to /home/biocbuild/bbs-3.21-bioc/R/site-library/00LOCK-Rarr/00new/Rarr/libs
** R
** inst
** byte-compile and prepare package for lazy loading
** help
*** installing help indices
** building package indices
** installing vignettes
** testing if installed package can be loaded from temporary location
** checking absolute paths in shared objects and dynamic libraries
** testing if installed package can be loaded from final location
** testing if installed package keeps a record of temporary installation path
* DONE (Rarr)

Tests output

Rarr.Rcheck/tests/tinytest.Rout


R Under development (unstable) (2025-01-20 r87609) -- "Unsuffered Consequences"
Copyright (C) 2025 The R Foundation for Statistical Computing
Platform: x86_64-pc-linux-gnu

R is free software and comes with ABSOLUTELY NO WARRANTY.
You are welcome to redistribute it under certain conditions.
Type 'license()' or 'licence()' for distribution details.

R is a collaborative project with many contributors.
Type 'contributors()' for more information and
'citation()' on how to cite R or R packages in publications.

Type 'demo()' for some demos, 'help()' for on-line help, or
'help.start()' for an HTML browser interface to help.
Type 'q()' to quit R.

> if (requireNamespace("tinytest", quietly = TRUE)) {
+   tinytest::test_package("Rarr")
+ }
Loading required package: DelayedArray
Loading required package: stats4
Loading required package: Matrix
Loading required package: BiocGenerics
Loading required package: generics

Attaching package: 'generics'

The following objects are masked from 'package:base':

    as.difftime, as.factor, as.ordered, intersect, is.element, setdiff,
    setequal, union


Attaching package: 'BiocGenerics'

The following objects are masked from 'package:stats':

    IQR, mad, sd, var, xtabs

The following objects are masked from 'package:base':

    Filter, Find, Map, Position, Reduce, anyDuplicated, aperm, append,
    as.data.frame, basename, cbind, colnames, dirname, do.call,
    duplicated, eval, evalq, get, grep, grepl, is.unsorted, lapply,
    mapply, match, mget, order, paste, pmax, pmax.int, pmin, pmin.int,
    rank, rbind, rownames, sapply, saveRDS, table, tapply, unique,
    unsplit, which.max, which.min

Loading required package: MatrixGenerics
Loading required package: matrixStats

Attaching package: 'MatrixGenerics'

The following objects are masked from 'package:matrixStats':

    colAlls, colAnyNAs, colAnys, colAvgsPerRowSet, colCollapse,
    colCounts, colCummaxs, colCummins, colCumprods, colCumsums,
    colDiffs, colIQRDiffs, colIQRs, colLogSumExps, colMadDiffs,
    colMads, colMaxs, colMeans2, colMedians, colMins, colOrderStats,
    colProds, colQuantiles, colRanges, colRanks, colSdDiffs, colSds,
    colSums2, colTabulates, colVarDiffs, colVars, colWeightedMads,
    colWeightedMeans, colWeightedMedians, colWeightedSds,
    colWeightedVars, rowAlls, rowAnyNAs, rowAnys, rowAvgsPerColSet,
    rowCollapse, rowCounts, rowCummaxs, rowCummins, rowCumprods,
    rowCumsums, rowDiffs, rowIQRDiffs, rowIQRs, rowLogSumExps,
    rowMadDiffs, rowMads, rowMaxs, rowMeans2, rowMedians, rowMins,
    rowOrderStats, rowProds, rowQuantiles, rowRanges, rowRanks,
    rowSdDiffs, rowSds, rowSums2, rowTabulates, rowVarDiffs, rowVars,
    rowWeightedMads, rowWeightedMeans, rowWeightedMedians,
    rowWeightedSds, rowWeightedVars

Loading required package: S4Vectors

Attaching package: 'S4Vectors'

The following objects are masked from 'package:Matrix':

    expand, unname

The following object is masked from 'package:utils':

    findMatches

The following objects are masked from 'package:base':

    I, expand.grid, unname

Loading required package: IRanges
Loading required package: S4Arrays
Loading required package: abind

Attaching package: 'S4Arrays'

The following object is masked from 'package:abind':

    abind

The following object is masked from 'package:base':

    rowsum

Loading required package: SparseArray

Attaching package: 'DelayedArray'

The following objects are masked from 'package:base':

    apply, scale, sweep


test_ZarrArray-class.R........    0 tests    
test_ZarrArray-class.R........    0 tests    
test_ZarrArray-class.R........    0 tests    
test_ZarrArray-class.R........    0 tests    
test_ZarrArray-class.R........    1 tests OK 
test_ZarrArray-class.R........    2 tests OK 
test_ZarrArray-class.R........    3 tests OK 
test_ZarrArray-class.R........    4 tests OK 
test_ZarrArray-class.R........    5 tests OK 0.3s

test_argument_handling.R......    1 tests OK 3ms

test_boolean.R................    0 tests    
test_boolean.R................    0 tests    
test_boolean.R................    1 tests OK 
test_boolean.R................    2 tests OK 
test_boolean.R................    3 tests OK 
test_boolean.R................    4 tests OK 
test_boolean.R................    5 tests OK 7ms

test_datatypes.R..............    1 tests OK 
test_datatypes.R..............    2 tests OK 
test_datatypes.R..............    3 tests OK 
test_datatypes.R..............    4 tests OK 
test_datatypes.R..............    5 tests OK 
test_datatypes.R..............    6 tests OK 
test_datatypes.R..............    7 tests OK 
test_datatypes.R..............    8 tests OK 
test_datatypes.R..............    9 tests OK 
test_datatypes.R..............   10 tests OK 
test_datatypes.R..............   11 tests OK 
test_datatypes.R..............   12 tests OK 
test_datatypes.R..............   13 tests OK 
test_datatypes.R..............   14 tests OK 
test_datatypes.R..............   15 tests OK 
test_datatypes.R..............   16 tests OK 7ms

test_decompression.R..........    0 tests    
test_decompression.R..........   15 tests OK 18ms

test_fill_values.R............    0 tests    
test_fill_values.R............    0 tests    
test_fill_values.R............   10 tests OK 11ms

test_float16.R................    0 tests    
test_float16.R................    0 tests    
test_float16.R................    0 tests    
test_float16.R................    1 tests OK 
test_float16.R................    2 tests OK 
test_float16.R................    3 tests OK 
test_float16.R................    4 tests OK 
test_float16.R................    5 tests OK 
test_float16.R................    6 tests OK 
test_float16.R................    7 tests OK 
test_float16.R................    8 tests OK 
test_float16.R................    9 tests OK 14ms

test_float32.R................    0 tests    
test_float32.R................    0 tests    
test_float32.R................    0 tests    
test_float32.R................    1 tests OK 
test_float32.R................    2 tests OK 
test_float32.R................    3 tests OK 
test_float32.R................    4 tests OK 
test_float32.R................    5 tests OK 
test_float32.R................    6 tests OK 
test_float32.R................    7 tests OK 12ms

test_float64.R................    0 tests    
test_float64.R................    0 tests    
test_float64.R................    0 tests    
test_float64.R................    1 tests OK 
test_float64.R................    2 tests OK 
test_float64.R................    3 tests OK 
test_float64.R................    4 tests OK 
test_float64.R................    5 tests OK 
test_float64.R................    6 tests OK 
test_float64.R................    7 tests OK 12ms

test_int16.R..................    0 tests    
test_int16.R..................    0 tests    
test_int16.R..................    0 tests    
test_int16.R..................    1 tests OK 
test_int16.R..................    2 tests OK 
test_int16.R..................    3 tests OK 
test_int16.R..................    4 tests OK 
test_int16.R..................    5 tests OK 
test_int16.R..................    6 tests OK 
test_int16.R..................    7 tests OK 11ms

test_int32.R..................    0 tests    
test_int32.R..................    0 tests    
test_int32.R..................    0 tests    
test_int32.R..................    1 tests OK 
test_int32.R..................    2 tests OK 
test_int32.R..................    3 tests OK 
test_int32.R..................    4 tests OK 
test_int32.R..................    5 tests OK 
test_int32.R..................    6 tests OK 
test_int32.R..................    7 tests OK 47ms

test_int64.R..................    0 tests    
test_int64.R..................    0 tests    
test_int64.R..................    0 tests    
test_int64.R..................    1 tests OK 
test_int64.R..................    2 tests OK 
test_int64.R..................    3 tests OK 
test_int64.R..................    4 tests OK 
test_int64.R..................    5 tests OK 
test_int64.R..................    6 tests OK 
test_int64.R..................    7 tests OK 
test_int64.R..................    8 tests OK 
test_int64.R..................    9 tests OK 
test_int64.R..................   10 tests OK 
test_int64.R..................   11 tests OK 
test_int64.R..................   12 tests OK 
test_int64.R..................   13 tests OK 
test_int64.R..................   14 tests OK 
test_int64.R..................   15 tests OK 21ms

test_int8.R...................    0 tests    
test_int8.R...................    0 tests    
test_int8.R...................    0 tests    
test_int8.R...................    1 tests OK 
test_int8.R...................    2 tests OK 
test_int8.R...................    3 tests OK 
test_int8.R...................    4 tests OK 
test_int8.R...................    5 tests OK 
test_int8.R...................    6 tests OK 
test_int8.R...................    7 tests OK 11ms

test_normalize_path.R.........    0 tests    
test_normalize_path.R.........    0 tests    
test_normalize_path.R.........    5 tests OK 3ms

test_read_metadata.R..........    0 tests    
test_read_metadata.R..........    0 tests    
test_read_metadata.R..........    1 tests OK 
test_read_metadata.R..........    2 tests OK 
test_read_metadata.R..........    3 tests OK 7ms

test_roundtrip.R..............    0 tests    
test_roundtrip.R..............    1 tests OK 
test_roundtrip.R..............    2 tests OK 
test_roundtrip.R..............    3 tests OK 
test_roundtrip.R..............    3 tests OK 
test_roundtrip.R..............    3 tests OK 
test_roundtrip.R..............    4 tests OK 
test_roundtrip.R..............    5 tests OK 
test_roundtrip.R..............    5 tests OK 
test_roundtrip.R..............    6 tests OK 
test_roundtrip.R..............    7 tests OK 
test_roundtrip.R..............    7 tests OK 
test_roundtrip.R..............    8 tests OK 
test_roundtrip.R..............    9 tests OK 
test_roundtrip.R..............    9 tests OK 
test_roundtrip.R..............   10 tests OK 
test_roundtrip.R..............   11 tests OK 
test_roundtrip.R..............   11 tests OK 
test_roundtrip.R..............   12 tests OK 
test_roundtrip.R..............   13 tests OK 
test_roundtrip.R..............   13 tests OK 
test_roundtrip.R..............   14 tests OK 
test_roundtrip.R..............   15 tests OK 
test_roundtrip.R..............   15 tests OK 
test_roundtrip.R..............   16 tests OK 
test_roundtrip.R..............   17 tests OK 
test_roundtrip.R..............   17 tests OK 
test_roundtrip.R..............   18 tests OK 
test_roundtrip.R..............   19 tests OK 
test_roundtrip.R..............   19 tests OK 
test_roundtrip.R..............   20 tests OK 
test_roundtrip.R..............   21 tests OK 
test_roundtrip.R..............   21 tests OK 
test_roundtrip.R..............   22 tests OK 
test_roundtrip.R..............   23 tests OK 0.7s

test_s3.R.....................    0 tests    
test_s3.R.....................    0 tests    Loading required package: mockery

test_s3.R.....................    1 tests OK 2.1s

test_string.R.................    0 tests    
test_string.R.................    0 tests    
test_string.R.................    0 tests    
test_string.R.................    1 tests OK 
test_string.R.................    2 tests OK 
test_string.R.................    3 tests OK 
test_string.R.................    4 tests OK 
test_string.R.................    5 tests OK 
test_string.R.................    6 tests OK 
test_string.R.................    7 tests OK 
test_string.R.................    7 tests OK 
test_string.R.................    8 tests OK 
test_string.R.................    9 tests OK 
test_string.R.................    9 tests OK 
test_string.R.................   10 tests OK 
test_string.R.................   11 tests OK 
test_string.R.................   11 tests OK 
test_string.R.................   11 tests OK 
test_string.R.................   12 tests OK 
test_string.R.................   13 tests OK 
test_string.R.................   14 tests OK 
test_string.R.................   14 tests OK 
test_string.R.................   15 tests OK 
test_string.R.................   16 tests OK 
test_string.R.................   17 tests OK 
test_string.R.................   17 tests OK 
test_string.R.................   17 tests OK 
test_string.R.................   17 tests OK 
test_string.R.................   17 tests OK 
test_string.R.................   17 tests OK 
test_string.R.................   17 tests OK 
test_string.R.................   18 tests OK 0.3s

test_uint16.R.................    0 tests    
test_uint16.R.................    0 tests    
test_uint16.R.................    1 tests OK 
test_uint16.R.................    2 tests OK 
test_uint16.R.................    3 tests OK 
test_uint16.R.................    4 tests OK 
test_uint16.R.................    5 tests OK 7ms

test_uint32.R.................    0 tests    
test_uint32.R.................    0 tests    
test_uint32.R.................    0 tests    
test_uint32.R.................    1 tests OK 
test_uint32.R.................    2 tests OK 
test_uint32.R.................    3 tests OK 
test_uint32.R.................    4 tests OK 
test_uint32.R.................    5 tests OK 
test_uint32.R.................    6 tests OK 
test_uint32.R.................    7 tests OK 
test_uint32.R.................    8 tests OK 
test_uint32.R.................    9 tests OK 
test_uint32.R.................   10 tests OK 
test_uint32.R.................   11 tests OK 17ms

test_uint64.R.................    0 tests    
test_uint64.R.................    0 tests    
test_uint64.R.................    1 tests OK 
test_uint64.R.................    2 tests OK 
test_uint64.R.................    3 tests OK 
test_uint64.R.................    4 tests OK 
test_uint64.R.................    5 tests OK 
test_uint64.R.................    6 tests OK 
test_uint64.R.................    7 tests OK 9ms

test_uint8.R..................    0 tests    
test_uint8.R..................    0 tests    
test_uint8.R..................    1 tests OK 
test_uint8.R..................    2 tests OK 
test_uint8.R..................    3 tests OK 
test_uint8.R..................    4 tests OK 
test_uint8.R..................    5 tests OK 6ms

test_update_zarr.R............    0 tests    
test_update_zarr.R............    0 tests    
test_update_zarr.R............    0 tests    
test_update_zarr.R............    1 tests OK 
test_update_zarr.R............    2 tests OK 
test_update_zarr.R............    3 tests OK 
test_update_zarr.R............    3 tests OK 
test_update_zarr.R............    4 tests OK 
test_update_zarr.R............    5 tests OK 
test_update_zarr.R............    6 tests OK 
test_update_zarr.R............    6 tests OK 
test_update_zarr.R............    6 tests OK 
test_update_zarr.R............    6 tests OK 
test_update_zarr.R............    6 tests OK 
test_update_zarr.R............    7 tests OK 
test_update_zarr.R............    8 tests OK 20ms

test_url_parsing.R............    0 tests    
test_url_parsing.R............   10 tests OK 
test_url_parsing.R............   15 tests OK 
test_url_parsing.R............   16 tests OK 
test_url_parsing.R............   17 tests OK 
test_url_parsing.R............   18 tests OK 6ms

test_utils.R..................    1 tests OK 
test_utils.R..................    2 tests OK 
test_utils.R..................    3 tests OK 2ms
All ok, 218 results (3.6s)
> 
> proc.time()
   user  system elapsed 
  6.807   0.484   9.293 

Example timings

Rarr.Rcheck/Rarr-Ex.timings

nameusersystemelapsed
compressors0.1330.0090.142
create_empty_zarr_array0.0020.0000.002
read_zarr_array0.0110.0310.044
update_zarr_array0.0050.0020.009
write_zarr_array0.0040.0010.005
zarr_overview0.0030.0010.004