| Back to Build/check report for BioC 3.23: simplified long |
|
This page was generated on 2025-11-06 11:32 -0500 (Thu, 06 Nov 2025).
| Hostname | OS | Arch (*) | R version | Installed pkgs |
|---|---|---|---|---|
| nebbiolo1 | Linux (Ubuntu 24.04.3 LTS) | x86_64 | R Under development (unstable) (2025-10-20 r88955) -- "Unsuffered Consequences" | 4818 |
| Click on any hostname to see more info about the system (e.g. compilers) (*) as reported by 'uname -p', except on Windows and Mac OS X | ||||
| Package 1776/2323 | Hostname | OS / Arch | INSTALL | BUILD | CHECK | BUILD BIN | ||||||||
| RImmPort 1.39.0 (landing page) Zicheng Hu
| nebbiolo1 | Linux (Ubuntu 24.04.3 LTS) / x86_64 | OK | OK | OK | |||||||||
|
To the developers/maintainers of the RImmPort package: - Allow up to 24 hours (and sometimes 48 hours) for your latest push to git@git.bioconductor.org:packages/RImmPort.git to reflect on this report. See Troubleshooting Build Report for more information. - Use the following Renviron settings to reproduce errors and warnings. - If 'R CMD check' started to fail recently on the Linux builder(s) over a missing dependency, add the missing dependency to 'Suggests:' in your DESCRIPTION file. See Renviron.bioc for more information. |
| Package: RImmPort |
| Version: 1.39.0 |
| Command: /home/biocbuild/bbs-3.23-bioc/R/bin/R CMD check --install=check:RImmPort.install-out.txt --library=/home/biocbuild/bbs-3.23-bioc/R/site-library --timings RImmPort_1.39.0.tar.gz |
| StartedAt: 2025-11-06 03:11:41 -0500 (Thu, 06 Nov 2025) |
| EndedAt: 2025-11-06 03:12:23 -0500 (Thu, 06 Nov 2025) |
| EllapsedTime: 42.2 seconds |
| RetCode: 0 |
| Status: OK |
| CheckDir: RImmPort.Rcheck |
| Warnings: 0 |
##############################################################################
##############################################################################
###
### Running command:
###
### /home/biocbuild/bbs-3.23-bioc/R/bin/R CMD check --install=check:RImmPort.install-out.txt --library=/home/biocbuild/bbs-3.23-bioc/R/site-library --timings RImmPort_1.39.0.tar.gz
###
##############################################################################
##############################################################################
* using log directory ‘/home/biocbuild/bbs-3.23-bioc/meat/RImmPort.Rcheck’
* using R Under development (unstable) (2025-10-20 r88955)
* using platform: x86_64-pc-linux-gnu
* R was compiled by
gcc (Ubuntu 13.3.0-6ubuntu2~24.04) 13.3.0
GNU Fortran (Ubuntu 13.3.0-6ubuntu2~24.04) 13.3.0
* running under: Ubuntu 24.04.3 LTS
* using session charset: UTF-8
* checking for file ‘RImmPort/DESCRIPTION’ ... OK
* checking extension type ... Package
* this is package ‘RImmPort’ version ‘1.39.0’
* checking package namespace information ... OK
* checking package dependencies ... OK
* checking if this is a source package ... OK
* checking if there is a namespace ... OK
* checking for hidden files and directories ... OK
* checking for portable file names ... OK
* checking for sufficient/correct file permissions ... OK
* checking whether package ‘RImmPort’ can be installed ... OK
* checking installed package size ... OK
* checking package directory ... OK
* checking ‘build’ directory ... OK
* checking DESCRIPTION meta-information ... OK
* checking top-level files ... OK
* checking for left-over files ... OK
* checking index information ... OK
* checking package subdirectories ... OK
* checking code files for non-ASCII characters ... OK
* checking R files for syntax errors ... OK
* checking whether the package can be loaded ... OK
* checking whether the package can be loaded with stated dependencies ... OK
* checking whether the package can be unloaded cleanly ... OK
* checking whether the namespace can be loaded with stated dependencies ... OK
* checking whether the namespace can be unloaded cleanly ... OK
* checking loading without being on the library search path ... OK
* checking dependencies in R code ... OK
* checking S3 generic/method consistency ... OK
* checking replacement functions ... OK
* checking foreign function calls ... OK
* checking R code for possible problems ... NOTE
buildNewSqliteDb: no visible global function definition for
‘dbListTables’
Undefined global functions or variables:
dbListTables
* checking Rd files ... NOTE
checkRd: (-1) SUPPDV.Rd:22-32: Lost braces
22 | The following table enumerates the values in QNAM and QLABEL variables {
| ^
checkRd: (-1) SUPPFA.Rd:23-28: Lost braces
23 | The following table enumerates the values in QNAM and QLABEL variables {
| ^
checkRd: (-1) SUPPLB.Rd:22-29: Lost braces
22 | The following table enumerates the values in QNAM and QLABEL variables {
| ^
checkRd: (-1) SUPPMH.Rd:23-30: Lost braces
23 | The following table enumerates the values in QNAM and QLABEL variables {
| ^
checkRd: (-1) SUPPPE.Rd:23-28: Lost braces
23 | The following table enumerates the values in QNAM and QLABEL variables {
| ^
checkRd: (-1) SUPPPF.Rd:22-38: Lost braces
22 | The following table enumerates the values in QNAM and QLABEL variables {
| ^
checkRd: (-1) SUPPVS.Rd:23-28: Lost braces
23 | The following table enumerates the values in QNAM and QLABEL variables {
| ^
checkRd: (-1) SUPPZA.Rd:22-39: Lost braces
22 | The following table enumerates the values in QNAM and QLABEL variables {
| ^
checkRd: (-1) SUPPZB.Rd:22-38: Lost braces
22 | The following table enumerates the values in QNAM and QLABEL variables {
| ^
checkRd: (-1) SUPPZC.Rd:22-37: Lost braces
22 | The following table enumerates the values in QNAM and QLABEL variables {
| ^
checkRd: (-1) SUPPZD.Rd:22-37: Lost braces
22 | The following table enumerates the values in QNAM and QLABEL variables {
| ^
checkRd: (-1) TS.Rd:20-41: Lost braces
20 | The following table enumerates the values in TSPARMCD and TSPARM variables {
| ^
* checking Rd metadata ... OK
* checking Rd cross-references ... OK
* checking for missing documentation entries ... OK
* checking for code/documentation mismatches ... OK
* checking Rd \usage sections ... OK
* checking Rd contents ... OK
* checking for unstated dependencies in examples ... OK
* checking sizes of PDF files under ‘inst/doc’ ...* checking files in ‘vignettes’ ... OK
* checking examples ... OK
* checking for unstated dependencies in vignettes ... OK
* checking package vignettes ... OK
* checking re-building of vignette outputs ... OK
* checking PDF version of manual ... OK
* DONE
Status: 2 NOTEs
See
‘/home/biocbuild/bbs-3.23-bioc/meat/RImmPort.Rcheck/00check.log’
for details.
RImmPort.Rcheck/00install.out
############################################################################## ############################################################################## ### ### Running command: ### ### /home/biocbuild/bbs-3.23-bioc/R/bin/R CMD INSTALL RImmPort ### ############################################################################## ############################################################################## * installing to library ‘/home/biocbuild/bbs-3.23-bioc/R/site-library’ * installing *source* package ‘RImmPort’ ... ** this is package ‘RImmPort’ version ‘1.39.0’ ** using staged installation ** R ** inst ** byte-compile and prepare package for lazy loading ** help *** installing help indices ** building package indices ** installing vignettes ** testing if installed package can be loaded from temporary location ** testing if installed package can be loaded from final location ** testing if installed package keeps a record of temporary installation path * DONE (RImmPort)
RImmPort.Rcheck/RImmPort-Ex.timings
| name | user | system | elapsed | |
| Events-class | 0.323 | 0.027 | 0.385 | |
| Findings-class | 0.198 | 0.012 | 0.212 | |
| Interventions-class | 0.161 | 0.019 | 0.182 | |
| SpecialPurpose-class | 0.188 | 0.108 | 0.296 | |
| Study-class | 0.187 | 0.021 | 0.210 | |
| TrialDesign-class | 0.204 | 0.010 | 0.216 | |
| buildNewSqliteDb | 0.001 | 0.000 | 0.001 | |
| getAssayDataOfStudies | 0.146 | 0.026 | 0.173 | |
| getDomainCode | 0.001 | 0.000 | 0.000 | |
| getDomainDataOfStudies | 0.036 | 0.003 | 0.039 | |
| getListOfAssayTypes | 0.001 | 0.000 | 0.000 | |
| getListOfDomains | 0 | 0 | 0 | |
| getListOfStudies | 0.042 | 0.004 | 0.046 | |
| getStudiesWithSpecificAssayData | 0.043 | 0.001 | 0.044 | |
| getStudiesWithSpecificDomainData | 0.036 | 0.005 | 0.041 | |
| getStudy | 0.184 | 0.012 | 0.197 | |
| loadSerializedStudyData | 0.003 | 0.002 | 0.004 | |
| mergeDomainAndSupplemental | 0.135 | 0.017 | 0.152 | |
| serialzeStudyData | 0.326 | 0.032 | 0.358 | |
| setImmPortDataSource | 0.042 | 0.002 | 0.045 | |