| Back to Multiple platform build/check report for BioC 3.22: simplified long |
|
This page was generated on 2025-08-15 12:07 -0400 (Fri, 15 Aug 2025).
| Hostname | OS | Arch (*) | R version | Installed pkgs |
|---|---|---|---|---|
| nebbiolo2 | Linux (Ubuntu 24.04.3 LTS) | x86_64 | 4.5.1 (2025-06-13) -- "Great Square Root" | 4818 |
| palomino8 | Windows Server 2022 Datacenter | x64 | 4.5.1 (2025-06-13 ucrt) -- "Great Square Root" | 4554 |
| lconway | macOS 12.7.1 Monterey | x86_64 | 4.5.1 (2025-06-13) -- "Great Square Root" | 4595 |
| kjohnson3 | macOS 13.7.7 Ventura | arm64 | 4.5.1 Patched (2025-06-14 r88325) -- "Great Square Root" | 4537 |
| taishan | Linux (openEuler 24.03 LTS) | aarch64 | 4.5.0 (2025-04-11) -- "How About a Twenty-Six" | 4535 |
| Click on any hostname to see more info about the system (e.g. compilers) (*) as reported by 'uname -p', except on Windows and Mac OS X | ||||
| Package 1479/2317 | Hostname | OS / Arch | INSTALL | BUILD | CHECK | BUILD BIN | ||||||||
| OncoSimulR 4.11.1 (landing page) Ramon Diaz-Uriarte
| nebbiolo2 | Linux (Ubuntu 24.04.3 LTS) / x86_64 | OK | OK | OK | |||||||||
| palomino8 | Windows Server 2022 Datacenter / x64 | OK | OK | OK | OK | |||||||||
| lconway | macOS 12.7.1 Monterey / x86_64 | OK | OK | OK | OK | |||||||||
| kjohnson3 | macOS 13.7.7 Ventura / arm64 | ... NOT SUPPORTED ... | ||||||||||||
| taishan | Linux (openEuler 24.03 LTS) / aarch64 | OK | TIMEOUT | skipped | ||||||||||
|
To the developers/maintainers of the OncoSimulR package: - Allow up to 24 hours (and sometimes 48 hours) for your latest push to git@git.bioconductor.org:packages/OncoSimulR.git to reflect on this report. See Troubleshooting Build Report for more information. - Use the following Renviron settings to reproduce errors and warnings. - If 'R CMD check' started to fail recently on the Linux builder(s) over a missing dependency, add the missing dependency to 'Suggests:' in your DESCRIPTION file. See Renviron.bioc for more information. |
| Package: OncoSimulR |
| Version: 4.11.1 |
| Command: F:\biocbuild\bbs-3.22-bioc\R\bin\R.exe CMD check --no-multiarch --install=check:OncoSimulR.install-out.txt --library=F:\biocbuild\bbs-3.22-bioc\R\library --no-vignettes --timings OncoSimulR_4.11.1.tar.gz |
| StartedAt: 2025-08-15 06:02:33 -0400 (Fri, 15 Aug 2025) |
| EndedAt: 2025-08-15 06:12:08 -0400 (Fri, 15 Aug 2025) |
| EllapsedTime: 574.2 seconds |
| RetCode: 0 |
| Status: OK |
| CheckDir: OncoSimulR.Rcheck |
| Warnings: 0 |
##############################################################################
##############################################################################
###
### Running command:
###
### F:\biocbuild\bbs-3.22-bioc\R\bin\R.exe CMD check --no-multiarch --install=check:OncoSimulR.install-out.txt --library=F:\biocbuild\bbs-3.22-bioc\R\library --no-vignettes --timings OncoSimulR_4.11.1.tar.gz
###
##############################################################################
##############################################################################
* using log directory 'F:/biocbuild/bbs-3.22-bioc/meat/OncoSimulR.Rcheck'
* using R version 4.5.1 (2025-06-13 ucrt)
* using platform: x86_64-w64-mingw32
* R was compiled by
gcc.exe (GCC) 14.2.0
GNU Fortran (GCC) 14.2.0
* running under: Windows Server 2022 x64 (build 20348)
* using session charset: UTF-8
* using option '--no-vignettes'
* checking for file 'OncoSimulR/DESCRIPTION' ... OK
* checking extension type ... Package
* this is package 'OncoSimulR' version '4.11.1'
* checking package namespace information ... OK
* checking package dependencies ... OK
* checking if this is a source package ... OK
* checking if there is a namespace ... OK
* checking for hidden files and directories ... NOTE
Found the following hidden files and directories:
.BBSoptions
These were most likely included in error. See section 'Package
structure' in the 'Writing R Extensions' manual.
* checking for portable file names ... OK
* checking whether package 'OncoSimulR' can be installed ... OK
* used C compiler: 'gcc.exe (GCC) 14.2.0'
* used C++ compiler: 'G__~1.EXE (GCC) 14.2.0'
* checking installed package size ... INFO
installed size is 8.4Mb
sub-directories of 1Mb or more:
libs 6.7Mb
* checking package directory ... OK
* checking 'build' directory ... OK
* checking DESCRIPTION meta-information ... OK
* checking top-level files ... OK
* checking for left-over files ... OK
* checking index information ... OK
* checking package subdirectories ... OK
* checking code files for non-ASCII characters ... OK
* checking R files for syntax errors ... OK
* checking whether the package can be loaded ... OK
* checking whether the package can be loaded with stated dependencies ... OK
* checking whether the package can be unloaded cleanly ... OK
* checking whether the namespace can be loaded with stated dependencies ... OK
* checking whether the namespace can be unloaded cleanly ... OK
* checking whether startup messages can be suppressed ... OK
* checking dependencies in R code ... OK
* checking S3 generic/method consistency ... OK
* checking replacement functions ... OK
* checking foreign function calls ... OK
* checking R code for possible problems ... OK
* checking Rd files ... OK
* checking Rd metadata ... OK
* checking Rd cross-references ... OK
* checking for missing documentation entries ... OK
* checking for code/documentation mismatches ... OK
* checking Rd \usage sections ... OK
* checking Rd contents ... OK
* checking for unstated dependencies in examples ... OK
* checking contents of 'data' directory ... OK
* checking data for non-ASCII characters ... OK
* checking data for ASCII and uncompressed saves ... OK
* checking line endings in C/C++/Fortran sources/headers ... OK
* checking line endings in Makefiles ... OK
* checking compilation flags in Makevars ... OK
* checking for GNU extensions in Makefiles ... OK
* checking for portable use of $(BLAS_LIBS) and $(LAPACK_LIBS) ... OK
* checking use of PKG_*FLAGS in Makefiles ... OK
* checking include directives in Makefiles ... OK
* checking compiled code ... NOTE
Note: information on .o files for x64 is not available
File 'F:/biocbuild/bbs-3.22-bioc/R/library/OncoSimulR/libs/x64/OncoSimulR.dll':
Found '_exit', possibly from '_exit' (C)
Found 'abort', possibly from 'abort' (C), 'runtime' (Fortran)
Found 'exit', possibly from 'exit' (C), 'stop' (Fortran)
Compiled code should not call entry points which might terminate R nor
write to stdout/stderr instead of to the console, nor use Fortran I/O
nor system RNGs nor [v]sprintf. The detected symbols are linked into
the code but might come from libraries and not actually be called.
See 'Writing portable packages' in the 'Writing R Extensions' manual.
* checking files in 'vignettes' ... OK
* checking examples ... OK
* checking for unstated dependencies in 'tests' ... OK
* checking tests ...
Running 'testthat.R'
OK
* checking for unstated dependencies in vignettes ... OK
* checking package vignettes ... OK
* checking running R code from vignettes ... SKIPPED
* checking re-building of vignette outputs ... SKIPPED
* checking PDF version of manual ... OK
* DONE
Status: 2 NOTEs
See
'F:/biocbuild/bbs-3.22-bioc/meat/OncoSimulR.Rcheck/00check.log'
for details.
OncoSimulR.Rcheck/00install.out
##############################################################################
##############################################################################
###
### Running command:
###
### F:\biocbuild\bbs-3.22-bioc\R\bin\R.exe CMD INSTALL OncoSimulR
###
##############################################################################
##############################################################################
* installing to library 'F:/biocbuild/bbs-3.22-bioc/R/library'
* installing *source* package 'OncoSimulR' ...
** this is package 'OncoSimulR' version '4.11.1'
** using staged installation
** libs
using C compiler: 'gcc.exe (GCC) 14.2.0'
using C++ compiler: 'G__~1.EXE (GCC) 14.2.0'
gcc -I"F:/biocbuild/bbs-3.22-bioc/R/include" -DNDEBUG -I'F:/biocbuild/bbs-3.22-bioc/R/library/Rcpp/include' -I"C:/rtools45/x86_64-w64-mingw32.static.posix/include" -O2 -Wall -std=gnu2x -mfpmath=sse -msse2 -mstackrealign -c FitnessLandscape/gamma.c -o FitnessLandscape/gamma.o
gcc -I"F:/biocbuild/bbs-3.22-bioc/R/include" -DNDEBUG -I'F:/biocbuild/bbs-3.22-bioc/R/library/Rcpp/include' -I"C:/rtools45/x86_64-w64-mingw32.static.posix/include" -O2 -Wall -std=gnu2x -mfpmath=sse -msse2 -mstackrealign -c FitnessLandscape/landscape.c -o FitnessLandscape/landscape.o
gcc -I"F:/biocbuild/bbs-3.22-bioc/R/include" -DNDEBUG -I'F:/biocbuild/bbs-3.22-bioc/R/library/Rcpp/include' -I"C:/rtools45/x86_64-w64-mingw32.static.posix/include" -O2 -Wall -std=gnu2x -mfpmath=sse -msse2 -mstackrealign -c FitnessLandscape/random.c -o FitnessLandscape/random.o
gcc -I"F:/biocbuild/bbs-3.22-bioc/R/include" -DNDEBUG -I'F:/biocbuild/bbs-3.22-bioc/R/library/Rcpp/include' -I"C:/rtools45/x86_64-w64-mingw32.static.posix/include" -O2 -Wall -std=gnu2x -mfpmath=sse -msse2 -mstackrealign -c FitnessLandscape/sort.c -o FitnessLandscape/sort.o
gcc -I"F:/biocbuild/bbs-3.22-bioc/R/include" -DNDEBUG -I'F:/biocbuild/bbs-3.22-bioc/R/library/Rcpp/include' -I"C:/rtools45/x86_64-w64-mingw32.static.posix/include" -O2 -Wall -std=gnu2x -mfpmath=sse -msse2 -mstackrealign -c FitnessLandscape/chain.c -o FitnessLandscape/chain.o
gcc -I"F:/biocbuild/bbs-3.22-bioc/R/include" -DNDEBUG -I'F:/biocbuild/bbs-3.22-bioc/R/library/Rcpp/include' -I"C:/rtools45/x86_64-w64-mingw32.static.posix/include" -O2 -Wall -std=gnu2x -mfpmath=sse -msse2 -mstackrealign -c FitnessLandscape/input.c -o FitnessLandscape/input.o
gcc -I"F:/biocbuild/bbs-3.22-bioc/R/include" -DNDEBUG -I'F:/biocbuild/bbs-3.22-bioc/R/library/Rcpp/include' -I"C:/rtools45/x86_64-w64-mingw32.static.posix/include" -O2 -Wall -std=gnu2x -mfpmath=sse -msse2 -mstackrealign -c FitnessLandscape/genotypes.c -o FitnessLandscape/genotypes.o
gcc -I"F:/biocbuild/bbs-3.22-bioc/R/include" -DNDEBUG -I'F:/biocbuild/bbs-3.22-bioc/R/library/Rcpp/include' -I"C:/rtools45/x86_64-w64-mingw32.static.posix/include" -O2 -Wall -std=gnu2x -mfpmath=sse -msse2 -mstackrealign -c FitnessLandscape/ordered_pairs.c -o FitnessLandscape/ordered_pairs.o
gcc -I"F:/biocbuild/bbs-3.22-bioc/R/include" -DNDEBUG -I'F:/biocbuild/bbs-3.22-bioc/R/library/Rcpp/include' -I"C:/rtools45/x86_64-w64-mingw32.static.posix/include" -O2 -Wall -std=gnu2x -mfpmath=sse -msse2 -mstackrealign -c FitnessLandscape/calculus.c -o FitnessLandscape/calculus.o
gcc -I"F:/biocbuild/bbs-3.22-bioc/R/include" -DNDEBUG -I'F:/biocbuild/bbs-3.22-bioc/R/library/Rcpp/include' -I"C:/rtools45/x86_64-w64-mingw32.static.posix/include" -O2 -Wall -std=gnu2x -mfpmath=sse -msse2 -mstackrealign -c FitnessLandscape/vector.c -o FitnessLandscape/vector.o
gcc -I"F:/biocbuild/bbs-3.22-bioc/R/include" -DNDEBUG -I'F:/biocbuild/bbs-3.22-bioc/R/library/Rcpp/include' -I"C:/rtools45/x86_64-w64-mingw32.static.posix/include" -O2 -Wall -std=gnu2x -mfpmath=sse -msse2 -mstackrealign -c FitnessLandscape/generalized_chain.c -o FitnessLandscape/generalized_chain.o
gcc -I"F:/biocbuild/bbs-3.22-bioc/R/include" -DNDEBUG -I'F:/biocbuild/bbs-3.22-bioc/R/library/Rcpp/include' -I"C:/rtools45/x86_64-w64-mingw32.static.posix/include" -O2 -Wall -std=gnu2x -mfpmath=sse -msse2 -mstackrealign -c FitnessLandscape/LinearAlgebra.c -o FitnessLandscape/LinearAlgebra.o
gcc -I"F:/biocbuild/bbs-3.22-bioc/R/include" -DNDEBUG -I'F:/biocbuild/bbs-3.22-bioc/R/library/Rcpp/include' -I"C:/rtools45/x86_64-w64-mingw32.static.posix/include" -O2 -Wall -std=gnu2x -mfpmath=sse -msse2 -mstackrealign -c FitnessLandscape/summary_statistics.c -o FitnessLandscape/summary_statistics.o
gcc -I"F:/biocbuild/bbs-3.22-bioc/R/include" -DNDEBUG -I'F:/biocbuild/bbs-3.22-bioc/R/library/Rcpp/include' -I"C:/rtools45/x86_64-w64-mingw32.static.posix/include" -O2 -Wall -std=gnu2x -mfpmath=sse -msse2 -mstackrealign -c FitnessLandscape/epistasis_type.c -o FitnessLandscape/epistasis_type.o
gcc -I"F:/biocbuild/bbs-3.22-bioc/R/include" -DNDEBUG -I'F:/biocbuild/bbs-3.22-bioc/R/library/Rcpp/include' -I"C:/rtools45/x86_64-w64-mingw32.static.posix/include" -O2 -Wall -std=gnu2x -mfpmath=sse -msse2 -mstackrealign -c FitnessLandscape/decomposition.c -o FitnessLandscape/decomposition.o
gcc -I"F:/biocbuild/bbs-3.22-bioc/R/include" -DNDEBUG -I'F:/biocbuild/bbs-3.22-bioc/R/library/Rcpp/include' -I"C:/rtools45/x86_64-w64-mingw32.static.posix/include" -O2 -Wall -std=gnu2x -mfpmath=sse -msse2 -mstackrealign -c FitnessLandscape/models.c -o FitnessLandscape/models.o
gcc -I"F:/biocbuild/bbs-3.22-bioc/R/include" -DNDEBUG -I'F:/biocbuild/bbs-3.22-bioc/R/library/Rcpp/include' -I"C:/rtools45/x86_64-w64-mingw32.static.posix/include" -O2 -Wall -std=gnu2x -mfpmath=sse -msse2 -mstackrealign -c FitnessLandscape/verbose.c -o FitnessLandscape/verbose.o
ar -r liblandscape.a FitnessLandscape/gamma.o FitnessLandscape/landscape.o FitnessLandscape/random.o FitnessLandscape/sort.o FitnessLandscape/chain.o FitnessLandscape/input.o FitnessLandscape/genotypes.o FitnessLandscape/ordered_pairs.o FitnessLandscape/calculus.o FitnessLandscape/vector.o FitnessLandscape/generalized_chain.o FitnessLandscape/LinearAlgebra.o FitnessLandscape/summary_statistics.o FitnessLandscape/epistasis_type.o FitnessLandscape/decomposition.o FitnessLandscape/models.o FitnessLandscape/verbose.o ;
C:\rtools45\x86_64-w64-mingw32.static.posix\bin\ar.exe: creating liblandscape.a
ranlib liblandscape.a;
gcc -O -Wall -o fl_statistics -I/FitnessLandscape/. -L. FitnessLandscape/main_fl_statistics.c -llandscape -lm;
gcc -O -Wall -o fl_generate -I/FitnessLandscape/. -L. FitnessLandscape/main_fl_generate.c -llandscape -lm;
gcc -I"F:/biocbuild/bbs-3.22-bioc/R/include" -DNDEBUG -I'F:/biocbuild/bbs-3.22-bioc/R/library/Rcpp/include' -I"C:/rtools45/x86_64-w64-mingw32.static.posix/include" -O2 -Wall -std=gnu2x -mfpmath=sse -msse2 -mstackrealign -c OncoSimulR_init.c -o OncoSimulR_init.o
g++ -std=gnu++17 -I"F:/biocbuild/bbs-3.22-bioc/R/include" -DNDEBUG -I'F:/biocbuild/bbs-3.22-bioc/R/library/Rcpp/include' -I"C:/rtools45/x86_64-w64-mingw32.static.posix/include" -O2 -Wall -mfpmath=sse -msse2 -mstackrealign -Wa,-mbig-obj -c RcppExports.cpp -o RcppExports.o
g++ -std=gnu++17 -I"F:/biocbuild/bbs-3.22-bioc/R/include" -DNDEBUG -I'F:/biocbuild/bbs-3.22-bioc/R/library/Rcpp/include' -I"C:/rtools45/x86_64-w64-mingw32.static.posix/include" -O2 -Wall -mfpmath=sse -msse2 -mstackrealign -Wa,-mbig-obj -c unity_osimul.cpp -o unity_osimul.o
In file included from unity_osimul.cpp:4:
UnityOncoSimul/BNB_nr.cpp: In function 'void nr_innerBNB(const fitnessEffectsAll&, const std::vector<double>&, const double&, TypeModel, const int&, const std::vector<double>&, const double&, const double&, const double&, const std::vector<std::vector<int> >&, const time_t&, const double&, const double&, const double&, const int&, const double&, const double&, const int&, double&, double&, double&, double&, double&, int&, int&, int&, std::vector<Genotype>&, std::vector<double>&, std::vector<int>&, std::vector<double>&, std::vector<Intervention>&, std::vector<double>&, std::vector<double>&, std::vector<int>&, std::vector<int>&, bool&, std::mt19937&, double&, bool&, const std::map<int, std::__cxx11::basic_string<char> >&, const fitness_as_genes&, PhylogName&, bool, const fitnessEffectsAll&, const std::vector<int>&, const double&, const double&, const double&, const bool&, const std::vector<std::vector<int> >&, const double&, const int&, const double&, int&, int&, std::map<std::__cxx11::basic_string<char>, std::__cxx11::basic_string<char> >&, POM&, Rcpp::List, Rcpp::List, Rcpp::List)':
UnityOncoSimul/BNB_nr.cpp:860:10: warning: 'minNextMutationTime' may be used uninitialized [-Wmaybe-uninitialized]
860 | double minNextMutationTime;
| ^~~~~~~~~~~~~~~~~~~
g++ -std=gnu++17 -shared -s -static-libgcc -o OncoSimulR.dll tmp.def OncoSimulR_init.o RcppExports.o unity_osimul.o -LC:/rtools45/x86_64-w64-mingw32.static.posix/lib/x64 -LC:/rtools45/x86_64-w64-mingw32.static.posix/lib -LF:/biocbuild/bbs-3.22-bioc/R/bin/x64 -lR
installing via 'install.libs.R' to F:/biocbuild/bbs-3.22-bioc/R/library/00LOCK-OncoSimulR/00new/OncoSimulR
[1] "/x64"
Installing fl_statistics.exe fl_generate.exe to F:/biocbuild/bbs-3.22-bioc/R/library/00LOCK-OncoSimulR/00new/OncoSimulR/exec/x64
Installing library OncoSimulR.dll to F:/biocbuild/bbs-3.22-bioc/R/library/00LOCK-OncoSimulR/00new/OncoSimulR/libs/x64
** R
** data
** inst
** byte-compile and prepare package for lazy loading
** help
*** installing help indices
** building package indices
** installing vignettes
** testing if installed package can be loaded from temporary location
** testing if installed package can be loaded from final location
** testing if installed package keeps a record of temporary installation path
* DONE (OncoSimulR)
OncoSimulR.Rcheck/tests/testthat.Rout
R version 4.5.1 (2025-06-13 ucrt) -- "Great Square Root"
Copyright (C) 2025 The R Foundation for Statistical Computing
Platform: x86_64-w64-mingw32/x64
R is free software and comes with ABSOLUTELY NO WARRANTY.
You are welcome to redistribute it under certain conditions.
Type 'license()' or 'licence()' for distribution details.
R is a collaborative project with many contributors.
Type 'contributors()' for more information and
'citation()' on how to cite R or R packages in publications.
Type 'demo()' for some demos, 'help()' for on-line help, or
'help.start()' for an HTML browser interface to help.
Type 'q()' to quit R.
> library(testthat)
> library(OncoSimulR)
This is package OncoSimulR. If you are running it on an aarch64 (arm64) platform with a MacOS note that the package fails some tests in that platform + OS that I have no way of debugging. Please read file README_tests_kjohnson3_aarch64-apple-darwin20.txt in the tests directory. As of 2024-10-09, this platform is unsupported until we can properly debug it.
>
> test_check("OncoSimulR")
Starting FDF-letter-fitness-order Fri Aug 15 06:06:55 2025
exprtk parser error:
Error[00] Position: 00 Type: [ Syntax Error] Msg: ERR202 - Undefined symbol: 'n_2_3' Expression: n_2_3
exprtk parser error:
Error[00] Position: 00 Type: [ Syntax Error] Msg: ERR202 - Undefined symbol: 'f_2_3' Expression: f_2_3
Ending FDF-small-fitness-specs Fri Aug 15 06:06:55 2025
Took 0.69
Starting LOD_POM at Fri Aug 15 06:06:55 2025
Ending LOD_POM at Fri Aug 15 06:07:12 2025
Took 16.14
Starting test.Z-all-fitness at Fri Aug 15 06:07:12 2025
Ending test.Z-all-fitness at Fri Aug 15 06:07:12 2025
Took 0.2
Starting test.Z-driver-counts at Fri Aug 15 06:07:12 2025
Ending test.Z-driver-counts at Fri Aug 15 06:07:12 2025
Took 0.2
Starting test.Z-fixation at Fri Aug 15 06:07:12 2025
Ending test.Z-fixation at Fri Aug 15 06:07:12 2025
Took 0.5
Starting test.Z-magellan at Fri Aug 15 06:07:12 2025
Ended test.Z-magellan at Fri Aug 15 06:07:14 2025
Starting test.Z-mutator at Fri Aug 15 06:07:14 2025
Ending test.Z-mutator at Fri Aug 15 06:07:15 2025
Took 0.56
Starting test.Z-mutatorFDF at Fri Aug 15 06:07:15 2025
Ending test.Z-mutatorFDF at Fri Aug 15 06:07:15 2025
Took 0.12
Starting test.Z-oncoSimulIndiv at Fri Aug 15 06:07:15 2025
Ending test.Z-oncoSimulIndiv at Fri Aug 15 06:07:15 2025
Took 0.61
Starting test.Z-oncoSimulIndivConstant at Fri Aug 15 06:07:15 2025
Ending test.Z-oncoSimulIndivConstant at Fri Aug 15 06:07:20 2025
Took 4.28
Starting test.Z-oncoSimulIndivDeath at Fri Aug 15 06:07:20 2025
Ending test.Z-oncoSimulIndivDeath at Fri Aug 15 06:07:21 2025
Took 1.42
Starting test.Z-oncoSimulIndivFDF at Fri Aug 15 06:07:21 2025
Hitted wall time. Exiting.
Hitting wall time is regarded as an error.
Ending test.Z-oncoSimulIndivFDF at Fri Aug 15 06:07:22 2025
Took 0.36
Starting test.Z-rfitness-landscape at Fri Aug 15 06:07:22 2025
Ending test.Z-rfitness-landscape at Fri Aug 15 06:07:22 2025
Took 0.28
Starting Z-sample-only-last tests Fri Aug 15 06:07:22 2025
Ending Z-sample-only-last tests Fri Aug 15 06:07:22 2025
Took 0
Starting Z-total-present-drivers tests Fri Aug 15 06:07:22 2025
Ending Z-total-present-drivers tests Fri Aug 15 06:07:23 2025
Took 1.13
Dummy empty test Fri Aug 15 06:07:23 2025
Starting accessible_genotypes at Fri Aug 15 06:07:23 2025
Ending accessible_genotypes at Fri Aug 15 06:07:33 2025
Took 9.7
Starting all fitness at Fri Aug 15 06:07:33 2025
Ending all-fitness at Fri Aug 15 06:07:38 2025
Took 5.47
Starting test.allFitnessEffectsFDF at Fri Aug 15 06:07:38 2025
Ending test.allFitnessEffectsFDF at Fri Aug 15 06:07:38 2025
Took 0.13
Starting test.allFitnessEffectsDeath at Fri Aug 15 06:07:38 2025
Ending test.allFitnessEffectsDeath at Fri Aug 15 06:07:39 2025
Took 0.41
Starting test.allFitnessEffectsFDF at Fri Aug 15 06:07:39 2025
Ending test.allFitnessEffectsFDF at Fri Aug 15 06:07:39 2025
Took 0.53
Starting driverCounts at Fri Aug 15 06:07:39 2025
Ending driverCounts at Fri Aug 15 06:07:48 2025
Took 8.89
Starting epist-order-modules at Fri Aug 15 06:07:48 2025
Ending epist-order-modules at Fri Aug 15 06:07:48 2025
Took 0.06
Starting test.evaluatingGenotypesDeath at Fri Aug 15 06:07:48 2025
Ending test.evaluatingGenotypesDeath at Fri Aug 15 06:07:48 2025
Took 0.18
Starting test.evaluatingGenotypesFDF at Fri Aug 15 06:07:48 2025
Ending test.evaluatingGenotypesFDF at Fri Aug 15 06:07:49 2025
Took 0.21
Starting exercise-plotting-code at Fri Aug 15 06:07:49 2025
Ending exercise-plotting-code at Fri Aug 15 06:07:52 2025
Took 3.27
Starting exercise-rfitness at Fri Aug 15 06:07:52 2025
Ending exercise-rfitness at Fri Aug 15 06:08:09 2025
Took 17.17
Starting to_Magella at Fri Aug 15 06:08:09 2025
Ending to_Magella at Fri Aug 15 06:08:09 2025
Took 0.09
Starting fitness preds at Fri Aug 15 06:08:09 2025
Observed vs expected, case III
done tries 1
Ending fitness preds long at Fri Aug 15 06:08:18 2025
Took 8.74
Starting fixation at Fri Aug 15 06:08:18 2025
Ending fixation at Fri Aug 15 06:08:47 2025
Took 29.05
Starting test.flfast-additional.R test at Fri Aug 15 06:08:47 2025
Ending test.flfast-additional.R test at Fri Aug 15 06:08:49 2025
Took 1.55
Starting test.flfast-mutator.R test at Fri Aug 15 06:08:49 2025
Finished test.flfast-mutator.R test at Fri Aug 15 06:08:50 2025
Took 1.53
Starting genotFitness at Fri Aug 15 06:08:50 2025
Ending genotFitness at Fri Aug 15 06:08:50 2025
Took 0.19
Starting genot_fitness_to_epistasis at Fri Aug 15 06:08:50 2025
Ending genot_fitness_to_epistasis at Fri Aug 15 06:08:50 2025
Took 0.04
Starting init-mutant tests Fri Aug 15 06:08:50 2025
exprtk parser error:
Error[00] Position: 18 Type: [ Syntax Error] Msg: ERR202 - Undefined symbol: 'f_2' Expression: 1.1 + 0.7*((f_1 + f_2) > 0.3)
Ending init-mutant tests Fri Aug 15 06:09:00 2025
Took 10.15
Starting interventions tests Fri Aug 15 06:09:00 2025
[1] "Checking intervention: intOverA"
[1] "Checking intervention: intOverA"
[1] "Checking intervention: intOverA"
[1] "Checking intervention: intOverA"
[1] "Checking intervention: intOverMultiplicatesA"
In intervention:intOverMultiplicatesA with WhatHappens: n_1 = n_1 * 2. You cannot intervene to generate more population.[1] "Checking intervention: intOverA"
[1] "Checking intervention: intOverA"
[1] "Checking intervention: intOverTotPop"
[1] 0.62 0.62 0.62
[1] "Checking intervention: intOverTotPop"
[1] "Checking intervention: intOverA"
[1] "Checking intervention: intOverB"
[1] "Checking intervention: intOverC"
[1] "Checking intervention: intOverD"
Init Mutant with birth == 1.0
Init Mutant with birth == 1.0
[1] "Checking intervention: intOverA"
[1] "Checking intervention: intOverB"
[1] "Checking intervention: intOverC"
[1] "Checking intervention: intOverD"
Init Mutant with birth == 1.0
Init Mutant with birth == 1.0
[1] "Checking user variable: user_var_1"
[1] "Checking rule: rule_1"
[1] "Checking rule: rule_2"
[1] "Checking rule: rule_3"
[1] "Checking intervention: intOverTotPop"
[1] "Checking intervention: intOverTotPop2"
[1] "Checking intervention: intOverTotPop3"
[1] "Checking user variable: user_var_1"
[1] "Checking rule: rule_1"
[1] "Checking rule: rule_2"
[1] "Checking rule: rule_3"
[1] "Checking intervention: intOverTotPop"
Ending interventions tests Fri Aug 15 06:09:08 2025
Took 7.47
Starting test.magellan at Fri Aug 15 06:09:08 2025
Ending test.magellan at Fri Aug 15 06:09:09 2025
Took 0.73
Starting test.modules-root-no-root at Fri Aug 15 06:09:09 2025
Ending test.modules-root-no-root at Fri Aug 15 06:09:09 2025
Took 0.13
Starting at mutPropGrowth Fri Aug 15 06:09:09 2025
Ended test.mutPropGrowth: Fri Aug 15 06:09:17 2025
Took 8.24
Starting test.mutator-oncoSimulSample.R test at Fri Aug 15 06:09:17 2025
Finished test.mutator-oncoSimulSample.R test at Fri Aug 15 06:09:27 2025
Took 10.16 seconds
Starting test.mutator.R test at Fri Aug 15 06:09:27 2025[1] 4.080594e-07
[1] 4.432618e-11
Finished test.mutator.R test at Fri Aug 15 06:09:48 2025
Took 21.09
Starting test.mutatorFDF.R test at Fri Aug 15 06:09:48 2025
Starting oncoSimulIndiv-miscell tests Fri Aug 15 06:09:49 2025
Ending oncoSimulIndiv-miscell tests Fri Aug 15 06:09:57 2025
Took 7.4
Starting oncoSimulSample-failures tests Fri Aug 15 06:09:57 2025
Ending oncoSimulSample-failures tests Fri Aug 15 06:10:01 2025
Took 3.97
Starting oncoSimulSample-limits tests Fri Aug 15 06:10:01 2025
Ending oncoSimulSample-limits tests Fri Aug 15 06:10:01 2025
Took 0.11
Starting per-gene-mutation rates at Fri Aug 15 06:10:01 2025
Ending per-gene-mutation rates at Fri Aug 15 06:10:45 2025
Took 44
Starting plotFitnessLandscape at Fri Aug 15 06:10:45 2025
Ending plotFitnessLandscape at Fri Aug 15 06:10:50 2025
Took 5.23
Starting poset-transformations tests Fri Aug 15 06:10:50 2025
Ending poset-transformations tests Fri Aug 15 06:11:13 2025
Took 22.75
Starting sample-prob Fri Aug 15 06:11:13 2025
[1] 2.300292e-17
[1] 2.548612e-11
[1] 4.507177e-09
[1] 1.257097e-11
[1] 2.22426e-14
[1] 1.386162e-12
[1] 2.321466e-10
[1] 1.202885e-11
[1] 4.011025e-09
[1] 6.635478e-11
[1] 4.235874e-09
[1] 1.339283e-08
Ending sample-prob tests Fri Aug 15 06:11:23 2025
Took 10.34
Starting samplePop tests Fri Aug 15 06:11:23 2025
Ending samplePop tests Fri Aug 15 06:11:33 2025
Took 10.08
Starting simuls-runs-examples tests Fri Aug 15 06:11:33 2025
Ending simuls-runs-examples tests Fri Aug 15 06:11:43 2025
Took 10.26
Starting user variable tests Fri Aug 15 06:11:43 2025
[1] "Checking user variable: user_var_1"
[1] "Checking rule: rule_1"
Ending user variable tests Fri Aug 15 06:11:44 2025
Took 0.71
Starting warning-mutPropGrowth tests Fri Aug 15 06:11:44 2025
Ending warning-mutPropGrowth tests Fri Aug 15 06:11:45 2025
Took 0.59
Starting wide2long tests Fri Aug 15 06:11:45 2025
Ending wide2long tests Fri Aug 15 06:11:45 2025
Took 0.44
[ FAIL 0 | WARN 19 | SKIP 6 | PASS 8401 ]
══ Skipped tests (6) ═══════════════════════════════════════════════════════════
• On Windows (1): 'test.Z-magellan.R:664:5'
• empty test (5): 'test.FDF-letter-fitness-order.R:376:1',
'test.ZZ-dummy-skip-warn-test.R:8:1', 'test.ZZ-dummy-skip-warn-test.R:12:1',
'test.fixation.R:4:1', 'test.init-mutant.R:1099:1'
[ FAIL 0 | WARN 19 | SKIP 6 | PASS 8401 ]
>
> proc.time()
user system elapsed
269.42 7.65 297.07
OncoSimulR.Rcheck/OncoSimulR-Ex.timings
| name | user | system | elapsed | |
| OncoSimulWide2Long | 0.24 | 0.00 | 0.23 | |
| POM | 1.39 | 0.00 | 1.39 | |
| allFitnessEffects | 1.97 | 0.03 | 2.00 | |
| benchmarks | 0.02 | 0.02 | 0.03 | |
| createInterventions | 0.56 | 0.00 | 0.56 | |
| createUserVars | 0.81 | 0.00 | 0.81 | |
| evalAllGenotypes | 0.19 | 0.00 | 0.19 | |
| example-missing-drivers | 0.36 | 0.01 | 0.37 | |
| examplePosets | 0.37 | 0.03 | 0.41 | |
| examplesFitnessEffects | 0.13 | 0.05 | 0.17 | |
| freq-dep-simul-examples | 0.01 | 0.00 | 0.02 | |
| mcfLs | 0 | 0 | 0 | |
| oncoSimulIndiv | 1.64 | 0.00 | 1.64 | |
| plot.fitnessEffects | 0.24 | 0.00 | 0.23 | |
| plot.oncosimul | 0.56 | 0.05 | 0.61 | |
| plotClonePhylog | 1.52 | 0.09 | 1.61 | |
| plotFitnessLandscape | 1.57 | 0.05 | 1.61 | |
| plotPoset | 0.14 | 0.00 | 0.14 | |
| poset | 0.12 | 0.01 | 0.14 | |
| rfitness | 0.74 | 0.03 | 1.03 | |
| samplePop | 0.06 | 0.00 | 0.06 | |
| simOGraph | 0.08 | 0.02 | 0.10 | |
| to_Magellan | 0.12 | 0.00 | 0.92 | |
| vignette_pre_computed | 0 | 0 | 0 | |