Back to Multiple platform build/check report for BioC 3.21:   simplified   long
ABCDEFGHIJKLMN[O]PQRSTUVWXYZ

This page was generated on 2025-02-04 11:43 -0500 (Tue, 04 Feb 2025).

HostnameOSArch (*)R versionInstalled pkgs
nebbiolo1Linux (Ubuntu 24.04.1 LTS)x86_64R Under development (unstable) (2025-01-20 r87609) -- "Unsuffered Consequences" 4716
palomino7Windows Server 2022 Datacenterx64R Under development (unstable) (2025-01-21 r87610 ucrt) -- "Unsuffered Consequences" 4478
lconwaymacOS 12.7.1 Montereyx86_64R Under development (unstable) (2025-01-22 r87618) -- "Unsuffered Consequences" 4489
kjohnson3macOS 13.7.1 Venturaarm64R Under development (unstable) (2025-01-20 r87609) -- "Unsuffered Consequences" 4442
Click on any hostname to see more info about the system (e.g. compilers)      (*) as reported by 'uname -p', except on Windows and Mac OS X

Package 1465/2295HostnameOS / ArchINSTALLBUILDCHECKBUILD BIN
OncoSimulR 4.9.0  (landing page)
Ramon Diaz-Uriarte
Snapshot Date: 2025-02-03 13:40 -0500 (Mon, 03 Feb 2025)
git_url: https://git.bioconductor.org/packages/OncoSimulR
git_branch: devel
git_last_commit: 3291e0a
git_last_commit_date: 2024-10-29 09:53:24 -0500 (Tue, 29 Oct 2024)
nebbiolo1Linux (Ubuntu 24.04.1 LTS) / x86_64  OK    OK    OK  UNNEEDED, same version is already published
palomino7Windows Server 2022 Datacenter / x64  OK    OK    OK    OK  UNNEEDED, same version is already published
lconwaymacOS 12.7.1 Monterey / x86_64  OK    OK    OK    OK  UNNEEDED, same version is already published
kjohnson3macOS 13.7.1 Ventura / arm64... NOT SUPPORTED ...


CHECK results for OncoSimulR on lconway

To the developers/maintainers of the OncoSimulR package:
- Allow up to 24 hours (and sometimes 48 hours) for your latest push to git@git.bioconductor.org:packages/OncoSimulR.git to reflect on this report. See Troubleshooting Build Report for more information.
- Use the following Renviron settings to reproduce errors and warnings.
- If 'R CMD check' started to fail recently on the Linux builder(s) over a missing dependency, add the missing dependency to 'Suggests:' in your DESCRIPTION file. See Renviron.bioc for more information.

raw results


Summary

Package: OncoSimulR
Version: 4.9.0
Command: /Library/Frameworks/R.framework/Resources/bin/R CMD check --install=check:OncoSimulR.install-out.txt --library=/Library/Frameworks/R.framework/Resources/library --no-vignettes --timings OncoSimulR_4.9.0.tar.gz
StartedAt: 2025-02-03 22:12:35 -0500 (Mon, 03 Feb 2025)
EndedAt: 2025-02-03 22:19:30 -0500 (Mon, 03 Feb 2025)
EllapsedTime: 415.2 seconds
RetCode: 0
Status:   OK  
CheckDir: OncoSimulR.Rcheck
Warnings: 0

Command output

##############################################################################
##############################################################################
###
### Running command:
###
###   /Library/Frameworks/R.framework/Resources/bin/R CMD check --install=check:OncoSimulR.install-out.txt --library=/Library/Frameworks/R.framework/Resources/library --no-vignettes --timings OncoSimulR_4.9.0.tar.gz
###
##############################################################################
##############################################################################


* using log directory ‘/Users/biocbuild/bbs-3.21-bioc/meat/OncoSimulR.Rcheck’
* using R Under development (unstable) (2025-01-22 r87618)
* using platform: x86_64-apple-darwin20
* R was compiled by
    Apple clang version 14.0.0 (clang-1400.0.29.202)
    GNU Fortran (GCC) 14.2.0
* running under: macOS Monterey 12.7.6
* using session charset: UTF-8
* using option ‘--no-vignettes’
* checking for file ‘OncoSimulR/DESCRIPTION’ ... OK
* checking extension type ... Package
* this is package ‘OncoSimulR’ version ‘4.9.0’
* checking package namespace information ... OK
* checking package dependencies ... OK
* checking if this is a source package ... OK
* checking if there is a namespace ... OK
* checking for hidden files and directories ... NOTE
Found the following hidden files and directories:
  .BBSoptions
These were most likely included in error. See section ‘Package
structure’ in the ‘Writing R Extensions’ manual.
* checking for portable file names ... OK
* checking for sufficient/correct file permissions ... OK
* checking whether package ‘OncoSimulR’ can be installed ... OK
* used C compiler: ‘Apple clang version 14.0.0 (clang-1400.0.29.202)’
* used C++ compiler: ‘Apple clang version 14.0.0 (clang-1400.0.29.202)’
* used SDK: ‘MacOSX11.3.sdk’
* checking installed package size ... INFO
  installed size is  9.4Mb
  sub-directories of 1Mb or more:
    libs   7.9Mb
* checking package directory ... OK
* checking ‘build’ directory ... OK
* checking DESCRIPTION meta-information ... OK
* checking top-level files ... OK
* checking for left-over files ... OK
* checking index information ... OK
* checking package subdirectories ... OK
* checking code files for non-ASCII characters ... OK
* checking R files for syntax errors ... OK
* checking whether the package can be loaded ... OK
* checking whether the package can be loaded with stated dependencies ... OK
* checking whether the package can be unloaded cleanly ... OK
* checking whether the namespace can be loaded with stated dependencies ... OK
* checking whether the namespace can be unloaded cleanly ... OK
* checking whether startup messages can be suppressed ... OK
* checking dependencies in R code ... OK
* checking S3 generic/method consistency ... OK
* checking replacement functions ... OK
* checking foreign function calls ... OK
* checking R code for possible problems ... OK
* checking Rd files ... OK
* checking Rd metadata ... OK
* checking Rd cross-references ... NOTE
Found the following Rd file(s) with Rd \link{} targets missing package
anchors:
  plot.oncosimul.Rd: brewer.pal
  plotClonePhylog.Rd: get.adjacency
  plotFitnessLandscape.Rd: ggrepel
Please provide package anchors for all Rd \link{} targets not in the
package itself and the base packages.
* checking for missing documentation entries ... OK
* checking for code/documentation mismatches ... OK
* checking Rd \usage sections ... OK
* checking Rd contents ... OK
* checking for unstated dependencies in examples ... OK
* checking contents of ‘data’ directory ... OK
* checking data for non-ASCII characters ... OK
* checking data for ASCII and uncompressed saves ... OK
* checking line endings in C/C++/Fortran sources/headers ... OK
* checking line endings in Makefiles ... OK
* checking compilation flags in Makevars ... OK
* checking for GNU extensions in Makefiles ... OK
* checking for portable use of $(BLAS_LIBS) and $(LAPACK_LIBS) ... OK
* checking use of PKG_*FLAGS in Makefiles ... OK
* checking include directives in Makefiles ... OK
* checking compiled code ... NOTE
Note: information on .o files is not available
* checking files in ‘vignettes’ ... OK
* checking examples ... OK
* checking for unstated dependencies in ‘tests’ ... OK
* checking tests ...
  Running ‘testthat.R’
 OK
* checking for unstated dependencies in vignettes ... OK
* checking package vignettes ... OK
* checking running R code from vignettes ... SKIPPED
* checking re-building of vignette outputs ... SKIPPED
* checking PDF version of manual ... OK
* DONE

Status: 3 NOTEs
See
  ‘/Users/biocbuild/bbs-3.21-bioc/meat/OncoSimulR.Rcheck/00check.log’
for details.


Installation output

OncoSimulR.Rcheck/00install.out

##############################################################################
##############################################################################
###
### Running command:
###
###   /Library/Frameworks/R.framework/Resources/bin/R CMD INSTALL OncoSimulR
###
##############################################################################
##############################################################################


* installing to library ‘/Library/Frameworks/R.framework/Versions/4.5-x86_64/Resources/library’
* installing *source* package ‘OncoSimulR’ ...
** this is package ‘OncoSimulR’ version ‘4.9.0’
** using staged installation
** libs
using C compiler: ‘Apple clang version 14.0.0 (clang-1400.0.29.202)’
using C++ compiler: ‘Apple clang version 14.0.0 (clang-1400.0.29.202)’
using SDK: ‘MacOSX11.3.sdk’
clang -arch x86_64 -I"/Library/Frameworks/R.framework/Resources/include" -DNDEBUG  -I'/Library/Frameworks/R.framework/Versions/4.5-x86_64/Resources/library/Rcpp/include' -I/opt/R/x86_64/include    -fPIC  -falign-functions=64 -Wall -g -O2  -c FitnessLandscape/gamma.c -o FitnessLandscape/gamma.o
clang -arch x86_64 -I"/Library/Frameworks/R.framework/Resources/include" -DNDEBUG  -I'/Library/Frameworks/R.framework/Versions/4.5-x86_64/Resources/library/Rcpp/include' -I/opt/R/x86_64/include    -fPIC  -falign-functions=64 -Wall -g -O2  -c FitnessLandscape/landscape.c -o FitnessLandscape/landscape.o
clang -arch x86_64 -I"/Library/Frameworks/R.framework/Resources/include" -DNDEBUG  -I'/Library/Frameworks/R.framework/Versions/4.5-x86_64/Resources/library/Rcpp/include' -I/opt/R/x86_64/include    -fPIC  -falign-functions=64 -Wall -g -O2  -c FitnessLandscape/random.c -o FitnessLandscape/random.o
clang -arch x86_64 -I"/Library/Frameworks/R.framework/Resources/include" -DNDEBUG  -I'/Library/Frameworks/R.framework/Versions/4.5-x86_64/Resources/library/Rcpp/include' -I/opt/R/x86_64/include    -fPIC  -falign-functions=64 -Wall -g -O2  -c FitnessLandscape/sort.c -o FitnessLandscape/sort.o
clang -arch x86_64 -I"/Library/Frameworks/R.framework/Resources/include" -DNDEBUG  -I'/Library/Frameworks/R.framework/Versions/4.5-x86_64/Resources/library/Rcpp/include' -I/opt/R/x86_64/include    -fPIC  -falign-functions=64 -Wall -g -O2  -c FitnessLandscape/chain.c -o FitnessLandscape/chain.o
clang -arch x86_64 -I"/Library/Frameworks/R.framework/Resources/include" -DNDEBUG  -I'/Library/Frameworks/R.framework/Versions/4.5-x86_64/Resources/library/Rcpp/include' -I/opt/R/x86_64/include    -fPIC  -falign-functions=64 -Wall -g -O2  -c FitnessLandscape/input.c -o FitnessLandscape/input.o
clang -arch x86_64 -I"/Library/Frameworks/R.framework/Resources/include" -DNDEBUG  -I'/Library/Frameworks/R.framework/Versions/4.5-x86_64/Resources/library/Rcpp/include' -I/opt/R/x86_64/include    -fPIC  -falign-functions=64 -Wall -g -O2  -c FitnessLandscape/genotypes.c -o FitnessLandscape/genotypes.o
clang -arch x86_64 -I"/Library/Frameworks/R.framework/Resources/include" -DNDEBUG  -I'/Library/Frameworks/R.framework/Versions/4.5-x86_64/Resources/library/Rcpp/include' -I/opt/R/x86_64/include    -fPIC  -falign-functions=64 -Wall -g -O2  -c FitnessLandscape/ordered_pairs.c -o FitnessLandscape/ordered_pairs.o
FitnessLandscape/ordered_pairs.c:138:6: warning: variable 'tot_pairs' set but not used [-Wunused-but-set-variable]
        int tot_pairs=0;
            ^
1 warning generated.
clang -arch x86_64 -I"/Library/Frameworks/R.framework/Resources/include" -DNDEBUG  -I'/Library/Frameworks/R.framework/Versions/4.5-x86_64/Resources/library/Rcpp/include' -I/opt/R/x86_64/include    -fPIC  -falign-functions=64 -Wall -g -O2  -c FitnessLandscape/calculus.c -o FitnessLandscape/calculus.o
clang -arch x86_64 -I"/Library/Frameworks/R.framework/Resources/include" -DNDEBUG  -I'/Library/Frameworks/R.framework/Versions/4.5-x86_64/Resources/library/Rcpp/include' -I/opt/R/x86_64/include    -fPIC  -falign-functions=64 -Wall -g -O2  -c FitnessLandscape/vector.c -o FitnessLandscape/vector.o
clang -arch x86_64 -I"/Library/Frameworks/R.framework/Resources/include" -DNDEBUG  -I'/Library/Frameworks/R.framework/Versions/4.5-x86_64/Resources/library/Rcpp/include' -I/opt/R/x86_64/include    -fPIC  -falign-functions=64 -Wall -g -O2  -c FitnessLandscape/generalized_chain.c -o FitnessLandscape/generalized_chain.o
clang -arch x86_64 -I"/Library/Frameworks/R.framework/Resources/include" -DNDEBUG  -I'/Library/Frameworks/R.framework/Versions/4.5-x86_64/Resources/library/Rcpp/include' -I/opt/R/x86_64/include    -fPIC  -falign-functions=64 -Wall -g -O2  -c FitnessLandscape/LinearAlgebra.c -o FitnessLandscape/LinearAlgebra.o
clang -arch x86_64 -I"/Library/Frameworks/R.framework/Resources/include" -DNDEBUG  -I'/Library/Frameworks/R.framework/Versions/4.5-x86_64/Resources/library/Rcpp/include' -I/opt/R/x86_64/include    -fPIC  -falign-functions=64 -Wall -g -O2  -c FitnessLandscape/summary_statistics.c -o FitnessLandscape/summary_statistics.o
FitnessLandscape/summary_statistics.c:515:9: warning: variable 'meanVarianceNumberOfStepsFL' set but not used [-Wunused-but-set-variable]
        double meanVarianceNumberOfStepsFL = 0;
               ^
1 warning generated.
clang -arch x86_64 -I"/Library/Frameworks/R.framework/Resources/include" -DNDEBUG  -I'/Library/Frameworks/R.framework/Versions/4.5-x86_64/Resources/library/Rcpp/include' -I/opt/R/x86_64/include    -fPIC  -falign-functions=64 -Wall -g -O2  -c FitnessLandscape/epistasis_type.c -o FitnessLandscape/epistasis_type.o
clang -arch x86_64 -I"/Library/Frameworks/R.framework/Resources/include" -DNDEBUG  -I'/Library/Frameworks/R.framework/Versions/4.5-x86_64/Resources/library/Rcpp/include' -I/opt/R/x86_64/include    -fPIC  -falign-functions=64 -Wall -g -O2  -c FitnessLandscape/decomposition.c -o FitnessLandscape/decomposition.o
clang -arch x86_64 -I"/Library/Frameworks/R.framework/Resources/include" -DNDEBUG  -I'/Library/Frameworks/R.framework/Versions/4.5-x86_64/Resources/library/Rcpp/include' -I/opt/R/x86_64/include    -fPIC  -falign-functions=64 -Wall -g -O2  -c FitnessLandscape/models.c -o FitnessLandscape/models.o
clang -arch x86_64 -I"/Library/Frameworks/R.framework/Resources/include" -DNDEBUG  -I'/Library/Frameworks/R.framework/Versions/4.5-x86_64/Resources/library/Rcpp/include' -I/opt/R/x86_64/include    -fPIC  -falign-functions=64 -Wall -g -O2  -c FitnessLandscape/verbose.c -o FitnessLandscape/verbose.o
ar -r liblandscape.a FitnessLandscape/gamma.o FitnessLandscape/landscape.o FitnessLandscape/random.o FitnessLandscape/sort.o FitnessLandscape/chain.o FitnessLandscape/input.o FitnessLandscape/genotypes.o FitnessLandscape/ordered_pairs.o FitnessLandscape/calculus.o FitnessLandscape/vector.o FitnessLandscape/generalized_chain.o FitnessLandscape/LinearAlgebra.o FitnessLandscape/summary_statistics.o FitnessLandscape/epistasis_type.o FitnessLandscape/decomposition.o FitnessLandscape/models.o FitnessLandscape/verbose.o ;
ar: creating archive liblandscape.a
ranlib liblandscape.a;
clang -arch x86_64 -O -Wall -o fl_statistics -I/FitnessLandscape/. -L. FitnessLandscape/main_fl_statistics.c -llandscape -lm;
clang -arch x86_64 -O -Wall -o fl_generate -I/FitnessLandscape/. -L. FitnessLandscape/main_fl_generate.c -llandscape -lm;
clang -arch x86_64 -I"/Library/Frameworks/R.framework/Resources/include" -DNDEBUG  -I'/Library/Frameworks/R.framework/Versions/4.5-x86_64/Resources/library/Rcpp/include' -I/opt/R/x86_64/include    -fPIC  -falign-functions=64 -Wall -g -O2  -c OncoSimulR_init.c -o OncoSimulR_init.o
clang++ -arch x86_64 -std=gnu++17 -I"/Library/Frameworks/R.framework/Resources/include" -DNDEBUG  -I'/Library/Frameworks/R.framework/Versions/4.5-x86_64/Resources/library/Rcpp/include' -I/opt/R/x86_64/include    -fPIC  -falign-functions=64 -Wall -g -O2  -DR_NO_REMAP -c RcppExports.cpp -o RcppExports.o
clang++ -arch x86_64 -std=gnu++17 -I"/Library/Frameworks/R.framework/Resources/include" -DNDEBUG  -I'/Library/Frameworks/R.framework/Versions/4.5-x86_64/Resources/library/Rcpp/include' -I/opt/R/x86_64/include    -fPIC  -falign-functions=64 -Wall -g -O2  -DR_NO_REMAP -c unity_osimul.cpp -o unity_osimul.o
In file included from unity_osimul.cpp:10:
./UnityOncoSimul/intervention_private_2.cpp:17:10: warning: variable 'totalPop' set but not used [-Wunused-but-set-variable]
  double totalPop = 0.0;
         ^
1 warning generated.
clang++ -arch x86_64 -std=gnu++17 -dynamiclib -Wl,-headerpad_max_install_names -undefined dynamic_lookup -L/Library/Frameworks/R.framework/Resources/lib -L/opt/R/x86_64/lib -o OncoSimulR.so OncoSimulR_init.o RcppExports.o unity_osimul.o -F/Library/Frameworks/R.framework/.. -framework R -Wl,-framework -Wl,CoreFoundation
installing via 'install.libs.R' to /Library/Frameworks/R.framework/Versions/4.5-x86_64/Resources/library/00LOCK-OncoSimulR/00new/OncoSimulR
[1] ""
Installing fl_statistics fl_generate to /Library/Frameworks/R.framework/Versions/4.5-x86_64/Resources/library/00LOCK-OncoSimulR/00new/OncoSimulR/exec
Installing library OncoSimulR.so to /Library/Frameworks/R.framework/Versions/4.5-x86_64/Resources/library/00LOCK-OncoSimulR/00new/OncoSimulR/libs
** R
** data
** inst
** byte-compile and prepare package for lazy loading
** help
*** installing help indices
** building package indices
** installing vignettes
** testing if installed package can be loaded from temporary location
** checking absolute paths in shared objects and dynamic libraries
** testing if installed package can be loaded from final location
** testing if installed package keeps a record of temporary installation path
* DONE (OncoSimulR)

Tests output

OncoSimulR.Rcheck/tests/testthat.Rout


R Under development (unstable) (2025-01-22 r87618) -- "Unsuffered Consequences"
Copyright (C) 2025 The R Foundation for Statistical Computing
Platform: x86_64-apple-darwin20

R is free software and comes with ABSOLUTELY NO WARRANTY.
You are welcome to redistribute it under certain conditions.
Type 'license()' or 'licence()' for distribution details.

R is a collaborative project with many contributors.
Type 'contributors()' for more information and
'citation()' on how to cite R or R packages in publications.

Type 'demo()' for some demos, 'help()' for on-line help, or
'help.start()' for an HTML browser interface to help.
Type 'q()' to quit R.

> library(testthat)
> library(OncoSimulR)
This is package OncoSimulR. If you are running it on an aarch64 (arm64) platform with a MacOS note that the package fails some tests in that platform + OS that I have no way of debugging. Please read file README_tests_kjohnson3_aarch64-apple-darwin20.txt in the tests directory. As of 2024-10-09, this platform is unsupported until we can properly debug it.
> 
> test_check("OncoSimulR")

 Starting FDF-letter-fitness-order Mon Feb  3 22:14:05 2025 

exprtk parser error: 

Error[00] Position: 00 Type: [  Syntax Error] Msg: ERR202 - Undefined symbol: 'n_2_3' Expression: n_2_3

exprtk parser error: 

Error[00] Position: 00 Type: [  Syntax Error] Msg: ERR202 - Undefined symbol: 'f_2_3' Expression: f_2_3

 Ending FDF-small-fitness-specs Mon Feb  3 22:14:05 2025 
  Took  0.49 


 Starting LOD_POM at Mon Feb  3 22:14:05 2025 

 Ending LOD_POM at Mon Feb  3 22:14:19 2025 
  Took  14.02 


 Starting test.Z-all-fitness at Mon Feb  3 22:14:19 2025 

 Ending test.Z-all-fitness at Mon Feb  3 22:14:19 2025 
  Took  0.13 


 Starting test.Z-driver-counts at Mon Feb  3 22:14:19 2025 

 Ending test.Z-driver-counts at Mon Feb  3 22:14:20 2025 
  Took  0.12 


 Starting test.Z-fixation at Mon Feb  3 22:14:20 2025 

 Ending test.Z-fixation at Mon Feb  3 22:14:20 2025 
  Took  0.3 


 Starting test.Z-magellan at Mon Feb  3 22:14:20 2025 

 Ended test.Z-magellan at Mon Feb  3 22:14:22 2025 

 Starting test.Z-mutator at Mon Feb  3 22:14:22 2025 

 Ending test.Z-mutator at Mon Feb  3 22:14:22 2025 
  Took  0.46 


 Starting test.Z-mutatorFDF at Mon Feb  3 22:14:22 2025 

 Ending test.Z-mutatorFDF at Mon Feb  3 22:14:22 2025 
  Took  0.15 


 Starting test.Z-oncoSimulIndiv at Mon Feb  3 22:14:22 2025 

 Ending test.Z-oncoSimulIndiv at Mon Feb  3 22:14:23 2025 
  Took  0.5 


 Starting test.Z-oncoSimulIndivConstant at Mon Feb  3 22:14:23 2025 

 Ending test.Z-oncoSimulIndivConstant at Mon Feb  3 22:14:26 2025 
  Took  3.04 


 Starting test.Z-oncoSimulIndivDeath at Mon Feb  3 22:14:26 2025 


 Ending test.Z-oncoSimulIndivDeath at Mon Feb  3 22:14:27 2025 
  Took  0.92 


 Starting test.Z-oncoSimulIndivFDF at Mon Feb  3 22:14:27 2025 

 Hitted wall time. Exiting.
 Hitting wall time is regarded as an error. 

 Ending test.Z-oncoSimulIndivFDF at Mon Feb  3 22:14:28 2025 
  Took  0.71 


 Starting test.Z-rfitness-landscape at Mon Feb  3 22:14:28 2025 

 Ending test.Z-rfitness-landscape at Mon Feb  3 22:14:28 2025 
  Took  0.23 


 Starting Z-sample-only-last tests Mon Feb  3 22:14:28 2025 

 Ending Z-sample-only-last tests Mon Feb  3 22:14:28 2025 
  Took  0 


 Starting Z-total-present-drivers tests Mon Feb  3 22:14:28 2025 

 Ending Z-total-present-drivers tests Mon Feb  3 22:14:29 2025 
  Took  0.84 


 Dummy empty test  Mon Feb  3 22:14:29 2025 

 Starting accessible_genotypes at Mon Feb  3 22:14:29 2025 

 Ending accessible_genotypes at Mon Feb  3 22:14:37 2025 
  Took  8.73 


 Starting all fitness at Mon Feb  3 22:14:37 2025
 Ending all-fitness at Mon Feb  3 22:14:43 2025 
  Took  5.24 


 Starting test.allFitnessEffectsFDF at Mon Feb  3 22:14:43 2025 

 Ending test.allFitnessEffectsFDF at Mon Feb  3 22:14:43 2025 
  Took  0.15 


 Starting test.allFitnessEffectsDeath at Mon Feb  3 22:14:43 2025 

 Ending test.allFitnessEffectsDeath at Mon Feb  3 22:14:43 2025 
  Took  0.45 


 Starting test.allFitnessEffectsFDF at Mon Feb  3 22:14:43 2025 

 Ending test.allFitnessEffectsFDF at Mon Feb  3 22:14:44 2025 
  Took  0.45 


 Starting driverCounts at Mon Feb  3 22:14:44 2025
 Ending driverCounts at Mon Feb  3 22:14:55 2025 
  Took  10.85 


 Starting epist-order-modules at Mon Feb  3 22:14:55 2025
 Ending epist-order-modules at Mon Feb  3 22:14:55 2025 
  Took  0.06 


 Starting test.evaluatingGenotypesDeath at Mon Feb  3 22:14:55 2025 

 Ending test.evaluatingGenotypesDeath at Mon Feb  3 22:14:55 2025 
  Took  0.24 


 Starting test.evaluatingGenotypesFDF at Mon Feb  3 22:14:55 2025 

 Ending test.evaluatingGenotypesFDF at Mon Feb  3 22:14:55 2025 
  Took  0.23 


 Starting exercise-plotting-code at Mon Feb  3 22:14:55 2025
 Ending exercise-plotting-code at Mon Feb  3 22:14:58 2025 
  Took  3.12 


 Starting exercise-rfitness at Mon Feb  3 22:14:58 2025 

 Ending exercise-rfitness at Mon Feb  3 22:15:11 2025 
  Took  12.34 


 Starting to_Magella at Mon Feb  3 22:15:11 2025 

 Ending to_Magella at Mon Feb  3 22:15:11 2025 
  Took  0.05 


 Starting fitness preds at Mon Feb  3 22:15:11 2025 

 Observed vs expected, case III

 done tries 1 

 Ending fitness preds long at Mon Feb  3 22:15:18 2025 
  Took  7.72 


 Starting fixation  at Mon Feb  3 22:15:18 2025 

 Ending fixation  at Mon Feb  3 22:15:36 2025 
  Took  17.62 


 Starting test.flfast-additional.R test at Mon Feb  3 22:15:36 2025
 Ending test.flfast-additional.R test at Mon Feb  3 22:15:37 2025 
  Took  1.45 


 Starting test.flfast-mutator.R test at Mon Feb  3 22:15:37 2025
 Finished test.flfast-mutator.R test at Mon Feb  3 22:15:39 2025 
  Took  1.51 


 Starting genotFitness at Mon Feb  3 22:15:39 2025 

 Ending genotFitness at Mon Feb  3 22:15:39 2025 
  Took  0.2 


 Starting genot_fitness_to_epistasis at Mon Feb  3 22:15:39 2025 

 Ending genot_fitness_to_epistasis at Mon Feb  3 22:15:39 2025 
  Took  0.06 


 Starting init-mutant tests Mon Feb  3 22:15:39 2025 

exprtk parser error: 

Error[00] Position: 18 Type: [  Syntax Error] Msg: ERR202 - Undefined symbol: 'f_2' Expression: 1.1 + 0.7*((f_1 + f_2) > 0.3)

 Ending init-mutant tests Mon Feb  3 22:15:47 2025 
  Took  7.33 


 Starting interventions tests Mon Feb  3 22:15:47 2025 
[1] "Checking intervention: intOverA"
[1] "Checking intervention: intOverA"
[1] "Checking intervention: intOverA"
[1] "Checking intervention: intOverA"
[1] "Checking intervention: intOverMultiplicatesA"
In intervention:intOverMultiplicatesA with WhatHappens: n_1 = n_1 * 2. You cannot intervene to generate more population.[1] "Checking intervention: intOverA"
[1] "Checking intervention: intOverA"
[1] "Checking intervention: intOverTotPop"
[1] 0.63 0.63 0.63
[1] "Checking intervention: intOverTotPop"
[1] "Checking intervention: intOverA"
[1] "Checking intervention: intOverB"
[1] "Checking intervention: intOverC"
[1] "Checking intervention: intOverD"
Init Mutant with birth == 1.0
Init Mutant with birth == 1.0
[1] "Checking intervention: intOverA"
[1] "Checking intervention: intOverB"
[1] "Checking intervention: intOverC"
[1] "Checking intervention: intOverD"
Init Mutant with birth == 1.0
Init Mutant with birth == 1.0
[1] "Checking user variable: user_var_1"
[1] "Checking rule: rule_1"
[1] "Checking rule: rule_2"
[1] "Checking rule: rule_3"
[1] "Checking intervention: intOverTotPop"
[1] "Checking intervention: intOverTotPop2"
[1] "Checking intervention: intOverTotPop3"
[1] "Checking user variable: user_var_1"
[1] "Checking rule: rule_1"
[1] "Checking rule: rule_2"
[1] "Checking rule: rule_3"
[1] "Checking intervention: intOverTotPop"

 Ending interventions tests Mon Feb  3 22:15:52 2025 
  Took  5.19 


 Starting test.magellan at Mon Feb  3 22:15:52 2025 

 Ending test.magellan at Mon Feb  3 22:15:52 2025 
  Took  0.27 


 Starting test.modules-root-no-root at Mon Feb  3 22:15:52 2025 

 Ending test.modules-root-no-root at Mon Feb  3 22:15:52 2025 
  Took  0.09 


 Starting at mutPropGrowth  Mon Feb  3 22:15:52 2025 

 Ended test.mutPropGrowth:  Mon Feb  3 22:16:00 2025 
  Took  7.53 


 Starting test.mutator-oncoSimulSample.R test at Mon Feb  3 22:16:00 2025 

 Finished test.mutator-oncoSimulSample.R test at Mon Feb  3 22:16:09 2025 
  Took  9.5 seconds 


 Starting test.mutator.R test at Mon Feb  3 22:16:09 2025[1] 5.64599e-11
[1] 3.492303e-16

 Finished test.mutator.R test at Mon Feb  3 22:16:26 2025 
  Took  16.55 


 Starting test.mutatorFDF.R test at Mon Feb  3 22:16:26 2025
 Starting test.no-v1 at Mon Feb  3 22:16:26 2025 

 Ending test.no-v1 at Mon Feb  3 22:16:26 2025 
  Took  0.01 


 Starting oncoSimulIndiv-miscell tests Mon Feb  3 22:16:26 2025 

 Ending oncoSimulIndiv-miscell tests Mon Feb  3 22:16:32 2025 
  Took  5.32 


 Starting oncoSimulSample-failures tests Mon Feb  3 22:16:32 2025 

 Ending oncoSimulSample-failures tests Mon Feb  3 22:16:36 2025 
  Took  3.76 


 Starting oncoSimulSample-limits tests Mon Feb  3 22:16:36 2025 

 Ending oncoSimulSample-limits tests Mon Feb  3 22:16:36 2025 
  Took  0.43 


 Starting per-gene-mutation rates at Mon Feb  3 22:16:36 2025 

 Ending per-gene-mutation rates at Mon Feb  3 22:18:18 2025 
  Took  102.16 


 Starting plotFitnessLandscape at Mon Feb  3 22:18:18 2025
 Ending plotFitnessLandscape at Mon Feb  3 22:18:22 2025 
  Took  3.64 


 Starting poset-transformations tests Mon Feb  3 22:18:22 2025 

 Ending poset-transformations tests Mon Feb  3 22:18:36 2025 
  Took  14.21 


 Starting sample-prob Mon Feb  3 22:18:36 2025 
[1] 1.554362e-29
[1] 9.154192e-06
[1] 2.219476e-11
[1] 2.06795e-11
[1] 6.152732e-15
[1] 1.088358e-14
[1] 1.461996e-11
[1] 1.018793e-14
[1] 2.563292e-09
[1] 9.69188e-09
[1] 9.286896e-09
[1] 1.75185e-09

 Ending sample-prob tests Mon Feb  3 22:18:45 2025 
 Took  8.47 



 Starting samplePop tests Mon Feb  3 22:18:45 2025 

 Ending samplePop tests Mon Feb  3 22:18:50 2025 
  Took  5.25 


 Starting simuls-runs-examples tests Mon Feb  3 22:18:50 2025 

 Ending simuls-runs-examples tests Mon Feb  3 22:18:56 2025 
  Took  6.3 


 Starting user variable tests Mon Feb  3 22:18:56 2025 
[1] "Checking user variable: user_var_1"
[1] "Checking rule: rule_1"

 Ending user variable tests Mon Feb  3 22:18:56 2025 
  Took  0.25 


 Starting warning-mutPropGrowth tests Mon Feb  3 22:18:56 2025 

 Ending warning-mutPropGrowth tests Mon Feb  3 22:18:57 2025 
  Took  0.99 


 Starting wide2long tests Mon Feb  3 22:18:57 2025 

 Ending wide2long tests Mon Feb  3 22:18:58 2025 
  Took  0.38 

[ FAIL 0 | WARN 19 | SKIP 7 | PASS 8415 ]

══ Skipped tests (7) ═══════════════════════════════════════════════════════════
• On Mac (2): 'test.Z-magellan.R:664:5', 'test.Z-oncoSimulIndivFDF.R:125:3'
• empty test (5): 'test.FDF-letter-fitness-order.R:376:1',
  'test.ZZ-dummy-skip-warn-test.R:8:1', 'test.ZZ-dummy-skip-warn-test.R:12:1',
  'test.fixation.R:4:1', 'test.init-mutant.R:1099:1'

[ FAIL 0 | WARN 19 | SKIP 7 | PASS 8415 ]
> 
> proc.time()
   user  system elapsed 
245.307  99.329 301.712 

Example timings

OncoSimulR.Rcheck/OncoSimulR-Ex.timings

nameusersystemelapsed
OncoSimulWide2Long0.1510.0040.156
POM0.7930.0700.499
allFitnessEffects1.9260.0702.007
benchmarks0.0080.0050.013
createInterventions0.3040.0130.318
createUserVars0.4920.0210.516
evalAllGenotypes0.2290.0150.245
example-missing-drivers0.2560.0180.277
examplePosets0.3110.0090.321
examplesFitnessEffects0.0990.0050.105
freq-dep-simul-examples0.0090.0030.011
mcfLs0.0000.0000.001
oncoSimulIndiv1.1480.1711.284
plot.fitnessEffects0.2420.0260.271
plot.oncosimul0.4020.0210.427
plotClonePhylog1.6420.0721.726
plotFitnessLandscape1.1830.0271.218
plotPoset0.0960.0060.104
poset0.1270.0080.137
rfitness0.6740.0140.733
samplePop0.0530.0690.095
simOGraph0.0840.0150.099
to_Magellan0.2070.0630.374
vignette_pre_computed0.0070.0030.011