Back to Multiple platform build/check report for BioC 3.21: simplified long |
|
This page was generated on 2025-02-01 11:45 -0500 (Sat, 01 Feb 2025).
Hostname | OS | Arch (*) | R version | Installed pkgs |
---|---|---|---|---|
nebbiolo1 | Linux (Ubuntu 24.04.1 LTS) | x86_64 | R Under development (unstable) (2025-01-20 r87609) -- "Unsuffered Consequences" | 4704 |
palomino7 | Windows Server 2022 Datacenter | x64 | R Under development (unstable) (2025-01-21 r87610 ucrt) -- "Unsuffered Consequences" | 4467 |
lconway | macOS 12.7.1 Monterey | x86_64 | R Under development (unstable) (2025-01-22 r87618) -- "Unsuffered Consequences" | 4478 |
kjohnson3 | macOS 13.7.1 Ventura | arm64 | R Under development (unstable) (2025-01-20 r87609) -- "Unsuffered Consequences" | 4431 |
Click on any hostname to see more info about the system (e.g. compilers) (*) as reported by 'uname -p', except on Windows and Mac OS X |
Package 1454/2289 | Hostname | OS / Arch | INSTALL | BUILD | CHECK | BUILD BIN | ||||||||
OmnipathR 3.15.0 (landing page) Denes Turei
| nebbiolo1 | Linux (Ubuntu 24.04.1 LTS) / x86_64 | OK | OK | OK | |||||||||
palomino7 | Windows Server 2022 Datacenter / x64 | OK | OK | OK | OK | |||||||||
lconway | macOS 12.7.1 Monterey / x86_64 | OK | OK | OK | OK | |||||||||
kjohnson3 | macOS 13.7.1 Ventura / arm64 | OK | OK | OK | OK | |||||||||
To the developers/maintainers of the OmnipathR package: - Allow up to 24 hours (and sometimes 48 hours) for your latest push to git@git.bioconductor.org:packages/OmnipathR.git to reflect on this report. See Troubleshooting Build Report for more information. - Use the following Renviron settings to reproduce errors and warnings. - If 'R CMD check' started to fail recently on the Linux builder(s) over a missing dependency, add the missing dependency to 'Suggests:' in your DESCRIPTION file. See Renviron.bioc for more information. |
Package: OmnipathR |
Version: 3.15.0 |
Command: /Library/Frameworks/R.framework/Resources/bin/R CMD check --install=check:OmnipathR.install-out.txt --library=/Library/Frameworks/R.framework/Resources/library --no-vignettes --timings OmnipathR_3.15.0.tar.gz |
StartedAt: 2025-01-31 20:32:19 -0500 (Fri, 31 Jan 2025) |
EndedAt: 2025-01-31 20:41:09 -0500 (Fri, 31 Jan 2025) |
EllapsedTime: 530.3 seconds |
RetCode: 0 |
Status: OK |
CheckDir: OmnipathR.Rcheck |
Warnings: 0 |
############################################################################## ############################################################################## ### ### Running command: ### ### /Library/Frameworks/R.framework/Resources/bin/R CMD check --install=check:OmnipathR.install-out.txt --library=/Library/Frameworks/R.framework/Resources/library --no-vignettes --timings OmnipathR_3.15.0.tar.gz ### ############################################################################## ############################################################################## * using log directory ‘/Users/biocbuild/bbs-3.21-bioc/meat/OmnipathR.Rcheck’ * using R Under development (unstable) (2025-01-20 r87609) * using platform: aarch64-apple-darwin20 * R was compiled by Apple clang version 14.0.0 (clang-1400.0.29.202) GNU Fortran (GCC) 14.2.0 * running under: macOS Ventura 13.7.1 * using session charset: UTF-8 * using option ‘--no-vignettes’ * checking for file ‘OmnipathR/DESCRIPTION’ ... OK * checking extension type ... Package * this is package ‘OmnipathR’ version ‘3.15.0’ * package encoding: UTF-8 * checking package namespace information ... OK * checking package dependencies ... INFO Imports includes 33 non-default packages. Importing from so many packages makes the package vulnerable to any of them becoming unavailable. Move as many as possible to Suggests and use conditionally. * checking if this is a source package ... OK * checking if there is a namespace ... OK * checking for hidden files and directories ... OK * checking for portable file names ... OK * checking for sufficient/correct file permissions ... OK * checking whether package ‘OmnipathR’ can be installed ... OK * checking installed package size ... OK * checking package directory ... OK * checking DESCRIPTION meta-information ... OK * checking top-level files ... OK * checking for left-over files ... OK * checking index information ... OK * checking package subdirectories ... OK * checking code files for non-ASCII characters ... OK * checking R files for syntax errors ... OK * checking whether the package can be loaded ... OK * checking whether the package can be loaded with stated dependencies ... OK * checking whether the package can be unloaded cleanly ... OK * checking whether the namespace can be loaded with stated dependencies ... OK * checking whether the namespace can be unloaded cleanly ... OK * checking whether startup messages can be suppressed ... NOTE [2025-01-31 20:32:29] [TRACE] [OmnipathR] Reading JSON from `/Users/biocbuild/Library/Caches/OmnipathR/cache.json` (encoding: UTF-8). [2025-01-31 20:32:29] [TRACE] [OmnipathR] JSON validation successful: TRUE [2025-01-31 20:32:29] [INFO] [OmnipathR] Initialized cache: `/Users/biocbuild/Library/Caches/OmnipathR`. [2025-01-31 20:32:29] [TRACE] [OmnipathR] Running on a build server, wiping cache. [2025-01-31 20:32:29] [TRACE] [OmnipathR] Cache is at `/Users/biocbuild/Library/Caches/OmnipathR`. [2025-01-31 20:32:29] [TRACE] [OmnipathR] Contains 1 files. [2025-01-31 20:32:29] [TRACE] [OmnipathR] Cache is locked: FALSE. [2025-01-31 20:32:29] [TRACE] [OmnipathR] Reading JSON from `/Users/biocbuild/Library/Caches/OmnipathR/cache.json` (encoding: UTF-8). [2025-01-31 20:32:29] [TRACE] [OmnipathR] JSON validation successful: TRUE [2025-01-31 20:32:29] [SUCCESS] [OmnipathR] Removing all cache contents from `/Users/biocbuild/Library/Caches/OmnipathR`. [2025-01-31 20:32:29] [TRACE] [OmnipathR] Pandoc version: `3.1.12.3`. [2025-01-31 20:32:29] [TRACE] [OmnipathR] Reading JSON from `/Library/Frameworks/R.framework/Versions/4.5-arm64/Resources/library/OmnipathR/db/db_def.json` (encoding: UTF-8). [2025-01-31 20:32:29] [TRACE] [OmnipathR] JSON validation successful: TRUE [2025-01-31 20:32:29] [TRACE] [OmnipathR] Reading JSON from `/Library/Frameworks/R.framework/Versions/4.5-arm64/Resources/library/OmnipathR/internal/magic_bytes.json` (encoding: UTF-8). [2025-01-31 20:32:29] [TRACE] [OmnipathR] JSON validation successful: TRUE [2025-01-31 20:32:29] [TRACE] [OmnipathR] Reading JSON from `/Library/Frameworks/R.framework/Versions/4.5-arm64/Resources/library/OmnipathR/internal/urls.json` (encoding: UTF-8). [2025-01-31 20:32:29] [TRACE] [OmnipathR] JSON validation successful: TRUE [2025-01-31 20:32:29] [TRACE] [OmnipathR] Reading JSON from `/Library/Frameworks/R.framework/Versions/4.5-arm64/Resources/library/OmnipathR/internal/id_types.json` (encoding: UTF-8). [2025-01-31 20:32:29] [TRACE] [OmnipathR] JSON validation successful: TRUE [2025-01-31 20:32:29] [TRACE] [OmnipathR] Cache locked: FALSE It looks like this package (or a package it requires) has a startup message which cannot be suppressed: see ?packageStartupMessage. * checking dependencies in R code ... OK * checking S3 generic/method consistency ... OK * checking replacement functions ... OK * checking foreign function calls ... OK * checking R code for possible problems ... NOTE [2025-01-31 20:32:34] [TRACE] [OmnipathR] Reading JSON from `/Users/biocbuild/Library/Caches/OmnipathR/cache.json` (encoding: UTF-8). [2025-01-31 20:32:34] [TRACE] [OmnipathR] JSON validation successful: TRUE [2025-01-31 20:32:34] [INFO] [OmnipathR] Initialized cache: `/Users/biocbuild/Library/Caches/OmnipathR`. [2025-01-31 20:32:34] [TRACE] [OmnipathR] Running on a build server, wiping cache. [2025-01-31 20:32:34] [TRACE] [OmnipathR] Cache is at `/Users/biocbuild/Library/Caches/OmnipathR`. [2025-01-31 20:32:34] [TRACE] [OmnipathR] Contains 1 files. [2025-01-31 20:32:34] [TRACE] [OmnipathR] Cache is locked: FALSE. [2025-01-31 20:32:34] [TRACE] [OmnipathR] Reading JSON from `/Users/biocbuild/Library/Caches/OmnipathR/cache.json` (encoding: UTF-8). [2025-01-31 20:32:34] [TRACE] [OmnipathR] JSON validation successful: TRUE [2025-01-31 20:32:34] [SUCCESS] [OmnipathR] Removing all cache contents from `/Users/biocbuild/Library/Caches/OmnipathR`. [2025-01-31 20:32:34] [TRACE] [OmnipathR] Pandoc version: `3.1.12.3`. [2025-01-31 20:32:34] [TRACE] [OmnipathR] Reading JSON from `/Library/Frameworks/R.framework/Versions/4.5-arm64/Resources/library/OmnipathR/db/db_def.json` (encoding: UTF-8). [2025-01-31 20:32:34] [TRACE] [OmnipathR] JSON validation successful: TRUE [2025-01-31 20:32:34] [TRACE] [OmnipathR] Reading JSON from `/Library/Frameworks/R.framework/Versions/4.5-arm64/Resources/library/OmnipathR/internal/magic_bytes.json` (encoding: UTF-8). [2025-01-31 20:32:34] [TRACE] [OmnipathR] JSON validation successful: TRUE [2025-01-31 20:32:34] [TRACE] [OmnipathR] Reading JSON from `/Library/Frameworks/R.framework/Versions/4.5-arm64/Resources/library/OmnipathR/internal/urls.json` (encoding: UTF-8). [2025-01-31 20:32:34] [TRACE] [OmnipathR] JSON validation successful: TRUE [2025-01-31 20:32:34] [TRACE] [OmnipathR] Reading JSON from `/Library/Frameworks/R.framework/Versions/4.5-arm64/Resources/library/OmnipathR/internal/id_types.json` (encoding: UTF-8). [2025-01-31 20:32:34] [TRACE] [OmnipathR] JSON validation successful: TRUE [2025-01-31 20:32:34] [TRACE] [OmnipathR] Cache locked: FALSE * checking Rd files ... OK * checking Rd metadata ... OK * checking Rd cross-references ... OK * checking for missing documentation entries ... OK * checking for code/documentation mismatches ... OK * checking Rd \usage sections ... OK * checking Rd contents ... OK * checking for unstated dependencies in examples ... OK * checking R/sysdata.rda ... OK * checking files in ‘vignettes’ ... OK * checking examples ... OK Examples with CPU (user + system) or elapsed time > 5s user system elapsed annotation_categories 35.265 0.026 36.746 curated_ligrec_stats 9.230 0.492 81.693 omnipath-interactions 8.168 0.416 43.867 filter_extra_attrs 5.933 0.033 6.701 nichenet_gr_network_omnipath 5.324 0.375 8.099 extra_attr_values 4.575 0.088 9.305 nichenet_signaling_network_omnipath 4.202 0.301 10.731 pivot_annotations 4.079 0.260 22.131 with_extra_attrs 3.575 0.066 6.317 giant_component 3.176 0.098 9.996 static_table 2.701 0.144 9.225 omnipath_for_cosmos 2.696 0.088 19.015 filter_by_resource 2.650 0.049 5.125 translate_ids_multi 2.367 0.105 18.242 filter_intercell 2.252 0.145 7.143 print_interactions 1.804 0.085 7.699 curated_ligand_receptor_interactions 1.455 0.110 13.327 ensembl_id_mapping_table 0.485 0.065 14.361 biomart_query 0.388 0.032 6.285 uniprot_full_id_mapping_table 0.341 0.077 21.222 translate_ids 0.312 0.057 18.064 all_uniprots 0.244 0.031 19.983 * checking for unstated dependencies in ‘tests’ ... OK * checking tests ... Running ‘testthat.R’ OK * checking for unstated dependencies in vignettes ... OK * checking package vignettes ... OK * checking running R code from vignettes ... SKIPPED * checking re-building of vignette outputs ... SKIPPED * checking PDF version of manual ... OK * DONE Status: 2 NOTEs See ‘/Users/biocbuild/bbs-3.21-bioc/meat/OmnipathR.Rcheck/00check.log’ for details.
OmnipathR.Rcheck/00install.out
############################################################################## ############################################################################## ### ### Running command: ### ### /Library/Frameworks/R.framework/Resources/bin/R CMD INSTALL OmnipathR ### ############################################################################## ############################################################################## * installing to library ‘/Library/Frameworks/R.framework/Versions/4.5-arm64/Resources/library’ * installing *source* package ‘OmnipathR’ ... ** this is package ‘OmnipathR’ version ‘3.15.0’ ** using staged installation ** R ** inst ** byte-compile and prepare package for lazy loading ** help *** installing help indices *** copying figures ** building package indices ** installing vignettes ** testing if installed package can be loaded from temporary location [2025-01-31 15:17:32] [TRACE] [OmnipathR] Reading JSON from `/Users/biocbuild/Library/Caches/OmnipathR/cache.json` (encoding: UTF-8). [2025-01-31 15:17:32] [TRACE] [OmnipathR] JSON validation successful: TRUE [2025-01-31 15:17:32] [INFO] [OmnipathR] Initialized cache: `/Users/biocbuild/Library/Caches/OmnipathR`. [2025-01-31 15:17:32] [TRACE] [OmnipathR] Running on a build server, wiping cache. [2025-01-31 15:17:32] [TRACE] [OmnipathR] Cache is at `/Users/biocbuild/Library/Caches/OmnipathR`. [2025-01-31 15:17:32] [TRACE] [OmnipathR] Contains 1 files. [2025-01-31 15:17:32] [TRACE] [OmnipathR] Cache is locked: FALSE. [2025-01-31 15:17:32] [TRACE] [OmnipathR] Reading JSON from `/Users/biocbuild/Library/Caches/OmnipathR/cache.json` (encoding: UTF-8). [2025-01-31 15:17:32] [TRACE] [OmnipathR] JSON validation successful: TRUE [2025-01-31 15:17:32] [SUCCESS] [OmnipathR] Removing all cache contents from `/Users/biocbuild/Library/Caches/OmnipathR`. [2025-01-31 15:17:32] [TRACE] [OmnipathR] Pandoc version: `3.1.12.3`. [2025-01-31 15:17:32] [TRACE] [OmnipathR] Reading JSON from `/Library/Frameworks/R.framework/Versions/4.5-arm64/Resources/library/00LOCK-OmnipathR/00new/OmnipathR/db/db_def.json` (encoding: UTF-8). [2025-01-31 15:17:32] [TRACE] [OmnipathR] JSON validation successful: TRUE [2025-01-31 15:17:32] [TRACE] [OmnipathR] Reading JSON from `/Library/Frameworks/R.framework/Versions/4.5-arm64/Resources/library/00LOCK-OmnipathR/00new/OmnipathR/internal/magic_bytes.json` (encoding: UTF-8). [2025-01-31 15:17:32] [TRACE] [OmnipathR] JSON validation successful: TRUE [2025-01-31 15:17:32] [TRACE] [OmnipathR] Reading JSON from `/Library/Frameworks/R.framework/Versions/4.5-arm64/Resources/library/00LOCK-OmnipathR/00new/OmnipathR/internal/urls.json` (encoding: UTF-8). [2025-01-31 15:17:32] [TRACE] [OmnipathR] JSON validation successful: TRUE [2025-01-31 15:17:32] [TRACE] [OmnipathR] Reading JSON from `/Library/Frameworks/R.framework/Versions/4.5-arm64/Resources/library/00LOCK-OmnipathR/00new/OmnipathR/internal/id_types.json` (encoding: UTF-8). [2025-01-31 15:17:32] [TRACE] [OmnipathR] JSON validation successful: TRUE [2025-01-31 15:17:32] [TRACE] [OmnipathR] Cache locked: FALSE ** testing if installed package can be loaded from final location [2025-01-31 15:17:33] [TRACE] [OmnipathR] Reading JSON from `/Users/biocbuild/Library/Caches/OmnipathR/cache.json` (encoding: UTF-8). [2025-01-31 15:17:33] [TRACE] [OmnipathR] JSON validation successful: TRUE [2025-01-31 15:17:33] [INFO] [OmnipathR] Initialized cache: `/Users/biocbuild/Library/Caches/OmnipathR`. [2025-01-31 15:17:33] [TRACE] [OmnipathR] Running on a build server, wiping cache. [2025-01-31 15:17:33] [TRACE] [OmnipathR] Cache is at `/Users/biocbuild/Library/Caches/OmnipathR`. [2025-01-31 15:17:33] [TRACE] [OmnipathR] Contains 1 files. [2025-01-31 15:17:33] [TRACE] [OmnipathR] Cache is locked: FALSE. [2025-01-31 15:17:33] [TRACE] [OmnipathR] Reading JSON from `/Users/biocbuild/Library/Caches/OmnipathR/cache.json` (encoding: UTF-8). [2025-01-31 15:17:33] [TRACE] [OmnipathR] JSON validation successful: TRUE [2025-01-31 15:17:33] [SUCCESS] [OmnipathR] Removing all cache contents from `/Users/biocbuild/Library/Caches/OmnipathR`. [2025-01-31 15:17:33] [TRACE] [OmnipathR] Pandoc version: `3.1.12.3`. [2025-01-31 15:17:33] [TRACE] [OmnipathR] Reading JSON from `/Library/Frameworks/R.framework/Versions/4.5-arm64/Resources/library/OmnipathR/db/db_def.json` (encoding: UTF-8). [2025-01-31 15:17:33] [TRACE] [OmnipathR] JSON validation successful: TRUE [2025-01-31 15:17:33] [TRACE] [OmnipathR] Reading JSON from `/Library/Frameworks/R.framework/Versions/4.5-arm64/Resources/library/OmnipathR/internal/magic_bytes.json` (encoding: UTF-8). [2025-01-31 15:17:33] [TRACE] [OmnipathR] JSON validation successful: TRUE [2025-01-31 15:17:33] [TRACE] [OmnipathR] Reading JSON from `/Library/Frameworks/R.framework/Versions/4.5-arm64/Resources/library/OmnipathR/internal/urls.json` (encoding: UTF-8). [2025-01-31 15:17:33] [TRACE] [OmnipathR] JSON validation successful: TRUE [2025-01-31 15:17:33] [TRACE] [OmnipathR] Reading JSON from `/Library/Frameworks/R.framework/Versions/4.5-arm64/Resources/library/OmnipathR/internal/id_types.json` (encoding: UTF-8). [2025-01-31 15:17:33] [TRACE] [OmnipathR] JSON validation successful: TRUE [2025-01-31 15:17:33] [TRACE] [OmnipathR] Cache locked: FALSE ** testing if installed package keeps a record of temporary installation path * DONE (OmnipathR)
OmnipathR.Rcheck/tests/testthat.Rout
R Under development (unstable) (2025-01-20 r87609) -- "Unsuffered Consequences" Copyright (C) 2025 The R Foundation for Statistical Computing Platform: aarch64-apple-darwin20 R is free software and comes with ABSOLUTELY NO WARRANTY. You are welcome to redistribute it under certain conditions. Type 'license()' or 'licence()' for distribution details. R is a collaborative project with many contributors. Type 'contributors()' for more information and 'citation()' on how to cite R or R packages in publications. Type 'demo()' for some demos, 'help()' for on-line help, or 'help.start()' for an HTML browser interface to help. Type 'q()' to quit R. > #!/usr/bin/env Rscript > > # > # This file is part of the `OmnipathR` R package > # > # Copyright > # 2018-2024 > # Saez Lab, Uniklinik RWTH Aachen, Heidelberg University > # > # File author(s): Alberto Valdeolivas > # Dénes Türei (turei.denes@gmail.com) > # Attila Gábor > # > # Distributed under the MIT (Expat) License. > # See accompanying file `LICENSE` or find a copy at > # https://directory.fsf.org/wiki/License:Expat > # > # Website: https://r.omnipathdb.org/ > # Git repo: https://github.com/saezlab/OmnipathR > # > > > library(testthat) > library(OmnipathR) [2025-01-31 20:40:31] [TRACE] [OmnipathR] Reading JSON from `/Users/biocbuild/Library/Caches/OmnipathR/cache.json` (encoding: UTF-8). [2025-01-31 20:40:31] [TRACE] [OmnipathR] JSON validation successful: TRUE [2025-01-31 20:40:31] [INFO] [OmnipathR] Initialized cache: `/Users/biocbuild/Library/Caches/OmnipathR`. [2025-01-31 20:40:31] [TRACE] [OmnipathR] Running on a build server, wiping cache. [2025-01-31 20:40:31] [TRACE] [OmnipathR] Cache is at `/Users/biocbuild/Library/Caches/OmnipathR`. [2025-01-31 20:40:31] [TRACE] [OmnipathR] Contains 21 files. [2025-01-31 20:40:31] [TRACE] [OmnipathR] Cache is locked: FALSE. [2025-01-31 20:40:31] [TRACE] [OmnipathR] Reading JSON from `/Users/biocbuild/Library/Caches/OmnipathR/cache.json` (encoding: UTF-8). [2025-01-31 20:40:31] [TRACE] [OmnipathR] JSON validation successful: TRUE [2025-01-31 20:40:31] [SUCCESS] [OmnipathR] Removing all cache contents from `/Users/biocbuild/Library/Caches/OmnipathR`. [2025-01-31 20:40:31] [TRACE] [OmnipathR] Pandoc version: `3.1.12.3`. [2025-01-31 20:40:31] [TRACE] [OmnipathR] Reading JSON from `/Library/Frameworks/R.framework/Versions/4.5-arm64/Resources/library/OmnipathR/db/db_def.json` (encoding: UTF-8). [2025-01-31 20:40:31] [TRACE] [OmnipathR] JSON validation successful: TRUE [2025-01-31 20:40:31] [TRACE] [OmnipathR] Reading JSON from `/Library/Frameworks/R.framework/Versions/4.5-arm64/Resources/library/OmnipathR/internal/magic_bytes.json` (encoding: UTF-8). [2025-01-31 20:40:31] [TRACE] [OmnipathR] JSON validation successful: TRUE [2025-01-31 20:40:31] [TRACE] [OmnipathR] Reading JSON from `/Library/Frameworks/R.framework/Versions/4.5-arm64/Resources/library/OmnipathR/internal/urls.json` (encoding: UTF-8). [2025-01-31 20:40:31] [TRACE] [OmnipathR] JSON validation successful: TRUE [2025-01-31 20:40:31] [TRACE] [OmnipathR] Reading JSON from `/Library/Frameworks/R.framework/Versions/4.5-arm64/Resources/library/OmnipathR/internal/id_types.json` (encoding: UTF-8). [2025-01-31 20:40:31] [TRACE] [OmnipathR] JSON validation successful: TRUE [2025-01-31 20:40:31] [TRACE] [OmnipathR] Cache locked: FALSE > > test_check('OmnipathR') [ FAIL 0 | WARN 0 | SKIP 0 | PASS 34 ] > > proc.time() user system elapsed 3.613 0.398 32.019
OmnipathR.Rcheck/OmnipathR-Ex.timings
name | user | system | elapsed | |
OmnipathR | 0 | 0 | 0 | |
all_uniprot_acs | 0.004 | 0.001 | 0.005 | |
all_uniprots | 0.244 | 0.031 | 19.983 | |
ancestors | 0.002 | 0.001 | 0.003 | |
annotated_network | 0.227 | 0.027 | 3.587 | |
annotation_categories | 35.265 | 0.026 | 36.746 | |
annotation_resources | 0.018 | 0.001 | 0.561 | |
annotations | 0.073 | 0.007 | 0.922 | |
biomart_query | 0.388 | 0.032 | 6.285 | |
bioplex1 | 0.002 | 0.000 | 0.002 | |
bioplex2 | 0.002 | 0.000 | 0.002 | |
bioplex3 | 0.002 | 0.001 | 0.002 | |
bioplex_all | 0.014 | 0.000 | 0.015 | |
bioplex_hct116_1 | 0.002 | 0.000 | 0.002 | |
bma_motif_es | 0.095 | 0.014 | 0.991 | |
bma_motif_vs | 0.059 | 0.002 | 0.602 | |
chalmers_gem | 0.003 | 0.000 | 0.002 | |
chalmers_gem_id_mapping_table | 0.002 | 0.000 | 0.002 | |
chalmers_gem_id_type | 0.001 | 0.000 | 0.001 | |
chalmers_gem_metabolites | 0.002 | 0.000 | 0.003 | |
chalmers_gem_network | 0.003 | 0.000 | 0.002 | |
chalmers_gem_raw | 0.002 | 0.000 | 0.003 | |
chalmers_gem_reactions | 0.002 | 0.000 | 0.002 | |
common_name | 0.010 | 0.001 | 0.010 | |
complex_genes | 0.153 | 0.009 | 1.834 | |
complex_resources | 0.018 | 0.001 | 0.560 | |
complexes | 0.056 | 0.003 | 0.676 | |
consensuspathdb_download | 0 | 0 | 0 | |
consensuspathdb_raw_table | 0.002 | 0.000 | 0.002 | |
cosmos_pkn | 0 | 0 | 0 | |
curated_ligand_receptor_interactions | 1.455 | 0.110 | 13.327 | |
curated_ligrec_stats | 9.230 | 0.492 | 81.693 | |
database_summary | 0.458 | 0.014 | 3.737 | |
descendants | 0.003 | 0.000 | 0.003 | |
ensembl_dataset | 0.004 | 0.000 | 0.004 | |
ensembl_id_mapping_table | 0.485 | 0.065 | 14.361 | |
ensembl_id_type | 0.001 | 0.000 | 0.001 | |
ensembl_name | 0.02 | 0.00 | 0.03 | |
ensembl_organisms | 0.047 | 0.002 | 0.083 | |
ensembl_organisms_raw | 0.111 | 0.002 | 0.192 | |
ensembl_orthology | 0 | 0 | 0 | |
enzsub_graph | 0.983 | 0.038 | 3.471 | |
enzsub_resources | 0.021 | 0.002 | 0.552 | |
enzyme_substrate | 0.348 | 0.005 | 0.965 | |
evex_download | 0.002 | 0.000 | 0.003 | |
evidences | 0 | 0 | 0 | |
extra_attr_values | 4.575 | 0.088 | 9.305 | |
extra_attrs | 2.060 | 0.011 | 2.089 | |
extra_attrs_to_cols | 3.853 | 0.021 | 3.904 | |
filter_by_resource | 2.650 | 0.049 | 5.125 | |
filter_extra_attrs | 5.933 | 0.033 | 6.701 | |
filter_intercell | 2.252 | 0.145 | 7.143 | |
filter_intercell_network | 0.005 | 0.000 | 0.006 | |
find_all_paths | 1.844 | 0.058 | 1.905 | |
from_evidences | 0 | 0 | 0 | |
get_db | 0 | 0 | 0 | |
get_ontology_db | 0.002 | 0.001 | 0.002 | |
giant_component | 3.176 | 0.098 | 9.996 | |
go_annot_download | 4.356 | 0.225 | 4.670 | |
go_annot_slim | 0 | 0 | 0 | |
go_ontology_download | 0.002 | 0.000 | 0.003 | |
guide2pharma_download | 0.002 | 0.000 | 0.003 | |
harmonizome_download | 0.002 | 0.000 | 0.002 | |
has_extra_attrs | 1.951 | 0.027 | 2.004 | |
hmdb_id_mapping_table | 0.015 | 0.001 | 0.016 | |
hmdb_id_type | 0.000 | 0.000 | 0.001 | |
hmdb_metabolite_fields | 0.001 | 0.000 | 0.001 | |
hmdb_protein_fields | 0 | 0 | 0 | |
hmdb_table | 0.002 | 0.001 | 0.003 | |
homologene_download | 0.002 | 0.000 | 0.002 | |
homologene_raw | 0.006 | 0.000 | 0.006 | |
homologene_uniprot_orthology | 0.003 | 0.000 | 0.002 | |
hpo_download | 0.882 | 0.081 | 1.775 | |
htridb_download | 0.002 | 0.000 | 0.003 | |
id_translation_resources | 0 | 0 | 0 | |
id_types | 0.013 | 0.000 | 0.012 | |
inbiomap_download | 0.000 | 0.001 | 0.000 | |
inbiomap_raw | 0 | 0 | 0 | |
interaction_datasets | 0.085 | 0.007 | 0.329 | |
interaction_graph | 0.131 | 0.003 | 0.758 | |
interaction_resources | 0.021 | 0.003 | 0.641 | |
interaction_types | 0.013 | 0.001 | 0.013 | |
intercell | 0.120 | 0.014 | 0.724 | |
intercell_categories | 0.095 | 0.012 | 0.355 | |
intercell_consensus_filter | 0.425 | 0.037 | 2.789 | |
intercell_generic_categories | 0.012 | 0.001 | 0.012 | |
intercell_network | 0.002 | 0.000 | 0.002 | |
intercell_resources | 0.023 | 0.002 | 0.589 | |
intercell_summary | 0.016 | 0.004 | 0.020 | |
is_ontology_id | 0 | 0 | 0 | |
is_swissprot | 0.009 | 0.000 | 0.009 | |
is_trembl | 0.008 | 0.001 | 0.007 | |
is_uniprot | 0.002 | 0.000 | 0.002 | |
kegg_info | 0.002 | 0.000 | 0.002 | |
kegg_open | 0.002 | 0.000 | 0.002 | |
kegg_pathway_annotations | 0 | 0 | 0 | |
kegg_pathway_download | 0.002 | 0.000 | 0.002 | |
kegg_pathway_list | 0.002 | 0.000 | 0.002 | |
kegg_pathways_download | 0 | 0 | 0 | |
kegg_picture | 0.018 | 0.004 | 4.426 | |
kegg_process | 0.004 | 0.001 | 0.005 | |
latin_name | 0.029 | 0.001 | 0.030 | |
load_db | 0.019 | 0.000 | 0.019 | |
ncbi_taxid | 0.015 | 0.001 | 0.016 | |
nichenet_build_model | 0.000 | 0.000 | 0.001 | |
nichenet_expression_data | 0.002 | 0.000 | 0.003 | |
nichenet_gr_network | 0.006 | 0.001 | 0.006 | |
nichenet_gr_network_evex | 0.002 | 0.000 | 0.002 | |
nichenet_gr_network_harmonizome | 0.002 | 0.001 | 0.003 | |
nichenet_gr_network_htridb | 0.002 | 0.000 | 0.003 | |
nichenet_gr_network_omnipath | 5.324 | 0.375 | 8.099 | |
nichenet_gr_network_pathwaycommons | 0.003 | 0.000 | 0.003 | |
nichenet_gr_network_regnetwork | 0.002 | 0.000 | 0.002 | |
nichenet_gr_network_remap | 0.002 | 0.001 | 0.002 | |
nichenet_gr_network_trrust | 0.001 | 0.000 | 0.002 | |
nichenet_ligand_activities | 0 | 0 | 0 | |
nichenet_ligand_target_links | 0 | 0 | 0 | |
nichenet_ligand_target_matrix | 0 | 0 | 0 | |
nichenet_lr_network | 0.006 | 0.000 | 0.007 | |
nichenet_lr_network_guide2pharma | 0.002 | 0.000 | 0.002 | |
nichenet_lr_network_omnipath | 0.006 | 0.000 | 0.006 | |
nichenet_lr_network_ramilowski | 0.002 | 0.000 | 0.002 | |
nichenet_main | 0.000 | 0.001 | 0.000 | |
nichenet_networks | 0.010 | 0.001 | 0.011 | |
nichenet_optimization | 0 | 0 | 0 | |
nichenet_remove_orphan_ligands | 0.006 | 0.000 | 0.005 | |
nichenet_results_dir | 0 | 0 | 0 | |
nichenet_signaling_network | 0.006 | 0.001 | 0.006 | |
nichenet_signaling_network_cpdb | 0.002 | 0.000 | 0.002 | |
nichenet_signaling_network_evex | 0.002 | 0.000 | 0.002 | |
nichenet_signaling_network_harmonizome | 0.002 | 0.000 | 0.002 | |
nichenet_signaling_network_inbiomap | 0 | 0 | 0 | |
nichenet_signaling_network_omnipath | 4.202 | 0.301 | 10.731 | |
nichenet_signaling_network_pathwaycommons | 0.003 | 0.001 | 0.013 | |
nichenet_signaling_network_vinayagam | 0.002 | 0.000 | 0.002 | |
nichenet_test | 0 | 0 | 0 | |
nichenet_workarounds | 0 | 0 | 0 | |
obo_parser | 0.031 | 0.004 | 0.257 | |
oma_code | 0.015 | 0.000 | 0.015 | |
oma_organisms | 0.038 | 0.002 | 0.039 | |
oma_pairwise | 0.003 | 0.000 | 0.003 | |
oma_pairwise_genesymbols | 0.002 | 0.000 | 0.002 | |
oma_pairwise_translated | 0.004 | 0.001 | 0.005 | |
omnipath-interactions | 8.168 | 0.416 | 43.867 | |
omnipath_cache_autoclean | 0 | 0 | 0 | |
omnipath_cache_clean | 0.002 | 0.000 | 0.002 | |
omnipath_cache_clean_db | 0.023 | 0.002 | 0.025 | |
omnipath_cache_download_ready | 0.125 | 0.013 | 0.169 | |
omnipath_cache_filter_versions | 0.023 | 0.004 | 0.050 | |
omnipath_cache_get | 0.018 | 0.002 | 0.020 | |
omnipath_cache_key | 0 | 0 | 0 | |
omnipath_cache_latest_or_new | 0.013 | 0.002 | 0.016 | |
omnipath_cache_load | 0.206 | 0.012 | 2.875 | |
omnipath_cache_move_in | 0.038 | 0.006 | 0.049 | |
omnipath_cache_remove | 0.023 | 0.003 | 0.031 | |
omnipath_cache_save | 0.036 | 0.005 | 0.196 | |
omnipath_cache_search | 0 | 0 | 0 | |
omnipath_cache_set_ext | 0.019 | 0.002 | 0.026 | |
omnipath_cache_update_status | 0.020 | 0.003 | 0.022 | |
omnipath_cache_wipe | 0.000 | 0.000 | 0.001 | |
omnipath_config_path | 0 | 0 | 0 | |
omnipath_for_cosmos | 2.696 | 0.088 | 19.015 | |
omnipath_load_config | 0 | 0 | 0 | |
omnipath_log | 0 | 0 | 0 | |
omnipath_logfile | 0.000 | 0.000 | 0.001 | |
omnipath_msg | 0.002 | 0.001 | 0.001 | |
omnipath_query | 1.142 | 0.023 | 1.167 | |
omnipath_reset_config | 0 | 0 | 0 | |
omnipath_save_config | 0 | 0 | 0 | |
omnipath_set_cachedir | 0.025 | 0.001 | 0.025 | |
omnipath_set_console_loglevel | 0.001 | 0.001 | 0.001 | |
omnipath_set_logfile_loglevel | 0.001 | 0.000 | 0.001 | |
omnipath_set_loglevel | 0 | 0 | 0 | |
omnipath_show_db | 0.015 | 0.000 | 0.015 | |
omnipath_unlock_cache_db | 0.000 | 0.001 | 0.000 | |
only_from | 0 | 0 | 0 | |
ontology_ensure_id | 0.001 | 0.000 | 0.000 | |
ontology_ensure_name | 0.000 | 0.000 | 0.001 | |
ontology_name_id | 0 | 0 | 0 | |
organism_for | 0.011 | 0.001 | 0.012 | |
pathwaycommons_download | 0.001 | 0.000 | 0.000 | |
pivot_annotations | 4.079 | 0.260 | 22.131 | |
preppi_download | 0.000 | 0.000 | 0.001 | |
preppi_filter | 0 | 0 | 0 | |
print_bma_motif_es | 0.061 | 0.016 | 0.862 | |
print_bma_motif_vs | 0.034 | 0.002 | 0.583 | |
print_interactions | 1.804 | 0.085 | 7.699 | |
print_path_es | 0.153 | 0.016 | 1.683 | |
print_path_vs | 0.732 | 0.047 | 3.394 | |
pubmed_open | 1.246 | 0.023 | 1.283 | |
query_info | 0.025 | 0.003 | 0.262 | |
ramilowski_download | 0 | 0 | 0 | |
ramp_id_mapping_table | 0.001 | 0.000 | 0.000 | |
ramp_id_type | 0.000 | 0.000 | 0.001 | |
ramp_sqlite | 0.001 | 0.000 | 0.000 | |
ramp_table | 0 | 0 | 0 | |
ramp_tables | 0 | 0 | 0 | |
regnetwork_directions | 0.000 | 0.001 | 0.001 | |
regnetwork_download | 0 | 0 | 0 | |
relations_list_to_table | 0.021 | 0.001 | 0.032 | |
relations_table_to_graph | 0 | 0 | 0 | |
relations_table_to_list | 0.020 | 0.002 | 0.030 | |
remap_dorothea_download | 0.000 | 0.001 | 0.001 | |
remap_filtered | 0 | 0 | 0 | |
remap_tf_target_download | 0 | 0 | 0 | |
resource_info | 0.042 | 0.017 | 0.604 | |
resources | 0.016 | 0.002 | 0.568 | |
resources_colname | 0.249 | 0.018 | 2.462 | |
resources_in | 1.079 | 0.009 | 1.089 | |
show_network | 0 | 0 | 0 | |
signed_ptms | 1.537 | 0.024 | 2.280 | |
simplify_intercell_network | 0.001 | 0.000 | 0.000 | |
static_table | 2.701 | 0.144 | 9.225 | |
static_tables | 0.013 | 0.000 | 0.019 | |
stitch_actions | 0 | 0 | 0 | |
stitch_links | 0 | 0 | 0 | |
stitch_network | 0 | 0 | 0 | |
stitch_remove_prefixes | 0.002 | 0.000 | 0.002 | |
swap_relations | 0.021 | 0.001 | 0.039 | |
swissprots_only | 0.009 | 0.000 | 0.009 | |
tfcensus_download | 0.048 | 0.005 | 0.183 | |
translate_ids | 0.312 | 0.057 | 18.064 | |
translate_ids_multi | 2.367 | 0.105 | 18.242 | |
trembls_only | 0.009 | 0.000 | 0.009 | |
trrust_download | 0.000 | 0.000 | 0.001 | |
uniprot_full_id_mapping_table | 0.341 | 0.077 | 21.222 | |
uniprot_genesymbol_cleanup | 0 | 0 | 0 | |
uniprot_id_mapping_table | 0.001 | 0.000 | 0.000 | |
uniprot_id_type | 0.000 | 0.000 | 0.001 | |
uniprot_idmapping_id_types | 0.046 | 0.008 | 0.473 | |
unique_intercell_network | 0.000 | 0.001 | 0.000 | |
unnest_evidences | 0 | 0 | 0 | |
uploadlists_id_type | 0.001 | 0.000 | 0.001 | |
vinayagam_download | 0 | 0 | 0 | |
walk_ontology_tree | 0.000 | 0.001 | 0.000 | |
with_extra_attrs | 3.575 | 0.066 | 6.317 | |
with_references | 0.132 | 0.017 | 1.599 | |
zenodo_download | 0.000 | 0.001 | 0.001 | |