Back to Multiple platform build/check report for BioC 3.22:   simplified   long
ABCDEFGHIJKLMN[O]PQRSTUVWXYZ

This page was generated on 2025-10-21 12:07 -0400 (Tue, 21 Oct 2025).

HostnameOSArch (*)R versionInstalled pkgs
nebbiolo2Linux (Ubuntu 24.04.3 LTS)x86_644.5.1 Patched (2025-08-23 r88802) -- "Great Square Root" 4887
lconwaymacOS 12.7.6 Montereyx86_644.5.1 Patched (2025-09-10 r88807) -- "Great Square Root" 4677
kjohnson3macOS 13.7.7 Venturaarm644.5.1 Patched (2025-09-10 r88807) -- "Great Square Root" 4622
taishanLinux (openEuler 24.03 LTS)aarch644.5.0 (2025-04-11) -- "How About a Twenty-Six" 4642
Click on any hostname to see more info about the system (e.g. compilers)      (*) as reported by 'uname -p', except on Windows and Mac OS X

Package 1516/2353HostnameOS / ArchINSTALLBUILDCHECKBUILD BIN
ORFik 1.29.9  (landing page)
Haakon Tjeldnes
Snapshot Date: 2025-10-20 13:45 -0400 (Mon, 20 Oct 2025)
git_url: https://git.bioconductor.org/packages/ORFik
git_branch: devel
git_last_commit: 91fe5a2
git_last_commit_date: 2025-09-19 07:15:59 -0400 (Fri, 19 Sep 2025)
nebbiolo2Linux (Ubuntu 24.04.3 LTS) / x86_64  OK    OK    OK  UNNEEDED, same version is already published
lconwaymacOS 12.7.6 Monterey / x86_64  OK    OK    OK    OK  UNNEEDED, same version is already published
kjohnson3macOS 13.7.7 Ventura / arm64  OK    OK    OK    OK  UNNEEDED, same version is already published
taishanLinux (openEuler 24.03 LTS) / aarch64  OK    OK    OK  


CHECK results for ORFik on taishan

To the developers/maintainers of the ORFik package:
- Allow up to 24 hours (and sometimes 48 hours) for your latest push to git@git.bioconductor.org:packages/ORFik.git to reflect on this report. See Troubleshooting Build Report for more information.
- Use the following Renviron settings to reproduce errors and warnings.
- If 'R CMD check' started to fail recently on the Linux builder(s) over a missing dependency, add the missing dependency to 'Suggests:' in your DESCRIPTION file. See Renviron.bioc for more information.
- See Martin Grigorov's blog post for how to debug Linux ARM64 related issues on a x86_64 host.

raw results


Summary

Package: ORFik
Version: 1.29.9
Command: /home/biocbuild/R/R/bin/R CMD check --install=check:ORFik.install-out.txt --library=/home/biocbuild/R/R/site-library --no-vignettes --timings ORFik_1.29.9.tar.gz
StartedAt: 2025-10-17 11:54:40 -0000 (Fri, 17 Oct 2025)
EndedAt: 2025-10-17 12:09:03 -0000 (Fri, 17 Oct 2025)
EllapsedTime: 863.3 seconds
RetCode: 0
Status:   OK  
CheckDir: ORFik.Rcheck
Warnings: 0

Command output

##############################################################################
##############################################################################
###
### Running command:
###
###   /home/biocbuild/R/R/bin/R CMD check --install=check:ORFik.install-out.txt --library=/home/biocbuild/R/R/site-library --no-vignettes --timings ORFik_1.29.9.tar.gz
###
##############################################################################
##############################################################################


* using log directory ‘/home/biocbuild/bbs-3.22-bioc/meat/ORFik.Rcheck’
* using R version 4.5.0 (2025-04-11)
* using platform: aarch64-unknown-linux-gnu
* R was compiled by
    aarch64-unknown-linux-gnu-gcc (GCC) 14.2.0
    GNU Fortran (GCC) 14.2.0
* running under: openEuler 24.03 (LTS)
* using session charset: UTF-8
* using option ‘--no-vignettes’
* checking for file ‘ORFik/DESCRIPTION’ ... OK
* checking extension type ... Package
* this is package ‘ORFik’ version ‘1.29.9’
* package encoding: UTF-8
* checking package namespace information ... OK
* checking package dependencies ... INFO
Imports includes 29 non-default packages.
Importing from so many packages makes the package vulnerable to any of
them becoming unavailable.  Move as many as possible to Suggests and
use conditionally.
* checking if this is a source package ... OK
* checking if there is a namespace ... OK
* checking for hidden files and directories ... OK
* checking for portable file names ... NOTE
Found the following non-portable file path:
  ORFik/inst/extdata/test_processing/contaminants_depletion/LOGS/contaminants_output_template_Log.final.out

Tarballs are only required to store paths of up to 100 bytes and cannot
store those of more than 256 bytes, with restrictions including to 100
bytes for the final component.
See section ‘Package structure’ in the ‘Writing R Extensions’ manual.
* checking for sufficient/correct file permissions ... OK
* checking whether package ‘ORFik’ can be installed ... OK
* used C++ compiler: ‘aarch64-unknown-linux-gnu-g++ (GCC) 14.2.0’
* checking installed package size ... INFO
  installed size is  7.6Mb
  sub-directories of 1Mb or more:
    R         1.2Mb
    extdata   1.5Mb
    help      1.0Mb
    libs      3.0Mb
* checking package directory ... OK
* checking ‘build’ directory ... OK
* checking DESCRIPTION meta-information ... NOTE
License stub is invalid DCF.
* checking top-level files ... OK
* checking for left-over files ... OK
* checking index information ... OK
* checking package subdirectories ... OK
* checking code files for non-ASCII characters ... OK
* checking R files for syntax errors ... OK
* checking whether the package can be loaded ... OK
* checking whether the package can be loaded with stated dependencies ... OK
* checking whether the package can be unloaded cleanly ... OK
* checking whether the namespace can be loaded with stated dependencies ... NOTE
Warning: no function found corresponding to methods exports from ‘ORFik’ for: ‘organism’

A namespace must be able to be loaded with just the base namespace
loaded: otherwise if the namespace gets loaded by a saved object, the
session will be unable to start.

Probably some imports need to be declared in the NAMESPACE file.
* checking whether the namespace can be unloaded cleanly ... OK
* checking loading without being on the library search path ... OK
* checking dependencies in R code ... NOTE
Unexported objects imported by ':::' calls:
  ‘GenomicFeatures:::.merge_seqinfo_and_infer_missing_seqlengths’
  ‘IRanges:::regroupBySupergroup’ ‘S4Vectors:::normarg_mcols’
  ‘biomartr:::getENSEMBL.Seq’ ‘biomartr:::getENSEMBL.gtf’
  See the note in ?`:::` about the use of this operator.
There are ::: calls to the package's namespace in its code. A package
  almost never needs to use ::: for its own objects:
  ‘go_analaysis_gorilla’ ‘pseudoIntronsPerGroup’
* checking S3 generic/method consistency ... OK
* checking replacement functions ... OK
* checking foreign function calls ... OK
* checking R code for possible problems ... NOTE
DEG.plot.static: no visible binding for global variable ‘Regulation’
DEG.plot.static: no visible binding for global variable ‘meanCounts’
DEG.plot.static: no visible binding for global variable ‘LFC’
DEG_gorilla: no visible binding for global variable ‘contrast’
DEG_gorilla: no visible binding for global variable ‘Regulation’
DEG_gorilla: no visible binding for global variable
  ‘external_gene_name’
DEG_model_simple: no visible binding for global variable ‘id’
DEG_model_simple: no visible binding for global variable ‘contrast’
DTEG.plot: no visible binding for global variable ‘Regulation’
DTEG.plot: no visible binding for global variable ‘rna.lfc’
DTEG.plot: no visible binding for global variable ‘rfp.lfc’
DTEG_add_regulation_categories: no visible binding for global variable
  ‘te.sign’
DTEG_add_regulation_categories: no visible binding for global variable
  ‘rfp.sign’
DTEG_add_regulation_categories: no visible binding for global variable
  ‘rna.sign’
DTEG_add_regulation_categories: no visible binding for global variable
  ‘Regulation’
DTEG_add_regulation_categories: no visible binding for global variable
  ‘all_models_sign’
DTEG_add_regulation_categories: no visible binding for global variable
  ‘te.lfc’
DTEG_add_regulation_categories: no visible binding for global variable
  ‘rna.lfc’
DTEG_pair_results: no visible binding for global variable ‘rna.sign’
DTEG_pair_results: no visible binding for global variable ‘rna.padj’
DTEG_pair_results: no visible binding for global variable ‘rfp.sign’
DTEG_pair_results: no visible binding for global variable ‘rfp.padj’
DTEG_pair_results: no visible binding for global variable ‘te.sign’
DTEG_pair_results: no visible binding for global variable ‘te.padj’
DTEG_pair_results: no visible binding for global variable
  ‘all_models_sign’
QCstats.plot: no visible binding for global variable ‘variable’
QCstats.plot: no visible binding for global variable ‘sample_total’
QCstats.plot: no visible binding for global variable ‘value’
QCstats.plot: no visible global function definition for ‘.’
QCstats.plot: no visible binding for global variable ‘sample_id’
QCstats.plot: no visible binding for global variable ‘percentage’
QCstats.plot: no visible binding for global variable
  ‘perc_of_counts_per_sample’
QCstats.plot: no visible binding for global variable ‘read length’
RiboQC.plot: no visible binding for global variable ‘variable’
RiboQC.plot: no visible binding for global variable ‘sample_total’
RiboQC.plot: no visible binding for global variable ‘value’
RiboQC.plot: no visible global function definition for ‘.’
RiboQC.plot: no visible binding for global variable ‘sample_id’
RiboQC.plot: no visible binding for global variable ‘percentage’
RiboQC.plot: no visible binding for global variable ‘percent’
RiboQC.plot: no visible binding for global variable ‘frame’
STAR.multiQC_plot: no visible binding for global variable ‘value’
STAR.multiQC_plot: no visible binding for global variable ‘sample_id’
TOP.Motif.ecdf: no visible binding for global variable ‘seq1’
TOP.Motif.ecdf: no visible binding for global variable ‘TOP’
alignmentFeatureStatistics : <anonymous>: no visible binding for global
  variable ‘percentage_mrna_aligned’
alignmentFeatureStatistics : <anonymous>: no visible binding for global
  variable ‘mRNA’
alignmentFeatureStatistics : <anonymous>: no visible binding for global
  variable ‘percentage_tx_aligned’
alignmentFeatureStatistics : <anonymous>: no visible binding for global
  variable ‘Transcript’
alignmentFeatureStatistics : <anonymous>: no visible binding for global
  variable ‘ratio_cds_mrna’
alignmentFeatureStatistics : <anonymous>: no visible binding for global
  variable ‘CDS’
alignmentFeatureStatistics : <anonymous>: no visible binding for global
  variable ‘ratio_cds_leader’
alignmentFeatureStatistics : <anonymous>: no visible binding for global
  variable ‘LEADERS’
allFeaturesHelper: no visible binding for global variable ‘te’
allFeaturesHelper: no visible binding for global variable ‘fpkmRFP’
allFeaturesHelper: no visible binding for global variable ‘fpkmRNA’
allFeaturesHelper: no visible binding for global variable ‘countRFP’
allFeaturesHelper: no visible binding for global variable ‘entropyRFP’
allFeaturesHelper: no visible binding for global variable
  ‘disengagementScores’
allFeaturesHelper: no visible binding for global variable ‘RRS’
allFeaturesHelper: no visible binding for global variable ‘RSS’
allFeaturesHelper: no visible binding for global variable ‘ORFScores’
allFeaturesHelper: no visible binding for global variable ‘ioScore’
allFeaturesHelper: no visible binding for global variable
  ‘startCodonCoverage’
allFeaturesHelper: no visible binding for global variable
  ‘startRegionRelative’
allFeaturesHelper: no visible binding for global variable ‘kozak’
allFeaturesHelper: no visible binding for global variable ‘StartCodons’
allFeaturesHelper: no visible binding for global variable ‘StopCodons’
allFeaturesHelper: no visible binding for global variable
  ‘fractionLengths’
allFeaturesHelper: no visible binding for global variable ‘distORFCDS’
allFeaturesHelper: no visible binding for global variable ‘inFrameCDS’
allFeaturesHelper: no visible binding for global variable
  ‘isOverlappingCds’
allFeaturesHelper: no visible binding for global variable ‘rankInTx’
appendZeroes: no visible binding for global variable ‘frame’
appendZeroes: no visible binding for global variable ‘position’
appendZeroes: no visible binding for global variable ‘count’
append_gene_symbols: no visible binding for global variable
  ‘id_original’
append_gene_symbols: no visible binding for global variable ‘id’
append_gene_symbols: no visible binding for global variable
  ‘external_gene_name’
append_gene_symbols: no visible binding for global variable ‘label’
artificial.orfs: no visible binding for global variable ‘random’
artificial.orfs: no visible binding for global variable ‘pick’
artificial.orfs: no visible global function definition for ‘.’
bamLoadCollapsedScores: no visible global function definition for
  ‘bamTag<-’
bamLoadCollapsedScores: no visible global function definition for
  ‘bamWhat<-’
browseSRA: no visible global function definition for ‘browseURL’
cellTypeNames: missing arguments not allowed in calls to ‘c’
codonSumsPerGroup: no visible binding for global variable ‘genes’
codon_usage: no visible binding for global variable ‘merged’
codon_usage: no visible binding for global variable ‘AA’
codon_usage: no visible binding for global variable ‘codon’
codon_usage_plot: no visible binding for global variable ‘seqs’
collapse.by.scores: no visible global function definition for ‘.’
collapse.fastq.internal: no visible binding for global variable ‘N’
cor_plot: no visible binding for global variable ‘Var2’
cor_plot: no visible binding for global variable ‘Var1’
cor_plot: no visible binding for global variable ‘Cor’
cor_table: no visible binding for global variable ‘Var1’
cor_table: no visible binding for global variable ‘Var2’
cor_table: no visible binding for global variable ‘Cor’
coverageByTranscriptFST: no visible binding for global variable
  ‘file_forward’
coverageByTranscriptFST: no visible binding for global variable
  ‘file_reverse’
coverageByTranscriptFST : <anonymous>: no visible binding for global
  variable ‘chr’
coverageByTranscriptFST : <anonymous>: no visible binding for global
  variable ‘query_id’
coverageByTranscriptFST : <anonymous>: no visible global function
  definition for ‘foverlaps’
coverageByTranscriptFST : <anonymous>: no visible binding for global
  variable ‘start_segment’
coverageByTranscriptFST : <anonymous>: no visible binding for global
  variable ‘i.start’
coverageByTranscriptFST : <anonymous>: no visible binding for global
  variable ‘end_segment’
coverageByTranscriptFST : <anonymous>: no visible binding for global
  variable ‘i.end’
coverageByTranscriptFST : <anonymous>: no visible binding for global
  variable ‘file_forward’
coverageByTranscriptFST : <anonymous>: no visible binding for global
  variable ‘file_reverse’
coverageByTranscriptFST : <anonymous>: no visible global function
  definition for ‘.’
coverageHeatMap: no visible binding for global variable ‘position’
coverageHeatMap: no visible binding for global variable ‘fraction’
coveragePerORFStatistics: no visible global function definition for ‘.’
coveragePerORFStatistics: no visible binding for global variable
  ‘count’
coveragePerORFStatistics: no visible binding for global variable
  ‘genes’
coverageScorings: no visible binding for global variable ‘count’
coverageScorings: no visible binding for global variable ‘zscore’
coverageScorings: no visible binding for global variable ‘windowMean’
coverageScorings: no visible binding for global variable ‘windowSD’
coverageScorings: no visible global function definition for ‘.’
coverageScorings: no visible binding for global variable ‘modzscore’
coverageScorings: no visible binding for global variable ‘windowMedian’
coverageScorings: no visible binding for global variable ‘windowMAD’
coverageScorings: no visible binding for global variable ‘gene_sum’
coverageScorings: no visible binding for global variable ‘fraction’
coverage_random_access_file: no visible binding for global variable
  ‘count’
coverage_random_access_file: no visible binding for global variable
  ‘genes’
coverage_random_access_file: no visible binding for global variable
  ‘position’
coverage_random_access_file: no visible binding for global variable
  ‘frame’
coverage_to_dt: no visible binding for global variable ‘frame’
coverage_to_dt: no visible binding for global variable ‘genes’
coverage_to_dt: no visible binding for global variable ‘position’
detectRibosomeShifts: no visible global function definition for ‘.’
detectRibosomeShifts: no visible binding for global variable ‘size’
detectRibosomeShifts: no visible binding for global variable ‘fraction’
detectRibosomeShifts: no visible binding for global variable ‘pShifted’
detectRibosomeShifts: no visible binding for global variable
  ‘sum.count’
detectRibosomeShifts: no visible binding for global variable ‘count’
detectRibosomeShifts: no visible binding for global variable ‘genes’
detectRibosomeShifts: no visible binding for global variable
  ‘frac.score’
detect_ribo_orfs: no visible global function definition for ‘organism’
download_gene_homologues: no visible binding for global variable
  ‘species’
entropy: no visible binding for global variable ‘Hx’
entropy: no visible binding for global variable ‘codonSums’
entropy: no visible global function definition for ‘.’
entropy: no visible binding for global variable ‘genes’
experiment_parse_list_info: no visible binding for global variable
  ‘index’
fetch_xml_attributes: no visible binding for global variable
  ‘..to_keep’
filterExtremePeakGenes: no visible binding for global variable ‘count’
filterExtremePeakGenes: no visible binding for global variable
  ‘median_per_gene’
filterExtremePeakGenes: no visible binding for global variable ‘genes’
filterExtremePeakGenes: no visible global function definition for ‘.’
filterTranscripts: no visible binding for global variable ‘utr5_len’
filterTranscripts: no visible binding for global variable ‘utr3_len’
filter_empty_runs: no visible binding for global variable ‘spots’
findNGSPairs: no visible global function definition for ‘.’
findNGSPairs: no visible binding for global variable ‘forward’
findPeaksPerGene: no visible binding for global variable ‘sum_per_gene’
findPeaksPerGene: no visible binding for global variable ‘count’
findPeaksPerGene: no visible binding for global variable ‘genes’
findPeaksPerGene: no visible binding for global variable
  ‘mean_per_gene’
findPeaksPerGene: no visible binding for global variable
  ‘median_per_gene’
findPeaksPerGene: no visible binding for global variable ‘sd_per_gene’
findPeaksPerGene: no visible binding for global variable ‘mad_per_gene’
findPeaksPerGene: no visible binding for global variable ‘zscore’
findPeaksPerGene: no visible binding for global variable ‘modzscore’
findPeaksPerGene: no visible binding for global variable ‘gene_id’
find_url_ebi_safe: no visible binding for global variable
  ‘run_accession’
floss: no visible binding for global variable ‘ORFGrouping’
floss: no visible binding for global variable ‘widths’
floss: no visible global function definition for ‘.’
floss: no visible binding for global variable ‘CDSGrouping’
floss: no visible binding for global variable ‘fraction.x’
floss: no visible binding for global variable ‘fraction.y’
gSort: no visible binding for global variable ‘grnames’
geneToSymbol: no visible global function definition for ‘organism’
geneToSymbol: no visible binding for global variable ‘ensembl_gene_id’
geneToSymbol: no visible binding for global variable
  ‘external_gene_name’
geneToSymbol: no visible binding for global variable
  ‘ensembl_transcript_id’
geneToSymbol: no visible binding for global variable ‘uniprotswissprot’
getNGenesCoverage: no visible global function definition for ‘.’
getNGenesCoverage: no visible binding for global variable ‘genes’
getNGenesCoverage: no visible binding for global variable ‘fraction’
get_phix_genome: no visible binding for global variable ‘phix.url’
go_analaysis_gorilla: no visible global function definition for
  ‘browseURL’
grl_has_any_valid_lengths: no visible binding for global variable ‘grl’
initiationScore: no visible global function definition for ‘.’
initiationScore: no visible binding for global variable ‘dif’
initiationScore: no visible binding for global variable ‘fraction’
initiationScore: no visible binding for global variable ‘genes’
initiationScore: no visible binding for global variable ‘difPer’
install.sratoolkit: no visible binding for global variable ‘osVersion’
isPeriodic: no visible binding for global variable ‘spec’
kozakHeatmap: no visible global function definition for ‘.’
kozakHeatmap: no visible binding for global variable ‘variable’
kozakHeatmap: no visible binding for global variable ‘value’
kozakHeatmap: no visible binding for global variable
  ‘count_seq_pos_with_count’
kozakHeatmap: no visible binding for global variable ‘median_score’
kozak_IR_ranking: no visible global function definition for ‘.’
kozak_IR_ranking: no visible binding for global variable ‘IR’
kozak_IR_ranking: no visible binding for global variable
  ‘upstream_kozak_strength’
kozak_IR_ranking: no visible binding for global variable ‘count’
kozak_IR_ranking: no visible binding for global variable ‘mean_IR’
list.genomes: no visible binding for global variable ‘STAR_index’
longestORFs: no visible global function definition for ‘.’
metaWindow: no visible binding for global variable ‘position’
metaWindow: no visible binding for global variable ‘frame’
metadata.autnaming: no visible binding for global variable
  ‘LIBRARYTYPE’
metadata.autnaming: no visible binding for global variable
  ‘LibraryStrategy’
ofst_merge_internal : <anonymous>: no visible global function
  definition for ‘.’
orfFrameDistributions : <anonymous>: no visible binding for global
  variable ‘fraction’
orfFrameDistributions: no visible binding for global variable ‘percent’
orfFrameDistributions: no visible binding for global variable
  ‘fraction’
orfFrameDistributions: no visible binding for global variable
  ‘percent_length’
orfFrameDistributions: no visible global function definition for ‘.’
orfFrameDistributions: no visible binding for global variable
  ‘best_frame’
orfScore: no visible binding for global variable ‘genes’
orfScore: no visible binding for global variable ‘frame’
orfScore: no visible binding for global variable ‘frame_one_RP’
orfScore: no visible binding for global variable ‘frame_two_RP’
pSitePlot: no visible binding for global variable ‘count’
pSitePlot: no visible binding for global variable ‘frame’
pSitePlot: no visible binding for global variable ‘position’
readLengthTable: no visible binding for global variable
  ‘counts_per_sample’
readLengthTable: no visible binding for global variable ‘sample_id’
readLengthTable: no visible binding for global variable
  ‘perc_of_counts_per_sample’
regionPerReadLength : <anonymous>: no visible binding for global
  variable ‘fraction’
remakeTxdbExonIds: no visible global function definition for ‘.’
remakeTxdbExonIds: no visible binding for global variable ‘chr’
removeTxdbExons: no visible binding for global variable ‘exon_rank’
removeTxdbExons: no visible binding for global variable ‘ranks’
riboORFsFolder: no visible global function definition for ‘organism’
ribo_fft: no visible binding for global variable ‘fraction’
ribo_fft_plot: no visible binding for global variable ‘periods’
ribo_fft_plot: no visible binding for global variable ‘amplitude’
rnaNormalize: no visible binding for global variable ‘genes’
rnaNormalize: no visible binding for global variable ‘feature’
sample_info_append_SRA: no visible binding for global variable ‘GEO’
scaledWindowPositions: no visible binding for global variable
  ‘scalingFactor’
scaledWindowPositions: no visible binding for global variable ‘genes’
scaledWindowPositions: no visible binding for global variable
  ‘position’
scaledWindowPositions: no visible global function definition for ‘.’
scoreSummarizedExperiment: no visible global function definition for
  ‘rowSums2’
seq_usage: no visible binding for global variable ‘variable’
seq_usage: no visible binding for global variable ‘codon_sum’
seq_usage: no visible global function definition for ‘.’
seq_usage: no visible binding for global variable ‘gene_sum’
seq_usage: no visible binding for global variable
  ‘N_AA_of_type_per_gene’
seq_usage: no visible binding for global variable ‘as_prob_normalized’
seq_usage: no visible binding for global variable ‘N_total’
seq_usage: no visible binding for global variable ‘N’
seq_usage: no visible binding for global variable ‘mean_txNorm’
seq_usage: no visible binding for global variable ‘sum_txNorm’
seq_usage: no visible binding for global variable ‘dispersion’
seq_usage: no visible binding for global variable ‘dispersion_txNorm’
seq_usage: no visible binding for global variable ‘var_txNorm’
seq_usage: no visible binding for global variable ‘mean_percentage’
seq_usage: no visible binding for global variable ‘mean_txNorm_prob’
seq_usage: no visible binding for global variable
  ‘mean_txNorm_percentage’
seq_usage: no visible binding for global variable
  ‘relative_to_max_score’
shiftPlots : <anonymous>: no visible binding for global variable
  ‘frame’
shiftPlots : <anonymous>: no visible binding for global variable
  ‘position’
te.plot: no visible global function definition for ‘rowMin’
te.plot: no visible binding for global variable ‘variable’
te.plot: no visible binding for global variable ‘LFC_TE’
te.plot: no visible binding for global variable ‘rfp_log2’
te.plot: no visible binding for global variable ‘rna_log2’
te.plot: no visible binding for global variable ‘rna_log10’
te.table: no visible global function definition for ‘rowMin’
te.table: no visible binding for global variable ‘variable’
te.table: no visible binding for global variable ‘TE_log2’
te.table: no visible binding for global variable ‘rfp_log2’
te.table: no visible binding for global variable ‘rna_log2’
te_rna.plot: no visible binding for global variable ‘subtitle’
te_rna.plot: no visible binding for global variable ‘rna_log10’
te_rna.plot: no visible binding for global variable ‘TE_log2’
topMotif: no visible binding for global variable ‘seq1’
topMotif: no visible binding for global variable ‘seq2’
topMotif: no visible binding for global variable ‘seq3’
topMotif: no visible binding for global variable ‘seq4’
topMotif: no visible binding for global variable ‘seq5’
transcriptWindow: no visible binding for global variable ‘fractions’
transcriptWindow: no visible binding for global variable ‘feature’
unlistToExtremities: no visible binding for global variable
  ‘group_name’
unlistToExtremities: no visible global function definition for ‘.’
unlistToExtremities: no visible binding for global variable ‘group’
windowCoveragePlot: no visible binding for global variable ‘feature’
windowCoveragePlot: no visible binding for global variable ‘fraction’
windowCoveragePlot: no visible binding for global variable
  ‘fraction_min’
windowCoveragePlot: no visible binding for global variable ‘position’
as.character,GRangesList: no visible global function definition for
  ‘unstrsplit’
collapseDuplicatedReads,GAlignmentPairs: no visible global function
  definition for ‘.’
collapseDuplicatedReads,GAlignmentPairs: no visible binding for global
  variable ‘start1’
collapseDuplicatedReads,GAlignmentPairs: no visible binding for global
  variable ‘start2’
collapseDuplicatedReads,GAlignmentPairs: no visible binding for global
  variable ‘cigar1’
collapseDuplicatedReads,GAlignmentPairs: no visible binding for global
  variable ‘cigar2’
collapseDuplicatedReads,GAlignments: no visible global function
  definition for ‘.’
collapseDuplicatedReads,GRanges: no visible binding for global variable
  ‘size’
collapseDuplicatedReads,GRanges: no visible global function definition
  for ‘.’
collapseDuplicatedReads,data.table: no visible global function
  definition for ‘.’
design,experiment: no visible binding for global variable ‘..formula’
seqlevels,experiment: no visible binding for global variable ‘df’
show,covRleList: no visible global function definition for ‘head’
show,experiment: no visible global function definition for ‘organism’
Undefined global functions or variables:
  . ..formula ..to_keep AA CDS CDSGrouping Cor GEO Hx IR LEADERS LFC
  LFC_TE LIBRARYTYPE LibraryStrategy N N_AA_of_type_per_gene N_total
  ORFGrouping ORFScores RRS RSS Regulation STAR_index StartCodons
  StopCodons TE_log2 TOP Transcript Var1 Var2 all_models_sign amplitude
  as_prob_normalized bamTag<- bamWhat<- best_frame browseURL chr cigar1
  cigar2 codon codonSums codon_sum contrast count countRFP
  count_seq_pos_with_count counts_per_sample df dif difPer
  disengagementScores dispersion dispersion_txNorm distORFCDS
  end_segment ensembl_gene_id ensembl_transcript_id entropyRFP
  exon_rank external_gene_name feature file_forward file_reverse
  forward foverlaps fpkmRFP fpkmRNA frac.score fraction fraction.x
  fraction.y fractionLengths fraction_min fractions frame frame_one_RP
  frame_two_RP gene_id gene_sum genes grl grnames group group_name head
  i.end i.start id id_original inFrameCDS index ioScore
  isOverlappingCds kozak label mRNA mad_per_gene meanCounts mean_IR
  mean_per_gene mean_percentage mean_txNorm mean_txNorm_percentage
  mean_txNorm_prob median_per_gene median_score merged modzscore
  organism osVersion pShifted perc_of_counts_per_sample percent
  percent_length percentage percentage_mrna_aligned
  percentage_tx_aligned periods phix.url pick position query_id random
  rankInTx ranks ratio_cds_leader ratio_cds_mrna read length
  relative_to_max_score rfp.lfc rfp.padj rfp.sign rfp_log2 rna.lfc
  rna.padj rna.sign rna_log10 rna_log2 rowMin rowSums2 run_accession
  sample_id sample_total scalingFactor sd_per_gene seq1 seq2 seq3 seq4
  seq5 seqs size spec species spots start1 start2 startCodonCoverage
  startRegionRelative start_segment subtitle sum.count sum_per_gene
  sum_txNorm te te.lfc te.padj te.sign uniprotswissprot unstrsplit
  upstream_kozak_strength utr3_len utr5_len value var_txNorm variable
  widths windowMAD windowMean windowMedian windowSD zscore
Consider adding
  importFrom("base", "length")
  importFrom("graphics", "frame")
  importFrom("stats", "df")
  importFrom("utils", "browseURL", "head", "osVersion")
to your NAMESPACE file.
* checking Rd files ... NOTE
checkRd: (-1) countTable_regions.Rd:78: Lost braces; missing escapes or markup?
    78 | if (!is.null(out.dir) {pasteDir(file.path(out.dir, rel.dir, "countTable_"))} else NULL,
       |                       ^
* checking Rd metadata ... OK
* checking Rd cross-references ... NOTE
Found the following Rd file(s) with Rd \link{} targets missing package
anchors:
  DEG.analysis.Rd: estimateDispersions
  DEG_model.Rd: estimateDispersions
  DTEG.analysis.Rd: SummarizedExperiment, estimateDispersions
  ORFikQC.Rd: SummarizedExperiment
  QCreport.Rd: SummarizedExperiment
  allFeaturesHelper.Rd: GRangesList, GAlignments, GRanges, FaFile
  as.character-GRangesList-method.Rd: GRangesList
  asTX.Rd: GRangesList
  assignFirstExonsStartSite.Rd: GRangesList
  assignLastExonsStopSite.Rd: GRangesList
  bedToGR.Rd: GRanges
  codonSumsPerGroup.Rd: GRangesList, GAlignments, GRanges
  codon_usage_exp.Rd: FaFile
  computeFeatures.Rd: GRangesList, GAlignments, GRanges, FaFile
  computeFeaturesCage.Rd: GRangesList, GAlignments, GRanges, FaFile
  coverageByTranscriptC.Rd: coverageByTranscript, GRangesList
  coverageByTranscriptW.Rd: coverageByTranscript, GRanges, GAlignments,
    GRangesList
  coveragePerTiling.Rd: GRangesList, GAlignments, GRanges
  detectRibosomeShifts.Rd: GAlignments
  disengagementScore.Rd: GRangesList, TxDb
  distToCds.Rd: GRangesList
  distToTSS.Rd: GRangesList
  downstreamFromPerGroup.Rd: GRangesList
  downstreamOfPerGroup.Rd: GRangesList
  entropy.Rd: GRangesList, GRanges, GAlignments
  experiment-class.Rd: SummarizedExperiment
  export.ofst-GAlignmentPairs-method.Rd: fst-package
  export.ofst-GAlignments-method.Rd: fst-package
  export.ofst-GRanges-method.Rd: fst-package
  export.ofst.Rd: fst-package
  extendLeaders.Rd: GRangesList
  extendTrailers.Rd: GRangesList
  fimport.Rd: seqlevelsStyle, Seqinfo, GAlignments, GRanges
  findFa.Rd: FaFile
  findMapORFs.Rd: GRangesList, FaFile
  findORFs.Rd: IRanges, IRangesList, FaFile
  findUORFs.Rd: FaFile
  firstEndPerGroup.Rd: GRangesList
  firstExonPerGroup.Rd: GRangesList
  firstStartPerGroup.Rd: GRangesList
  flankPerGroup.Rd: GRangesList
  floss.Rd: GRangesList, GRanges, GAlignments
  fpkm.Rd: GRangesList, GRanges, GAlignments
  fractionLength.Rd: GRangesList
  fread.bed.Rd: import.bed, seqlevelsStyle, Seqinfo, GRanges
  gSort.Rd: GRangesList
  hasHits.Rd: GRangesList
  heatMapL.Rd: GRangesList
  heatMapRegion.Rd: GRanges, GAlignments
  heatMap_single.Rd: GRangesList, GAlignments, GRanges
  import.ofst.Rd: fst-package, GAlignmentPairs
  initiationScore.Rd: GRangesList, GAlignments
  insideOutsideORF.Rd: GRangesList, TxDb
  kozakSequenceScore.Rd: GRangesList, FaFile
  kozak_IR_ranking.Rd: FaFile
  lastExonEndPerGroup.Rd: GRangesList
  lastExonPerGroup.Rd: GRangesList
  lastExonStartPerGroup.Rd: GRangesList
  loadTxdb.Rd: seqlevelsStyle, Seqinfo
  longestORFs.Rd: GRangesList
  makeExonRanks.Rd: GRangesList
  makeORFNames.Rd: GRangesList
  makeSummarizedExperimentFromBam.Rd: GRangesList, SummarizedExperiment
  mapToGRanges.Rd: GRangesList
  matchNaming.Rd: GRangesList
  matchSeqStyle.Rd: seqlevelsStyle, Seqinfo
  numCodons.Rd: GRangesList
  numExonsPerGroup.Rd: GRangesList
  optimizeReads.Rd: GRangesList
  optimizedTranscriptLengths.Rd: transcriptLengths
  orfID.Rd: GRangesList
  orfScore.Rd: GRangesList, GAlignments, GRanges
  outputLibs.Rd: seqlevelsStyle, Seqinfo
  rankOrder.Rd: GRangesList
  readBam.Rd: readGAlignments, seqlevelsStyle, Seqinfo, GAlignments,
    GAlignmentPairs
  readBigWig.Rd: seqlevelsStyle, Seqinfo, GRanges
  readWig.Rd: seqlevelsStyle, Seqinfo, GRanges
  reduceKeepAttr.Rd: GRangesList, reduce
  regionPerReadLength.Rd: GRangesList, GAlignments, GRanges
  removeMetaCols.Rd: GRangesList
  reverseMinusStrandPerGroup.Rd: GRangesList
  ribo_fft.Rd: GAlignments, GRanges, GRangesList
  ribosomeReleaseScore.Rd: GRangesList, GAlignments, GRanges
  ribosomeStallingScore.Rd: GRangesList
  rnaNormalize.Rd: GRangesList
  scaledWindowPositions.Rd: GRangesList, GAlignments, GRanges
  seqnamesPerGroup.Rd: GRangesList
  shiftFootprints.Rd: GAlignments, GRanges
  sortPerGroup.Rd: sort.GenomicRanges, GRangesList
  splitIn3Tx.Rd: GRangesList
  startCodons.Rd: GRangesList
  startRegion.Rd: GRangesList
  startRegionCoverage.Rd: GRangesList
  startRegionString.Rd: GRangesList, FaFile
  startSites.Rd: GRangesList
  stopCodons.Rd: GRangesList
  stopRegion.Rd: GRangesList
  stopSites.Rd: GRangesList
  strandBool.Rd: GRangesList
  strandPerGroup.Rd: GRangesList
  tile1.Rd: GRangesList
  transcriptWindow.Rd: GRangesList
  transcriptWindowPer.Rd: GRangesList
  translationalEff.Rd: GRangesList, GRanges, GAlignments
  txNames.Rd: GRangesList
  txSeqsFromFa.Rd: GRangesList, FaFile, extractTranscriptSeqs,
    DNAStringSet
  uniqueGroups.Rd: GRangesList
  uniqueOrder.Rd: GRangesList, GRanges
  unlistToExtremities.Rd: GRangesList
  upstreamFromPerGroup.Rd: GRangesList
  upstreamOfPerGroup.Rd: GRangesList
  validSeqlevels.Rd: GRangesList
  widthPerGroup.Rd: GRangesList
  windowPerGroup.Rd: GRangesList
  windowPerReadLength.Rd: GRangesList, GAlignments, GRanges
Please provide package anchors for all Rd \link{} targets not in the
package itself and the base packages.
* checking for missing documentation entries ... OK
* checking for code/documentation mismatches ... OK
* checking Rd \usage sections ... OK
* checking Rd contents ... OK
* checking for unstated dependencies in examples ... OK
* checking line endings in C/C++/Fortran sources/headers ... OK
* checking compiled code ... NOTE
Note: information on .o files is not available
* checking files in ‘vignettes’ ... OK
* checking examples ... OK
Examples with CPU (user + system) or elapsed time > 5s
                              user system elapsed
orfFrameDistributions       64.557  4.196  27.741
orfScore                    23.755  0.985   1.232
makeTxdbFromGenome          20.674  0.563  21.284
STAR.allsteps.multiQC       15.090  0.275  15.407
codon_usage_exp             10.721  0.687  11.288
detect_ribo_orfs             9.500  1.279  10.653
DEG.analysis                 7.347  0.363   7.737
countTable_regions           5.911  1.727   3.863
shiftPlots                   4.848  1.627   0.494
findUORFs_exp                6.044  0.183   6.240
computeFeatures              5.765  0.055   5.836
codon_usage_plot             4.532  0.526   4.938
shiftFootprintsByExperiment  1.771  0.144   7.759
download_gene_info           0.152  0.008   6.032
* checking for unstated dependencies in ‘tests’ ... OK
* checking tests ...
  Running ‘testthat.R’
 OK
* checking for unstated dependencies in vignettes ... OK
* checking package vignettes ... OK
* checking running R code from vignettes ... SKIPPED
* checking re-building of vignette outputs ... SKIPPED
* checking PDF version of manual ... OK
* DONE

Status: 8 NOTEs
See
  ‘/home/biocbuild/bbs-3.22-bioc/meat/ORFik.Rcheck/00check.log’
for details.


Installation output

ORFik.Rcheck/00install.out

##############################################################################
##############################################################################
###
### Running command:
###
###   /home/biocbuild/R/R/bin/R CMD INSTALL ORFik
###
##############################################################################
##############################################################################


* installing to library ‘/home/biocbuild/R/R-4.5.0/site-library’
* installing *source* package ‘ORFik’ ...
** this is package ‘ORFik’ version ‘1.29.9’
** using staged installation
** libs
using C++ compiler: ‘aarch64-unknown-linux-gnu-g++ (GCC) 14.2.0’
/opt/ohpc/pub/compiler/gcc/14.2.0/bin/aarch64-unknown-linux-gnu-g++ -std=gnu++17 -I"/home/biocbuild/R/R-4.5.0/include" -DNDEBUG  -I'/home/biocbuild/R/R-4.5.0/site-library/Rcpp/include' -I/usr/local/include    -fPIC  -g -O2  -Wall -Werror=format-security  -c RcppExports.cpp -o RcppExports.o
/opt/ohpc/pub/compiler/gcc/14.2.0/bin/aarch64-unknown-linux-gnu-g++ -std=gnu++17 -I"/home/biocbuild/R/R-4.5.0/include" -DNDEBUG  -I'/home/biocbuild/R/R-4.5.0/site-library/Rcpp/include' -I/usr/local/include    -fPIC  -g -O2  -Wall -Werror=format-security  -c findORFsHelpers.cpp -o findORFsHelpers.o
findORFsHelpers.cpp: In function ‘Rcpp::IntegerMatrix orfs_as_matrix(std::string&, std::string, std::string, int)’:
findORFsHelpers.cpp:214:21: warning: comparison of integer expressions of different signedness: ‘int’ and ‘size_t’ {aka ‘long unsigned int’} [-Wsign-compare]
  214 |   for (int i = 0; i < uorfSize/2; i++) {
      |                   ~~^~~~~~~~~~~~
/opt/ohpc/pub/compiler/gcc/14.2.0/bin/aarch64-unknown-linux-gnu-g++ -std=gnu++17 -I"/home/biocbuild/R/R-4.5.0/include" -DNDEBUG  -I'/home/biocbuild/R/R-4.5.0/site-library/Rcpp/include' -I/usr/local/include    -fPIC  -g -O2  -Wall -Werror=format-security  -c findOrfs.cpp -o findOrfs.o
/opt/ohpc/pub/compiler/gcc/14.2.0/bin/aarch64-unknown-linux-gnu-g++ -std=gnu++17 -I"/home/biocbuild/R/R-4.5.0/include" -DNDEBUG  -I'/home/biocbuild/R/R-4.5.0/site-library/Rcpp/include' -I/usr/local/include    -fPIC  -g -O2  -Wall -Werror=format-security  -c findOrfsFasta.cpp -o findOrfsFasta.o
/opt/ohpc/pub/compiler/gcc/14.2.0/bin/aarch64-unknown-linux-gnu-g++ -std=gnu++17 -I"/home/biocbuild/R/R-4.5.0/include" -DNDEBUG  -I'/home/biocbuild/R/R-4.5.0/site-library/Rcpp/include' -I/usr/local/include    -fPIC  -g -O2  -Wall -Werror=format-security  -c pmapFromTranscripts.cpp -o pmapFromTranscripts.o
pmapFromTranscripts.cpp: In function ‘Rcpp::List pmapFromTranscriptsCPP(const std::vector<int>&, const std::vector<int>&, const std::vector<int>&, const std::vector<int>&, const std::vector<int>&, const char&, bool)’:
pmapFromTranscripts.cpp:151:20: warning: comparison of integer expressions of different signedness: ‘int’ and ‘size_t’ {aka ‘long unsigned int’} [-Wsign-compare]
  151 |   for(auto i = 0;i < xSize; i++){
      |                  ~~^~~~~~~
pmapFromTranscripts.cpp:155:21: warning: comparison of integer expressions of different signedness: ‘int’ and ‘size_t’ {aka ‘long unsigned int’} [-Wsign-compare]
  155 |   for(auto i = 0; i < indexSize; i++){
      |                   ~~^~~~~~~~~~~
pmapFromTranscripts.cpp:161:21: warning: comparison of integer expressions of different signedness: ‘int’ and ‘size_t’ {aka ‘long unsigned int’} [-Wsign-compare]
  161 |   for(auto i = 1; i < indexSize; i++){
      |                   ~~^~~~~~~~~~~
/opt/ohpc/pub/compiler/gcc/14.2.0/bin/aarch64-unknown-linux-gnu-g++ -std=gnu++17 -I"/home/biocbuild/R/R-4.5.0/include" -DNDEBUG  -I'/home/biocbuild/R/R-4.5.0/site-library/Rcpp/include' -I/usr/local/include    -fPIC  -g -O2  -Wall -Werror=format-security  -c pmapToTranscripts.cpp -o pmapToTranscripts.o
pmapToTranscripts.cpp: In function ‘void pmapToPositive(vi&, const int&, int&, const vi&, const vi&, const vi&, const vi&, const vi&, const vi&, const vi&, const vi&)’:
pmapToTranscripts.cpp:22:7: warning: variable ‘currentWidth’ set but not used [-Wunused-but-set-variable]
   22 |   int currentWidth = 0;
      |       ^~~~~~~~~~~~
pmapToTranscripts.cpp: In function ‘void pmapToNegative(vi&, const int&, int&, const vi&, const vi&, const vi&, const vi&, const vi&, const vi&, const vi&, const vi&)’:
pmapToTranscripts.cpp:68:7: warning: variable ‘currentWidth’ set but not used [-Wunused-but-set-variable]
   68 |   int currentWidth = 0;
      |       ^~~~~~~~~~~~
pmapToTranscripts.cpp: In function ‘Rcpp::List pmapToTranscriptsCPP(const std::vector<int>&, const std::vector<int>&, const std::vector<int>&, const std::vector<int>&, const std::vector<int>&, const char&, const std::vector<int>&)’:
pmapToTranscripts.cpp:126:20: warning: comparison of integer expressions of different signedness: ‘int’ and ‘size_t’ {aka ‘long unsigned int’} [-Wsign-compare]
  126 |   for(auto i = 0;i < xSize; i++){ // Width per exon in x
      |                  ~~^~~~~~~
pmapToTranscripts.cpp:130:21: warning: comparison of integer expressions of different signedness: ‘int’ and ‘size_t’ {aka ‘long unsigned int’} [-Wsign-compare]
  130 |   for(auto i = 0; i < indexSize; i++){ // Width per exon in tx
      |                   ~~^~~~~~~~~~~
pmapToTranscripts.cpp:136:21: warning: comparison of integer expressions of different signedness: ‘int’ and ‘size_t’ {aka ‘long unsigned int’} [-Wsign-compare]
  136 |   for(auto i = 1; i < indexSize; i++){
      |                   ~~^~~~~~~~~~~
pmapToTranscripts.cpp:147:22: warning: comparison of integer expressions of different signedness: ‘int’ and ‘size_t’ {aka ‘long unsigned int’} [-Wsign-compare]
  147 |   for (auto i = 1; i < 2 * xSize; i = i + 2) {
      |                    ~~^~~~~~~~~~~
/opt/ohpc/pub/compiler/gcc/14.2.0/bin/aarch64-unknown-linux-gnu-g++ -std=gnu++17 -shared -L/home/biocbuild/R/R-4.5.0/lib -L/usr/local/lib -o ORFik.so RcppExports.o findORFsHelpers.o findOrfs.o findOrfsFasta.o pmapFromTranscripts.o pmapToTranscripts.o -L/home/biocbuild/R/R-4.5.0/lib -lR
installing to /home/biocbuild/R/R-4.5.0/site-library/00LOCK-ORFik/00new/ORFik/libs
** R
** inst
** byte-compile and prepare package for lazy loading
Creating a new generic function for ‘symbols’ in package ‘ORFik’
** help
*** installing help indices
** building package indices
** installing vignettes
** testing if installed package can be loaded from temporary location
** checking absolute paths in shared objects and dynamic libraries
** testing if installed package can be loaded from final location
** testing if installed package keeps a record of temporary installation path
* DONE (ORFik)

Tests output

ORFik.Rcheck/tests/testthat.Rout


R version 4.5.0 (2025-04-11) -- "How About a Twenty-Six"
Copyright (C) 2025 The R Foundation for Statistical Computing
Platform: aarch64-unknown-linux-gnu

R is free software and comes with ABSOLUTELY NO WARRANTY.
You are welcome to redistribute it under certain conditions.
Type 'license()' or 'licence()' for distribution details.

R is a collaborative project with many contributors.
Type 'contributors()' for more information and
'citation()' on how to cite R or R packages in publications.

Type 'demo()' for some demos, 'help()' for on-line help, or
'help.start()' for an HTML browser interface to help.
Type 'q()' to quit R.

> library(testthat)
> library(ORFik)
Loading required package: IRanges
Loading required package: BiocGenerics
Loading required package: generics

Attaching package: 'generics'

The following objects are masked from 'package:base':

    as.difftime, as.factor, as.ordered, intersect, is.element, setdiff,
    setequal, union


Attaching package: 'BiocGenerics'

The following objects are masked from 'package:stats':

    IQR, mad, sd, var, xtabs

The following objects are masked from 'package:base':

    Filter, Find, Map, Position, Reduce, anyDuplicated, aperm, append,
    as.data.frame, basename, cbind, colnames, dirname, do.call,
    duplicated, eval, evalq, get, grep, grepl, is.unsorted, lapply,
    mapply, match, mget, order, paste, pmax, pmax.int, pmin, pmin.int,
    rank, rbind, rownames, sapply, saveRDS, table, tapply, unique,
    unsplit, which.max, which.min

Loading required package: S4Vectors
Loading required package: stats4

Attaching package: 'S4Vectors'

The following object is masked from 'package:utils':

    findMatches

The following objects are masked from 'package:base':

    I, expand.grid, unname

Loading required package: GenomicRanges
Loading required package: Seqinfo
Loading required package: GenomicAlignments
Loading required package: SummarizedExperiment
Loading required package: MatrixGenerics
Loading required package: matrixStats

Attaching package: 'MatrixGenerics'

The following objects are masked from 'package:matrixStats':

    colAlls, colAnyNAs, colAnys, colAvgsPerRowSet, colCollapse,
    colCounts, colCummaxs, colCummins, colCumprods, colCumsums,
    colDiffs, colIQRDiffs, colIQRs, colLogSumExps, colMadDiffs,
    colMads, colMaxs, colMeans2, colMedians, colMins, colOrderStats,
    colProds, colQuantiles, colRanges, colRanks, colSdDiffs, colSds,
    colSums2, colTabulates, colVarDiffs, colVars, colWeightedMads,
    colWeightedMeans, colWeightedMedians, colWeightedSds,
    colWeightedVars, rowAlls, rowAnyNAs, rowAnys, rowAvgsPerColSet,
    rowCollapse, rowCounts, rowCummaxs, rowCummins, rowCumprods,
    rowCumsums, rowDiffs, rowIQRDiffs, rowIQRs, rowLogSumExps,
    rowMadDiffs, rowMads, rowMaxs, rowMeans2, rowMedians, rowMins,
    rowOrderStats, rowProds, rowQuantiles, rowRanges, rowRanks,
    rowSdDiffs, rowSds, rowSums2, rowTabulates, rowVarDiffs, rowVars,
    rowWeightedMads, rowWeightedMeans, rowWeightedMedians,
    rowWeightedSds, rowWeightedVars

Loading required package: Biobase
Welcome to Bioconductor

    Vignettes contain introductory material; view with
    'browseVignettes()'. To cite Bioconductor, see
    'citation("Biobase")', and for packages 'citation("pkgname")'.


Attaching package: 'Biobase'

The following object is masked from 'package:MatrixGenerics':

    rowMedians

The following objects are masked from 'package:matrixStats':

    anyMissing, rowMedians

Loading required package: Biostrings
Loading required package: XVector

Attaching package: 'Biostrings'

The following object is masked from 'package:base':

    strsplit

Loading required package: Rsamtools

Attaching package: 'ORFik'

The following object is masked from 'package:graphics':

    symbols

> 
> test_check("ORFik")
[ FAIL 0 | WARN 0 | SKIP 0 | PASS 444 ]
> 
> proc.time()
   user  system elapsed 
137.894   3.510 141.131 

Example timings

ORFik.Rcheck/ORFik-Ex.timings

nameusersystemelapsed
DEG.analysis7.3470.3637.737
DEG.plot.static0.3900.0160.407
DEG_model0.3860.0000.388
DEG_model_results0.3720.0160.389
DEG_model_simple0.3630.0040.368
DTEG.analysis0.4010.0080.410
DTEG.plot0.3570.0000.358
ORFik.template.experiment0.4100.0080.418
ORFik.template.experiment.zf0.0710.0000.072
ORFikQC0.3750.0080.384
QCreport0.3480.0000.348
QCstats0.3530.0000.354
QCstats.plot0.3570.0000.358
RiboQC.plot0.4060.0000.406
STAR.align.folder000
STAR.align.single000
STAR.allsteps.multiQC15.090 0.27515.407
STAR.index000
STAR.install000
STAR.multiQC4.6700.1244.804
STAR.remove.crashed.genome000
TOP.Motif.ecdf000
append_gene_symbols1.0680.0161.089
artificial.orfs0.3450.0040.349
asTX0.7150.0000.718
assignTSSByCage0.0030.0000.003
bamVarName0.3680.0120.382
browseSRA0.0000.0010.000
canonical_isoforms-experiment-method1.0430.0191.065
canonical_isoforms1.0220.0081.033
codon_usage3.6360.0353.684
codon_usage_exp10.721 0.68711.288
codon_usage_plot4.5320.5264.938
collapse.by.scores0.1390.0120.151
collapse.fastq000
collapseDuplicatedReads-GAlignmentPairs-method0.0910.0150.107
collapseDuplicatedReads-GAlignments-method0.0320.0070.040
collapseDuplicatedReads-GRanges-method0.0330.0080.041
collapseDuplicatedReads-data.table-method0.0390.0000.039
collapseDuplicatedReads0.0380.0000.039
combn.pairs0.3750.0000.376
computeFeatures5.7650.0555.836
computeFeaturesCage000
config0.0010.0000.001
config.exper0.1570.0080.173
config.save000
config_file0.2010.0000.202
convertLibs0.3630.0000.363
convertToOneBasedRanges0.1760.0000.177
convert_bam_to_ofst0.3840.0200.411
convert_to_bigWig1.1140.0161.132
convert_to_covRle0.5270.0040.532
convert_to_covRleList0.8760.0080.885
countOverlapsW0.0960.0000.096
countTable0.3540.0000.355
countTable_regions5.9111.7273.863
covRle1.4260.5390.080
covRleFromGR0.1280.0120.141
covRleList0.0230.0040.027
coverageByTranscriptFST0.2370.0440.282
coverageHeatMap2.1390.3632.508
coveragePerTiling0.8990.1161.017
coverageScorings0.0150.0040.019
create.experiment0.8130.0630.880
defineTrailer0.2520.0050.257
design-experiment-method0.4370.0390.477
detectRibosomeShifts0.0030.0000.002
detect_drive0.0060.0000.008
detect_ribo_orfs 9.500 1.27910.653
disengagementScore0.6680.0470.717
distToCds0.3250.0440.370
distToTSS0.2550.0080.264
download.SRA000
download.SRA.metadata0.2440.0842.948
download_gene_info0.1520.0086.032
entropy2.0000.2162.221
exonsWithPseudoIntronsPerGroup2.8250.2403.072
experiment-class0.5110.0240.536
export.bed120.0290.0040.034
export.bigWig0.060.000.06
export.fstwig0.0860.0070.093
export.ofst-GAlignmentPairs-method0.0900.0000.091
export.ofst-GAlignments-method0.0840.0040.089
export.ofst-GRanges-method0.0880.0000.088
export.ofst0.0880.0000.088
export.wiggle0.0480.0040.052
extendLeaders1.3460.1071.458
extendLeadersUntil2.0690.1402.215
extendTrailers0.8670.0320.901
extendTrailersUntil2.0830.1122.200
extract_run_id0.0010.0000.001
file_ext_without_compression0.0000.0000.001
filepath0.4680.0120.482
filterTranscripts1.8190.0921.918
fimport0.4100.0240.435
findFa0.0040.0000.005
findMapORFs0.6800.0200.702
findORFs0.2330.0120.244
findORFsFasta0.0760.0120.090
findPeaksPerGene1.2270.0231.253
findUORFs0.0010.0000.001
findUORFs_exp6.0440.1836.240
find_url_ebi0.0450.0122.538
firstEndPerGroup0.0820.0000.083
firstExonPerGroup0.0900.0000.091
firstStartPerGroup0.0760.0040.080
fix_malformed_gff000
flankPerGroup0.1760.0000.177
floss0.3820.0080.391
fpkm0.160.000.16
fractionLength0.0870.0000.088
fread.bed0.0400.0040.047
gcContent0.5160.0040.521
geneToSymbol000
getGenomeAndAnnotation000
get_bioproject_candidates000
get_genome_fasta000
get_genome_gtf0.0010.0000.000
get_noncoding_rna000
get_phix_genome000
get_silva_rRNA000
get_system_usage0.1240.0420.385
go_analaysis_gorilla0.0030.0000.002
groupGRangesBy0.0750.0000.075
groupings0.0520.0000.051
heatMapRegion0.3670.0080.377
import.ofst0.0780.0080.086
initiationScore1.2520.0521.307
insideOutsideORF1.0700.0361.109
install.fastp000
install.sratoolkit000
isInFrame0.3130.0060.319
isOverlapping0.3000.0230.325
kozakHeatmap000
kozakSequenceScore0.7040.0190.725
lastExonEndPerGroup0.0990.0080.106
lastExonPerGroup0.0960.0000.096
lastExonStartPerGroup0.0790.0000.080
libraryTypes0.3490.0000.350
list.experiments0.3180.0040.323
list.genomes0.0000.0020.002
loadRegion1.7660.0211.791
loadRegions0.8090.0000.812
loadTranscriptType000
loadTxdb0.1560.0000.156
longestORFs0.1680.0040.172
makeGRangesListFromCharacter0.1060.0000.107
makeORFNames0.1160.0000.115
makeSummarizedExperimentFromBam0.3600.0040.364
makeTxdbFromGenome20.674 0.56321.284
mergeFastq000
mergeLibs1.5280.0721.588
metaWindow0.2610.0000.262
model.matrix-experiment-method0.4260.0280.455
numExonsPerGroup0.0500.0110.062
optimizedTranscriptLengths1.0800.0841.167
orfFrameDistributions64.557 4.19627.741
orfScore23.755 0.985 1.232
organism-experiment-method0.3890.0590.450
outputLibs1.1411.2311.509
pSitePlot1.5650.2431.815
pcaExperiment1.3620.2271.596
pcaPlot1.3680.1471.520
pmapFromTranscriptF0.4280.0560.485
pmapToTranscriptF1.0810.1081.193
pseudoIntronsPerGroup2.5950.1732.778
rankOrder0.1120.0000.111
read.experiment0.3720.0240.398
readBam0.1450.0080.153
readBamIsUniqueMapper0.1170.0120.129
readBamSeqs0.0980.0040.103
readWidths0.0210.0000.021
read_RDSQS0.3920.0200.414
reassignTSSbyCage0.7930.0790.876
reassignTxDbByCage000
reduceKeepAttr0.1640.0120.176
regionPerReadLength0.4650.3110.995
remove.experiments0.6060.1940.435
riboORFs0.3910.0440.436
riboORFsFolder0.7260.1350.865
ribo_fft4.1090.5744.699
ribo_fft_plot3.9060.3194.239
ribosomeReleaseScore0.2920.0200.312
ribosomeStallingScore0.3830.0360.420
save.experiment0.3710.0240.395
save_RDSQS0.0020.0070.008
scaledWindowPositions0.4280.0320.461
seqnamesPerGroup0.0930.0000.093
shiftFootprints0.0020.0000.002
shiftFootprintsByExperiment1.7710.1447.759
shiftPlots4.8481.6270.494
shifts_load0.3830.0680.451
shifts_save0.0590.0080.067
simpleLibs0.3980.0560.455
sortPerGroup0.3310.0880.421
startCodons0.7400.0870.831
startDefinition000
startRegion1.0250.2511.281
startRegionCoverage0.4980.0750.574
startSites0.4030.1220.528
stopCodons0.6710.2150.889
stopDefinition000
stopRegion0.6920.1080.802
stopSites0.3920.1350.530
strandBool0.0150.0000.015
strandPerGroup0.0670.0040.071
subsetToFrame0.0250.0000.025
symbols0.3850.0520.437
te.plot000
te.table0.6980.1040.804
te_rna.plot0.3680.0470.416
template_shift_table0.5040.0370.542
tile10.2710.0270.300
topMotif000
transcriptWindow1.2330.0841.322
translationalEff0.2270.0080.235
trimming.table0.0390.0000.040
txNames0.0640.0040.068
txNamesToGeneNames1.4250.1271.560
uORFSearchSpace0.7050.0500.757
uniqueGroups0.1770.0120.190
uniqueOrder0.2630.0280.292
unlistGrl0.0570.0040.062
widthPerGroup0.0640.0000.065
windowCoveragePlot1.7390.1631.909
windowPerGroup1.1330.0681.205
windowPerReadLength1.1610.0441.208