| Back to Multiple platform build/check report for BioC 3.22: simplified long |
|
This page was generated on 2025-10-25 12:05 -0400 (Sat, 25 Oct 2025).
| Hostname | OS | Arch (*) | R version | Installed pkgs |
|---|---|---|---|---|
| nebbiolo2 | Linux (Ubuntu 24.04.3 LTS) | x86_64 | 4.5.1 Patched (2025-08-23 r88802) -- "Great Square Root" | 4901 |
| lconway | macOS 12.7.6 Monterey | x86_64 | 4.5.1 Patched (2025-09-10 r88807) -- "Great Square Root" | 4691 |
| kjohnson3 | macOS 13.7.7 Ventura | arm64 | 4.5.1 Patched (2025-09-10 r88807) -- "Great Square Root" | 4637 |
| taishan | Linux (openEuler 24.03 LTS) | aarch64 | 4.5.0 (2025-04-11) -- "How About a Twenty-Six" | 4658 |
| Click on any hostname to see more info about the system (e.g. compilers) (*) as reported by 'uname -p', except on Windows and Mac OS X | ||||
| Package 1379/2361 | Hostname | OS / Arch | INSTALL | BUILD | CHECK | BUILD BIN | ||||||||
| MsBackendSql 1.9.4 (landing page) Johannes Rainer
| nebbiolo2 | Linux (Ubuntu 24.04.3 LTS) / x86_64 | OK | OK | OK | |||||||||
| lconway | macOS 12.7.6 Monterey / x86_64 | OK | OK | OK | OK | |||||||||
| kjohnson3 | macOS 13.7.7 Ventura / arm64 | OK | OK | OK | OK | |||||||||
| taishan | Linux (openEuler 24.03 LTS) / aarch64 | OK | NA | NA | ||||||||||
|
To the developers/maintainers of the MsBackendSql package: - Allow up to 24 hours (and sometimes 48 hours) for your latest push to git@git.bioconductor.org:packages/MsBackendSql.git to reflect on this report. See Troubleshooting Build Report for more information. - Use the following Renviron settings to reproduce errors and warnings. - If 'R CMD check' started to fail recently on the Linux builder(s) over a missing dependency, add the missing dependency to 'Suggests:' in your DESCRIPTION file. See Renviron.bioc for more information. |
| Package: MsBackendSql |
| Version: 1.9.4 |
| Command: /Library/Frameworks/R.framework/Resources/bin/R CMD check --install=check:MsBackendSql.install-out.txt --library=/Library/Frameworks/R.framework/Resources/library --no-vignettes --timings MsBackendSql_1.9.4.tar.gz |
| StartedAt: 2025-10-24 22:42:51 -0400 (Fri, 24 Oct 2025) |
| EndedAt: 2025-10-24 22:48:57 -0400 (Fri, 24 Oct 2025) |
| EllapsedTime: 365.7 seconds |
| RetCode: 0 |
| Status: OK |
| CheckDir: MsBackendSql.Rcheck |
| Warnings: 0 |
##############################################################################
##############################################################################
###
### Running command:
###
### /Library/Frameworks/R.framework/Resources/bin/R CMD check --install=check:MsBackendSql.install-out.txt --library=/Library/Frameworks/R.framework/Resources/library --no-vignettes --timings MsBackendSql_1.9.4.tar.gz
###
##############################################################################
##############################################################################
* using log directory ‘/Users/biocbuild/bbs-3.22-bioc/meat/MsBackendSql.Rcheck’
* using R version 4.5.1 Patched (2025-09-10 r88807)
* using platform: x86_64-apple-darwin20
* R was compiled by
Apple clang version 14.0.0 (clang-1400.0.29.202)
GNU Fortran (GCC) 14.2.0
* running under: macOS Monterey 12.7.6
* using session charset: UTF-8
* using option ‘--no-vignettes’
* checking for file ‘MsBackendSql/DESCRIPTION’ ... OK
* this is package ‘MsBackendSql’ version ‘1.9.4’
* package encoding: UTF-8
* checking package namespace information ... OK
* checking package dependencies ... OK
* checking if this is a source package ... OK
* checking if there is a namespace ... OK
* checking for hidden files and directories ... OK
* checking for portable file names ... OK
* checking for sufficient/correct file permissions ... OK
* checking whether package ‘MsBackendSql’ can be installed ... OK
* checking installed package size ... OK
* checking package directory ... OK
* checking ‘build’ directory ... OK
* checking DESCRIPTION meta-information ... OK
* checking top-level files ... OK
* checking for left-over files ... OK
* checking index information ... OK
* checking package subdirectories ... OK
* checking code files for non-ASCII characters ... OK
* checking R files for syntax errors ... OK
* checking whether the package can be loaded ... OK
* checking whether the package can be loaded with stated dependencies ... OK
* checking whether the package can be unloaded cleanly ... OK
* checking whether the namespace can be loaded with stated dependencies ... OK
* checking whether the namespace can be unloaded cleanly ... OK
* checking dependencies in R code ... OK
* checking S3 generic/method consistency ... OK
* checking replacement functions ... OK
* checking foreign function calls ... OK
* checking R code for possible problems ... OK
* checking Rd files ... OK
* checking Rd metadata ... OK
* checking Rd cross-references ... OK
* checking for missing documentation entries ... OK
* checking for code/documentation mismatches ... OK
* checking Rd \usage sections ... OK
* checking Rd contents ... OK
* checking for unstated dependencies in examples ... OK
* checking files in ‘vignettes’ ... OK
* checking examples ... OK
* checking for unstated dependencies in ‘tests’ ... OK
* checking tests ...
Running ‘testthat.R’
OK
* checking for unstated dependencies in vignettes ... OK
* checking package vignettes ... OK
* checking running R code from vignettes ... SKIPPED
* checking re-building of vignette outputs ... SKIPPED
* checking PDF version of manual ... OK
* DONE
Status: OK
MsBackendSql.Rcheck/00install.out
############################################################################## ############################################################################## ### ### Running command: ### ### /Library/Frameworks/R.framework/Resources/bin/R CMD INSTALL MsBackendSql ### ############################################################################## ############################################################################## * installing to library ‘/Library/Frameworks/R.framework/Versions/4.5-x86_64/Resources/library’ * installing *source* package ‘MsBackendSql’ ... ** this is package ‘MsBackendSql’ version ‘1.9.4’ ** using staged installation ** R ** byte-compile and prepare package for lazy loading ** help *** installing help indices *** copying figures ** building package indices ** installing vignettes ** testing if installed package can be loaded from temporary location ** testing if installed package can be loaded from final location ** testing if installed package keeps a record of temporary installation path * DONE (MsBackendSql)
MsBackendSql.Rcheck/tests/testthat.Rout
R version 4.5.1 Patched (2025-09-10 r88807) -- "Great Square Root"
Copyright (C) 2025 The R Foundation for Statistical Computing
Platform: x86_64-apple-darwin20
R is free software and comes with ABSOLUTELY NO WARRANTY.
You are welcome to redistribute it under certain conditions.
Type 'license()' or 'licence()' for distribution details.
R is a collaborative project with many contributors.
Type 'contributors()' for more information and
'citation()' on how to cite R or R packages in publications.
Type 'demo()' for some demos, 'help()' for on-line help, or
'help.start()' for an HTML browser interface to help.
Type 'q()' to quit R.
> library(testthat)
> library(MsBackendSql)
Loading required package: Spectra
Loading required package: S4Vectors
Loading required package: stats4
Loading required package: BiocGenerics
Loading required package: generics
Attaching package: 'generics'
The following objects are masked from 'package:base':
as.difftime, as.factor, as.ordered, intersect, is.element, setdiff,
setequal, union
Attaching package: 'BiocGenerics'
The following objects are masked from 'package:stats':
IQR, mad, sd, var, xtabs
The following objects are masked from 'package:base':
Filter, Find, Map, Position, Reduce, anyDuplicated, aperm, append,
as.data.frame, basename, cbind, colnames, dirname, do.call,
duplicated, eval, evalq, get, grep, grepl, is.unsorted, lapply,
mapply, match, mget, order, paste, pmax, pmax.int, pmin, pmin.int,
rank, rbind, rownames, sapply, saveRDS, table, tapply, unique,
unsplit, which.max, which.min
Attaching package: 'S4Vectors'
The following object is masked from 'package:utils':
findMatches
The following objects are masked from 'package:base':
I, expand.grid, unname
Loading required package: BiocParallel
> library(Spectra)
> library(RSQLite)
> library(msdata)
>
> setClass("DummySQL",
+ contains = "SQLiteConnection")
>
> setMethod("dbExecute", c("DummySQL", "character"),
+ function(conn, statement, ...) {
+ TRUE
+ })
>
> mm8_file <- system.file("microtofq", "MM8.mzML", package = "msdata")
> mm8_sps <- Spectra(mm8_file)
> mm8_db_long <- dbConnect(SQLite(), tempfile())
> createMsBackendSqlDatabase(mm8_db_long, mm8_file, blob = FALSE,
+ peaksStorageMode = "long")
Importing data ...
[==========================================================] 1/1 (100%) in 1s
Creating indices .... Done
[1] TRUE
> mm8_be_long <- backendInitialize(MsBackendSql(), mm8_db_long)
>
> mm8_db_blob <- dbConnect(SQLite(), tempfile())
> createMsBackendSqlDatabase(mm8_db_blob, mm8_file, blob = TRUE,
+ peaksStorageMode = "blob")
Importing data ...
[==========================================================] 1/1 (100%) in 1s
Creating indices .... Done
[1] TRUE
> mm8_be_blob <- backendInitialize(MsBackendSql(), mm8_db_blob)
>
> mm8_db_blob2 <- dbConnect(SQLite(), tempfile())
> createMsBackendSqlDatabase(mm8_db_blob2, mm8_file, blob = TRUE,
+ peaksStorageMode = "blob2")
Importing data ...
[==========================================================] 1/1 (100%) in 1s
Creating indices .... Done
[1] TRUE
> mm8_be_blob2 <- backendInitialize(MsBackendSql(), mm8_db_blob2)
>
> ################################################################################
> ##
> ## OPTIONAL TESTS WITH duckdb
> ## library(duckdb)
> ## mm8_db_long <- dbConnect(duckdb(), tempfile())
> ## createMsBackendSqlDatabase(mm8_db_long, mm8_file, blob = FALSE,
> ## peaksStorageMode = "long")
> ## mm8_be_long <- backendInitialize(MsBackendSql(), mm8_db_long)
>
> ## mm8_db_blob <- dbConnect(duckdb(), tempfile())
> ## createMsBackendSqlDatabase(mm8_db_blob, mm8_file, blob = TRUE,
> ## peaksStorageMode = "blob")
> ## mm8_be_blob <- backendInitialize(MsBackendSql(), mm8_db_blob)
>
> ## mm8_db_blob2 <- dbConnect(duckdb(), tempfile())
> ## createMsBackendSqlDatabase(mm8_db_blob2, mm8_file, blob = TRUE,
> ## peaksStorageMode = "blob2")
> ## mm8_be_blob2 <- backendInitialize(MsBackendSql(), mm8_db_blob2)
> ##
> ################################################################################
>
> mm14_file <- system.file("microtofq", "MM14.mzML", package = "msdata")
> mm_db <- dbConnect(SQLite(), tempfile())
> createMsBackendSqlDatabase(mm_db, c(mm8_file, mm14_file), blob = FALSE)
Importing data ...
[==========================================================] 1/1 (100%) in 1s
Creating indices .... Done
[1] TRUE
> mm_be <- backendInitialize(MsBackendSql(), mm_db)
>
> tmt_file <- proteomics(full.names = TRUE)[4L]
> tmt_mzr <- backendInitialize(MsBackendMzR(), tmt_file)
> tmt_db <- dbConnect(SQLite(), tempfile())
> createMsBackendSqlDatabase(tmt_db, tmt_file, blob = FALSE)
Importing data ...
[==========================================================] 1/1 (100%) in 1m
Creating indices .... Done
[1] TRUE
> tmt_be <- backendInitialize(MsBackendSql(), tmt_db)
>
> test_check("MsBackendSql")
[ FAIL 0 | WARN 1 | SKIP 1 | PASS 607 ]
══ Skipped tests (1) ═══════════════════════════════════════════════════════════
• empty test (1): 'test_MsBackendSql-functions.R:426:1'
[ FAIL 0 | WARN 1 | SKIP 1 | PASS 607 ]
Warning message:
call dbDisconnect() when finished working with a connection
>
> test_suite <- system.file("test_backends", "test_MsBackend",
+ package = "Spectra")
>
> be <- mm8_be_blob
> test_dir(test_suite, stop_on_failure = TRUE)
✔ | F W S OK | Context
⠏ | 0 | peaks_variables
✔ | 4 | peaks_variables
⠏ | 0 | spectra_subsetting
⠼ | 15 | spectra_subsetting
⠏ | 40 | spectra_subsetting
⠼ | 65 | spectra_subsetting
⠇ | 89 | spectra_subsetting
⠏ | 110 | spectra_subsetting
⠼ | 135 | spectra_subsetting
⠦ | 157 | spectra_subsetting
⠋ | 181 | spectra_subsetting
⠼ | 205 | spectra_subsetting
⠇ | 229 | spectra_subsetting
⠏ | 250 | spectra_subsetting
⠼ | 275 | spectra_subsetting
⠇ | 299 | spectra_subsetting
⠼ | 325 | spectra_subsetting
⠇ | 349 | spectra_subsetting
⠙ | 372 | spectra_subsetting
⠼ | 395 | spectra_subsetting
⠋ | 421 | spectra_subsetting
⠹ | 443 | spectra_subsetting
⠦ | 467 | spectra_subsetting
⠏ | 490 | spectra_subsetting
⠸ | 514 | spectra_subsetting
⠧ | 538 | spectra_subsetting
⠴ | 556 | spectra_subsetting
⠏ | 580 | spectra_subsetting
⠇ | 599 | spectra_subsetting
⠋ | 601 | spectra_subsetting
⠹ | 603 | spectra_subsetting
⠼ | 605 | spectra_subsetting
⠦ | 607 | spectra_subsetting
⠇ | 609 | spectra_subsetting
⠋ | 611 | spectra_subsetting
⠙ | 612 | spectra_subsetting
⠸ | 614 | spectra_subsetting
⠴ | 616 | spectra_subsetting
⠧ | 618 | spectra_subsetting
⠏ | 620 | spectra_subsetting
⠙ | 622 | spectra_subsetting
⠸ | 624 | spectra_subsetting
⠴ | 626 | spectra_subsetting
⠧ | 628 | spectra_subsetting
⠏ | 630 | spectra_subsetting
⠙ | 632 | spectra_subsetting
⠸ | 634 | spectra_subsetting
⠴ | 636 | spectra_subsetting
⠧ | 638 | spectra_subsetting
⠇ | 639 | spectra_subsetting
⠋ | 641 | spectra_subsetting
⠹ | 643 | spectra_subsetting
⠼ | 645 | spectra_subsetting
⠦ | 647 | spectra_subsetting
⠇ | 649 | spectra_subsetting
⠋ | 651 | spectra_subsetting
⠹ | 653 | spectra_subsetting
⠼ | 655 | spectra_subsetting
⠦ | 657 | spectra_subsetting
⠇ | 659 | spectra_subsetting
⠋ | 661 | spectra_subsetting
⠹ | 663 | spectra_subsetting
⠼ | 665 | spectra_subsetting
⠦ | 667 | spectra_subsetting
⠇ | 669 | spectra_subsetting
⠋ | 671 | spectra_subsetting
⠹ | 673 | spectra_subsetting
⠼ | 675 | spectra_subsetting
⠦ | 677 | spectra_subsetting
⠇ | 679 | spectra_subsetting
⠋ | 681 | spectra_subsetting
⠹ | 683 | spectra_subsetting
⠼ | 685 | spectra_subsetting
⠦ | 687 | spectra_subsetting
⠇ | 689 | spectra_subsetting
⠋ | 691 | spectra_subsetting
⠹ | 693 | spectra_subsetting
⠼ | 695 | spectra_subsetting
⠦ | 697 | spectra_subsetting
⠇ | 699 | spectra_subsetting
⠋ | 701 | spectra_subsetting
⠹ | 703 | spectra_subsetting
⠼ | 705 | spectra_subsetting
⠦ | 707 | spectra_subsetting
⠇ | 709 | spectra_subsetting
⠋ | 711 | spectra_subsetting
⠹ | 713 | spectra_subsetting
⠼ | 715 | spectra_subsetting
⠦ | 717 | spectra_subsetting
⠇ | 719 | spectra_subsetting
⠋ | 721 | spectra_subsetting
⠹ | 723 | spectra_subsetting
⠼ | 725 | spectra_subsetting
⠦ | 727 | spectra_subsetting
⠇ | 729 | spectra_subsetting
⠋ | 731 | spectra_subsetting
⠹ | 733 | spectra_subsetting
⠼ | 735 | spectra_subsetting
⠦ | 737 | spectra_subsetting
⠇ | 739 | spectra_subsetting
⠏ | 740 | spectra_subsetting
⠙ | 742 | spectra_subsetting
⠸ | 744 | spectra_subsetting
⠴ | 746 | spectra_subsetting
⠧ | 748 | spectra_subsetting
⠏ | 750 | spectra_subsetting
⠙ | 752 | spectra_subsetting
⠸ | 754 | spectra_subsetting
⠴ | 756 | spectra_subsetting
⠧ | 758 | spectra_subsetting
⠏ | 760 | spectra_subsetting
⠙ | 762 | spectra_subsetting
⠸ | 764 | spectra_subsetting
⠴ | 766 | spectra_subsetting
⠧ | 768 | spectra_subsetting
⠏ | 770 | spectra_subsetting
⠙ | 772 | spectra_subsetting
⠸ | 774 | spectra_subsetting
⠴ | 776 | spectra_subsetting
⠦ | 777 | spectra_subsetting
⠇ | 779 | spectra_subsetting
⠋ | 781 | spectra_subsetting
⠙ | 782 | spectra_subsetting
⠸ | 784 | spectra_subsetting
⠴ | 786 | spectra_subsetting
⠧ | 788 | spectra_subsetting
⠏ | 790 | spectra_subsetting
⠙ | 792 | spectra_subsetting
⠸ | 794 | spectra_subsetting
⠴ | 796 | spectra_subsetting
⠏ | 800 | spectra_subsetting
⠇ | 809 | spectra_subsetting
⠧ | 818 | spectra_subsetting
⠴ | 826 | spectra_subsetting
⠏ | 830 | spectra_subsetting
⠼ | 835 | spectra_subsetting
✔ | 838 | spectra_subsetting [20.2s]
⠏ | 0 | spectra_variables
⠙ | 12 | spectra_variables
⠴ | 16 | spectra_variables
⠇ | 29 | spectra_variables
⠋ | 41 | spectra_variables
⠸ | 54 | spectra_variables
✔ | 64 | spectra_variables
══ Results ═════════════════════════════════════════════════════════════════════
Duration: 20.9 s
[ FAIL 0 | WARN 0 | SKIP 0 | PASS 906 ]
🌈 Your tests are over the rainbow 🌈
>
> be <- tmt_be[sample(seq_along(tmt_be), 300)]
> test_dir(test_suite, stop_on_failure = TRUE)
✔ | F W S OK | Context
⠏ | 0 | peaks_variables
⠙ | 2 | peaks_variables
⠸ | 4 | peaks_variables
✔ | 4 | peaks_variables [5.4s]
⠏ | 0 | spectra_subsetting
⠦ | 7 | spectra_subsetting
⠙ | 32 | spectra_subsetting
⠸ | 54 | spectra_subsetting
⠦ | 77 | spectra_subsetting
⠹ | 103 | spectra_subsetting
⠧ | 128 | spectra_subsetting
⠙ | 152 | spectra_subsetting
⠴ | 176 | spectra_subsetting
⠴ | 196 | spectra_subsetting
⠋ | 221 | spectra_subsetting
⠦ | 247 | spectra_subsetting
⠋ | 271 | spectra_subsetting
⠼ | 295 | spectra_subsetting
⠋ | 321 | spectra_subsetting
⠙ | 342 | spectra_subsetting
⠸ | 364 | spectra_subsetting
⠦ | 387 | spectra_subsetting
⠇ | 409 | spectra_subsetting
⠋ | 431 | spectra_subsetting
⠸ | 454 | spectra_subsetting
⠧ | 478 | spectra_subsetting
⠦ | 497 | spectra_subsetting
⠋ | 521 | spectra_subsetting
⠼ | 545 | spectra_subsetting
⠇ | 569 | spectra_subsetting
⠹ | 593 | spectra_subsetting
⠴ | 616 | spectra_subsetting
⠧ | 638 | spectra_subsetting
⠧ | 658 | spectra_subsetting
⠏ | 680 | spectra_subsetting
⠹ | 703 | spectra_subsetting
⠦ | 727 | spectra_subsetting
⠏ | 750 | spectra_subsetting
⠙ | 772 | spectra_subsetting
⠙ | 792 | spectra_subsetting
⠸ | 814 | spectra_subsetting
⠴ | 836 | spectra_subsetting
⠇ | 859 | spectra_subsetting
⠋ | 881 | spectra_subsetting
⠹ | 903 | spectra_subsetting
⠼ | 905 | spectra_subsetting
⠴ | 906 | spectra_subsetting
⠦ | 907 | spectra_subsetting
⠧ | 908 | spectra_subsetting
⠏ | 910 | spectra_subsetting
⠋ | 911 | spectra_subsetting
⠙ | 912 | spectra_subsetting
⠸ | 914 | spectra_subsetting
⠴ | 916 | spectra_subsetting
⠧ | 918 | spectra_subsetting
⠏ | 920 | spectra_subsetting
⠙ | 922 | spectra_subsetting
⠹ | 923 | spectra_subsetting
⠼ | 925 | spectra_subsetting
⠦ | 927 | spectra_subsetting
⠇ | 929 | spectra_subsetting
⠋ | 931 | spectra_subsetting
⠹ | 933 | spectra_subsetting
⠸ | 934 | spectra_subsetting
⠴ | 936 | spectra_subsetting
⠧ | 938 | spectra_subsetting
⠏ | 940 | spectra_subsetting
⠋ | 941 | spectra_subsetting
⠹ | 943 | spectra_subsetting
⠼ | 945 | spectra_subsetting
⠦ | 947 | spectra_subsetting
⠇ | 949 | spectra_subsetting
⠋ | 951 | spectra_subsetting
⠹ | 953 | spectra_subsetting
⠼ | 955 | spectra_subsetting
⠦ | 957 | spectra_subsetting
⠇ | 959 | spectra_subsetting
⠏ | 960 | spectra_subsetting
⠙ | 962 | spectra_subsetting
⠸ | 964 | spectra_subsetting
⠼ | 965 | spectra_subsetting
⠦ | 967 | spectra_subsetting
⠇ | 969 | spectra_subsetting
⠏ | 970 | spectra_subsetting
⠙ | 972 | spectra_subsetting
⠹ | 973 | spectra_subsetting
⠼ | 975 | spectra_subsetting
⠴ | 976 | spectra_subsetting
⠧ | 978 | spectra_subsetting
⠏ | 980 | spectra_subsetting
⠋ | 981 | spectra_subsetting
⠹ | 983 | spectra_subsetting
⠼ | 985 | spectra_subsetting
⠴ | 986 | spectra_subsetting
⠧ | 988 | spectra_subsetting
⠏ | 990 | spectra_subsetting
⠙ | 992 | spectra_subsetting
⠹ | 993 | spectra_subsetting
⠼ | 995 | spectra_subsetting
⠦ | 997 | spectra_subsetting
⠧ | 998 | spectra_subsetting
⠏ | 1000 | spectra_subsetting
⠋ | 1001 | spectra_subsetting
⠙ | 1002 | spectra_subsetting
⠸ | 1004 | spectra_subsetting
⠴ | 1006 | spectra_subsetting
⠧ | 1008 | spectra_subsetting
⠏ | 1010 | spectra_subsetting
⠋ | 1011 | spectra_subsetting
⠹ | 1013 | spectra_subsetting
⠼ | 1015 | spectra_subsetting
⠦ | 1017 | spectra_subsetting
⠇ | 1019 | spectra_subsetting
⠋ | 1021 | spectra_subsetting
⠹ | 1023 | spectra_subsetting
⠼ | 1025 | spectra_subsetting
⠦ | 1027 | spectra_subsetting
⠇ | 1029 | spectra_subsetting
⠋ | 1031 | spectra_subsetting
⠹ | 1033 | spectra_subsetting
⠸ | 1034 | spectra_subsetting
⠼ | 1035 | spectra_subsetting
⠦ | 1037 | spectra_subsetting
⠇ | 1039 | spectra_subsetting
⠋ | 1041 | spectra_subsetting
⠙ | 1042 | spectra_subsetting
⠸ | 1044 | spectra_subsetting
⠼ | 1045 | spectra_subsetting
⠦ | 1047 | spectra_subsetting
⠇ | 1049 | spectra_subsetting
⠋ | 1051 | spectra_subsetting
⠙ | 1052 | spectra_subsetting
⠸ | 1054 | spectra_subsetting
⠴ | 1056 | spectra_subsetting
⠧ | 1058 | spectra_subsetting
⠏ | 1060 | spectra_subsetting
⠋ | 1061 | spectra_subsetting
⠹ | 1063 | spectra_subsetting
⠼ | 1065 | spectra_subsetting
⠦ | 1067 | spectra_subsetting
⠧ | 1068 | spectra_subsetting
⠏ | 1070 | spectra_subsetting
⠙ | 1072 | spectra_subsetting
⠸ | 1074 | spectra_subsetting
⠴ | 1076 | spectra_subsetting
⠧ | 1078 | spectra_subsetting
⠏ | 1080 | spectra_subsetting
⠙ | 1082 | spectra_subsetting
⠹ | 1083 | spectra_subsetting
⠸ | 1084 | spectra_subsetting
⠴ | 1086 | spectra_subsetting
⠦ | 1087 | spectra_subsetting
⠧ | 1088 | spectra_subsetting
⠏ | 1090 | spectra_subsetting
⠙ | 1092 | spectra_subsetting
⠸ | 1094 | spectra_subsetting
⠴ | 1096 | spectra_subsetting
⠧ | 1098 | spectra_subsetting
⠇ | 1099 | spectra_subsetting
⠋ | 1101 | spectra_subsetting
⠙ | 1102 | spectra_subsetting
⠹ | 1103 | spectra_subsetting
⠸ | 1104 | spectra_subsetting
⠼ | 1105 | spectra_subsetting
⠦ | 1107 | spectra_subsetting
⠇ | 1109 | spectra_subsetting
⠏ | 1110 | spectra_subsetting
⠋ | 1111 | spectra_subsetting
⠙ | 1112 | spectra_subsetting
⠹ | 1113 | spectra_subsetting
⠸ | 1114 | spectra_subsetting
⠼ | 1115 | spectra_subsetting
⠴ | 1116 | spectra_subsetting
⠧ | 1118 | spectra_subsetting
⠇ | 1119 | spectra_subsetting
⠏ | 1120 | spectra_subsetting
⠙ | 1122 | spectra_subsetting
⠹ | 1123 | spectra_subsetting
⠼ | 1125 | spectra_subsetting
⠴ | 1126 | spectra_subsetting
⠦ | 1127 | spectra_subsetting
⠇ | 1129 | spectra_subsetting
⠏ | 1130 | spectra_subsetting
⠋ | 1131 | spectra_subsetting
⠙ | 1132 | spectra_subsetting
⠹ | 1133 | spectra_subsetting
⠸ | 1134 | spectra_subsetting
⠼ | 1135 | spectra_subsetting
⠴ | 1136 | spectra_subsetting
⠦ | 1137 | spectra_subsetting
⠧ | 1138 | spectra_subsetting
⠇ | 1139 | spectra_subsetting
⠋ | 1141 | spectra_subsetting
⠙ | 1142 | spectra_subsetting
⠸ | 1144 | spectra_subsetting
⠼ | 1145 | spectra_subsetting
⠴ | 1146 | spectra_subsetting
⠦ | 1147 | spectra_subsetting
⠇ | 1149 | spectra_subsetting
⠏ | 1150 | spectra_subsetting
⠙ | 1152 | spectra_subsetting
⠸ | 1154 | spectra_subsetting
⠼ | 1155 | spectra_subsetting
⠦ | 1157 | spectra_subsetting
⠧ | 1158 | spectra_subsetting
⠏ | 1160 | spectra_subsetting
⠙ | 1162 | spectra_subsetting
⠹ | 1163 | spectra_subsetting
⠼ | 1165 | spectra_subsetting
⠴ | 1166 | spectra_subsetting
⠦ | 1167 | spectra_subsetting
⠇ | 1169 | spectra_subsetting
⠋ | 1171 | spectra_subsetting
⠹ | 1173 | spectra_subsetting
⠸ | 1174 | spectra_subsetting
⠴ | 1176 | spectra_subsetting
⠦ | 1177 | spectra_subsetting
⠧ | 1178 | spectra_subsetting
⠇ | 1179 | spectra_subsetting
⠋ | 1181 | spectra_subsetting
⠹ | 1183 | spectra_subsetting
⠼ | 1185 | spectra_subsetting
⠦ | 1187 | spectra_subsetting
⠇ | 1189 | spectra_subsetting
⠏ | 1190 | spectra_subsetting
⠙ | 1192 | spectra_subsetting
⠹ | 1193 | spectra_subsetting
⠸ | 1194 | spectra_subsetting
⠼ | 1195 | spectra_subsetting
⠦ | 1197 | spectra_subsetting
⠇ | 1199 | spectra_subsetting
⠏ | 1200 | spectra_subsetting
⠋ | 1201 | spectra_subsetting
⠹ | 1203 | spectra_subsetting
⠼ | 1205 | spectra_subsetting
⠦ | 1207 | spectra_subsetting
⠇ | 1209 | spectra_subsetting
⠦ | 1217 | spectra_subsetting
⠹ | 1223 | spectra_subsetting
⠋ | 1231 | spectra_subsetting
⠧ | 1238 | spectra_subsetting
⠋ | 1241 | spectra_subsetting
⠼ | 1245 | spectra_subsetting
✔ | 1246 | spectra_subsetting [56.7s]
⠏ | 0 | spectra_variables
⠏ | 10 | spectra_variables
⠙ | 12 | spectra_variables
⠸ | 14 | spectra_variables
⠴ | 16 | spectra_variables
⠦ | 27 | spectra_variables
⠇ | 29 | spectra_variables
⠋ | 31 | spectra_variables
⠹ | 43 | spectra_variables
⠸ | 54 | spectra_variables
✔ | 64 | spectra_variables [19.1s]
══ Results ═════════════════════════════════════════════════════════════════════
Duration: 81.3 s
[ FAIL 0 | WARN 0 | SKIP 0 | PASS 1314 ]
>
> dbDisconnect(mm8_db_long)
> dbDisconnect(mm8_db_blob)
> dbDisconnect(mm8_db_blob2)
> dbDisconnect(mm_db)
> dbDisconnect(tmt_db)
>
> proc.time()
user system elapsed
243.823 29.095 273.695
MsBackendSql.Rcheck/MsBackendSql-Ex.timings
| name | user | system | elapsed | |
| MsBackendSql | 3.112 | 0.398 | 3.500 | |