Back to Multiple platform build/check report for BioC 3.23:   simplified   long
ABCDEFGHIJKL[M]NOPQRSTUVWXYZ

This page was generated on 2025-11-15 11:35 -0500 (Sat, 15 Nov 2025).

HostnameOSArch (*)R versionInstalled pkgs
nebbiolo1Linux (Ubuntu 24.04.3 LTS)x86_64R Under development (unstable) (2025-10-20 r88955) -- "Unsuffered Consequences" 4826
kjohnson3macOS 13.7.7 Venturaarm64R Under development (unstable) (2025-11-04 r88984) -- "Unsuffered Consequences" 4561
Click on any hostname to see more info about the system (e.g. compilers)      (*) as reported by 'uname -p', except on Windows and Mac OS X

Package 1360/2325HostnameOS / ArchINSTALLBUILDCHECKBUILD BIN
MsBackendSql 1.11.1  (landing page)
Johannes Rainer
Snapshot Date: 2025-11-14 13:40 -0500 (Fri, 14 Nov 2025)
git_url: https://git.bioconductor.org/packages/MsBackendSql
git_branch: devel
git_last_commit: c6833d3
git_last_commit_date: 2025-11-03 06:57:03 -0500 (Mon, 03 Nov 2025)
nebbiolo1Linux (Ubuntu 24.04.3 LTS) / x86_64  OK    OK    OK  UNNEEDED, same version is already published
kjohnson3macOS 13.7.7 Ventura / arm64  OK    OK    OK    OK  NO, package depends on 'MsCoreUtils' which is only available as a source package that needs compilation


CHECK results for MsBackendSql on kjohnson3

To the developers/maintainers of the MsBackendSql package:
- Allow up to 24 hours (and sometimes 48 hours) for your latest push to git@git.bioconductor.org:packages/MsBackendSql.git to reflect on this report. See Troubleshooting Build Report for more information.
- Use the following Renviron settings to reproduce errors and warnings.
- If 'R CMD check' started to fail recently on the Linux builder(s) over a missing dependency, add the missing dependency to 'Suggests:' in your DESCRIPTION file. See Renviron.bioc for more information.

raw results


Summary

Package: MsBackendSql
Version: 1.11.1
Command: /Library/Frameworks/R.framework/Resources/bin/R CMD check --install=check:MsBackendSql.install-out.txt --library=/Library/Frameworks/R.framework/Resources/library --no-vignettes --timings MsBackendSql_1.11.1.tar.gz
StartedAt: 2025-11-14 21:11:19 -0500 (Fri, 14 Nov 2025)
EndedAt: 2025-11-14 21:13:59 -0500 (Fri, 14 Nov 2025)
EllapsedTime: 160.1 seconds
RetCode: 0
Status:   OK  
CheckDir: MsBackendSql.Rcheck
Warnings: 0

Command output

##############################################################################
##############################################################################
###
### Running command:
###
###   /Library/Frameworks/R.framework/Resources/bin/R CMD check --install=check:MsBackendSql.install-out.txt --library=/Library/Frameworks/R.framework/Resources/library --no-vignettes --timings MsBackendSql_1.11.1.tar.gz
###
##############################################################################
##############################################################################


* using log directory ‘/Users/biocbuild/bbs-3.23-bioc/meat/MsBackendSql.Rcheck’
* using R Under development (unstable) (2025-11-04 r88984)
* using platform: aarch64-apple-darwin20
* R was compiled by
    Apple clang version 16.0.0 (clang-1600.0.26.6)
    GNU Fortran (GCC) 14.2.0
* running under: macOS Ventura 13.7.8
* using session charset: UTF-8
* using option ‘--no-vignettes’
* checking for file ‘MsBackendSql/DESCRIPTION’ ... OK
* this is package ‘MsBackendSql’ version ‘1.11.1’
* package encoding: UTF-8
* checking package namespace information ... OK
* checking package dependencies ... OK
* checking if this is a source package ... OK
* checking if there is a namespace ... OK
* checking for hidden files and directories ... OK
* checking for portable file names ... OK
* checking for sufficient/correct file permissions ... OK
* checking whether package ‘MsBackendSql’ can be installed ... OK
* checking installed package size ... OK
* checking package directory ... OK
* checking ‘build’ directory ... OK
* checking DESCRIPTION meta-information ... OK
* checking top-level files ... OK
* checking for left-over files ... OK
* checking index information ... OK
* checking package subdirectories ... OK
* checking code files for non-ASCII characters ... OK
* checking R files for syntax errors ... OK
* checking whether the package can be loaded ... OK
* checking whether the package can be loaded with stated dependencies ... OK
* checking whether the package can be unloaded cleanly ... OK
* checking whether the namespace can be loaded with stated dependencies ... OK
* checking whether the namespace can be unloaded cleanly ... OK
* checking dependencies in R code ... OK
* checking S3 generic/method consistency ... OK
* checking replacement functions ... OK
* checking foreign function calls ... OK
* checking R code for possible problems ... OK
* checking Rd files ... OK
* checking Rd metadata ... OK
* checking Rd cross-references ... OK
* checking for missing documentation entries ... OK
* checking for code/documentation mismatches ... OK
* checking Rd \usage sections ... OK
* checking Rd contents ... OK
* checking for unstated dependencies in examples ... OK
* checking files in ‘vignettes’ ... OK
* checking examples ... OK
* checking for unstated dependencies in ‘tests’ ... OK
* checking tests ...
  Running ‘testthat.R’
 OK
* checking for unstated dependencies in vignettes ... OK
* checking package vignettes ... OK
* checking running R code from vignettes ... SKIPPED
* checking re-building of vignette outputs ... SKIPPED
* checking PDF version of manual ... OK
* DONE

Status: OK


Installation output

MsBackendSql.Rcheck/00install.out

##############################################################################
##############################################################################
###
### Running command:
###
###   /Library/Frameworks/R.framework/Resources/bin/R CMD INSTALL MsBackendSql
###
##############################################################################
##############################################################################


* installing to library ‘/Library/Frameworks/R.framework/Versions/4.6-arm64/Resources/library’
* installing *source* package ‘MsBackendSql’ ...
** this is package ‘MsBackendSql’ version ‘1.11.1’
** using staged installation
** R
** byte-compile and prepare package for lazy loading
** help
*** installing help indices
*** copying figures
** building package indices
** installing vignettes
** testing if installed package can be loaded from temporary location
** testing if installed package can be loaded from final location
** testing if installed package keeps a record of temporary installation path
* DONE (MsBackendSql)

Tests output

MsBackendSql.Rcheck/tests/testthat.Rout


R Under development (unstable) (2025-11-04 r88984) -- "Unsuffered Consequences"
Copyright (C) 2025 The R Foundation for Statistical Computing
Platform: aarch64-apple-darwin20

R is free software and comes with ABSOLUTELY NO WARRANTY.
You are welcome to redistribute it under certain conditions.
Type 'license()' or 'licence()' for distribution details.

R is a collaborative project with many contributors.
Type 'contributors()' for more information and
'citation()' on how to cite R or R packages in publications.

Type 'demo()' for some demos, 'help()' for on-line help, or
'help.start()' for an HTML browser interface to help.
Type 'q()' to quit R.

> library(testthat)
> library(MsBackendSql)
Loading required package: Spectra
Loading required package: S4Vectors
Loading required package: stats4
Loading required package: BiocGenerics
Loading required package: generics

Attaching package: 'generics'

The following objects are masked from 'package:base':

    as.difftime, as.factor, as.ordered, intersect, is.element, setdiff,
    setequal, union


Attaching package: 'BiocGenerics'

The following objects are masked from 'package:stats':

    IQR, mad, sd, var, xtabs

The following objects are masked from 'package:base':

    Filter, Find, Map, Position, Reduce, anyDuplicated, aperm, append,
    as.data.frame, basename, cbind, colnames, dirname, do.call,
    duplicated, eval, evalq, get, grep, grepl, is.unsorted, lapply,
    mapply, match, mget, order, paste, pmax, pmax.int, pmin, pmin.int,
    rank, rbind, rownames, sapply, saveRDS, table, tapply, unique,
    unsplit, which.max, which.min


Attaching package: 'S4Vectors'

The following object is masked from 'package:utils':

    findMatches

The following objects are masked from 'package:base':

    I, expand.grid, unname

Loading required package: BiocParallel
> library(Spectra)
> library(RSQLite)
> library(msdata)
> 
> setClass("DummySQL",
+          contains = "SQLiteConnection")
> 
> setMethod("dbExecute", c("DummySQL", "character"),
+           function(conn, statement, ...) {
+               TRUE
+           })
> 
> mm8_file <- system.file("microtofq", "MM8.mzML", package = "msdata")
> mm8_sps <- Spectra(mm8_file)
> mm8_db_long <- dbConnect(SQLite(), tempfile())
> createMsBackendSqlDatabase(mm8_db_long, mm8_file, blob = FALSE,
+                            peaksStorageMode = "long")
Importing data ... 

[==========================================================] 1/1 (100%) in  0s
Creating indices .... Done
[1] TRUE
> mm8_be_long <- backendInitialize(MsBackendSql(), mm8_db_long)
> 
> mm8_db_blob <- dbConnect(SQLite(), tempfile())
> createMsBackendSqlDatabase(mm8_db_blob, mm8_file, blob = TRUE,
+                            peaksStorageMode = "blob")
Importing data ... 

[==========================================================] 1/1 (100%) in  0s
Creating indices .... Done
[1] TRUE
> mm8_be_blob <- backendInitialize(MsBackendSql(), mm8_db_blob)
> 
> mm8_db_blob2 <- dbConnect(SQLite(), tempfile())
> createMsBackendSqlDatabase(mm8_db_blob2, mm8_file, blob = TRUE,
+                            peaksStorageMode = "blob2")
Importing data ... 

[==========================================================] 1/1 (100%) in  0s
Creating indices .... Done
[1] TRUE
> mm8_be_blob2 <- backendInitialize(MsBackendSql(), mm8_db_blob2)
> 
> ################################################################################
> ##
> ##  OPTIONAL TESTS WITH duckdb
> ## library(duckdb)
> ## mm8_db_long <- dbConnect(duckdb(), tempfile())
> ## createMsBackendSqlDatabase(mm8_db_long, mm8_file, blob = FALSE,
> ##                            peaksStorageMode = "long")
> ## mm8_be_long <- backendInitialize(MsBackendSql(), mm8_db_long)
> 
> ## mm8_db_blob <- dbConnect(duckdb(), tempfile())
> ## createMsBackendSqlDatabase(mm8_db_blob, mm8_file, blob = TRUE,
> ##                            peaksStorageMode = "blob")
> ## mm8_be_blob <- backendInitialize(MsBackendSql(), mm8_db_blob)
> 
> ## mm8_db_blob2 <- dbConnect(duckdb(), tempfile())
> ## createMsBackendSqlDatabase(mm8_db_blob2, mm8_file, blob = TRUE,
> ##                            peaksStorageMode = "blob2")
> ## mm8_be_blob2 <- backendInitialize(MsBackendSql(), mm8_db_blob2)
> ##
> ################################################################################
> 
> mm14_file <- system.file("microtofq", "MM14.mzML", package = "msdata")
> mm_db <- dbConnect(SQLite(), tempfile())
> createMsBackendSqlDatabase(mm_db, c(mm8_file, mm14_file), blob = FALSE)
Importing data ... 

[==========================================================] 1/1 (100%) in  1s
Creating indices .... Done
[1] TRUE
> mm_be <- backendInitialize(MsBackendSql(), mm_db)
> 
> tmt_file <- proteomics(full.names = TRUE)[4L]
> tmt_mzr <- backendInitialize(MsBackendMzR(), tmt_file)
> tmt_db <- dbConnect(SQLite(), tempfile())
> createMsBackendSqlDatabase(tmt_db, tmt_file, blob = FALSE)
Importing data ... 

[==========================================================] 1/1 (100%) in 32s
Creating indices .... Done
[1] TRUE
> tmt_be <- backendInitialize(MsBackendSql(), tmt_db)
> 
> test_check("MsBackendSql")
[ FAIL 0 | WARN 3 | SKIP 0 | PASS 640 ]

[ FAIL 0 | WARN 3 | SKIP 0 | PASS 640 ]
Warning message:
call dbDisconnect() when finished working with a connection 
> 
> test_suite <- system.file("test_backends", "test_MsBackend",
+                           package = "Spectra")
> 
> be <- mm8_be_blob
> test_dir(test_suite, stop_on_failure = TRUE)
✔ | F W  S  OK | Context

⠏ |          0 | peaks_variables                                                
✔ |          4 | peaks_variables

⠏ |          0 | spectra_subsetting                                             
⠇ |         69 | spectra_subsetting                                             
⠸ |        154 | spectra_subsetting                                             
⠹ |        253 | spectra_subsetting                                             
⠧ |        338 | spectra_subsetting                                             
⠋ |        421 | spectra_subsetting                                             
⠧ |        508 | spectra_subsetting                                             
⠼ |        595 | spectra_subsetting                                             
⠙ |        602 | spectra_subsetting                                             
⠦ |        607 | spectra_subsetting                                             
⠙ |        612 | spectra_subsetting                                             
⠦ |        617 | spectra_subsetting                                             
⠙ |        622 | spectra_subsetting                                             
⠦ |        627 | spectra_subsetting                                             
⠙ |        632 | spectra_subsetting                                             
⠴ |        636 | spectra_subsetting                                             
⠋ |        641 | spectra_subsetting                                             
⠴ |        646 | spectra_subsetting                                             
⠋ |        651 | spectra_subsetting                                             
⠴ |        656 | spectra_subsetting                                             
⠋ |        661 | spectra_subsetting                                             
⠴ |        666 | spectra_subsetting                                             
⠋ |        671 | spectra_subsetting                                             
⠴ |        676 | spectra_subsetting                                             
⠋ |        681 | spectra_subsetting                                             
⠴ |        686 | spectra_subsetting                                             
⠋ |        691 | spectra_subsetting                                             
⠴ |        696 | spectra_subsetting                                             
⠏ |        700 | spectra_subsetting                                             
⠼ |        705 | spectra_subsetting                                             
⠏ |        710 | spectra_subsetting                                             
⠼ |        715 | spectra_subsetting                                             
⠏ |        720 | spectra_subsetting                                             
⠼ |        725 | spectra_subsetting                                             
⠏ |        730 | spectra_subsetting                                             
⠼ |        735 | spectra_subsetting                                             
⠏ |        740 | spectra_subsetting                                             
⠼ |        745 | spectra_subsetting                                             
⠇ |        749 | spectra_subsetting                                             
⠸ |        754 | spectra_subsetting                                             
⠇ |        759 | spectra_subsetting                                             
⠸ |        764 | spectra_subsetting                                             
⠧ |        768 | spectra_subsetting                                             
⠹ |        773 | spectra_subsetting                                             
⠧ |        778 | spectra_subsetting                                             
⠙ |        782 | spectra_subsetting                                             
⠦ |        787 | spectra_subsetting                                             
⠙ |        792 | spectra_subsetting                                             
⠇ |        799 | spectra_subsetting                                             
⠋ |        821 | spectra_subsetting                                             
⠹ |        833 | spectra_subsetting                                             
✔ |        838 | spectra_subsetting [5.8s]

⠏ |          0 | spectra_variables                                              
⠦ |         27 | spectra_variables                                              
⠙ |         62 | spectra_variables                                              
✔ |         64 | spectra_variables

══ Results ═════════════════════════════════════════════════════════════════════
Duration: 6.1 s

[ FAIL 0 | WARN 0 | SKIP 0 | PASS 906 ]

🌈 Your tests are over the rainbow 🌈
> 
> be <- tmt_be[sample(seq_along(tmt_be), 300)]
> test_dir(test_suite, stop_on_failure = TRUE)
✔ | F W  S  OK | Context

⠏ |          0 | peaks_variables                                                
⠙ |          2 | peaks_variables                                                
⠸ |          4 | peaks_variables                                                
✔ |          4 | peaks_variables [1.7s]

⠏ |          0 | spectra_subsetting                                             
⠼ |         15 | spectra_subsetting                                             
⠋ |        101 | spectra_subsetting                                             
⠙ |        182 | spectra_subsetting                                             
⠇ |        269 | spectra_subsetting                                             
⠴ |        346 | spectra_subsetting                                             
⠇ |        439 | spectra_subsetting                                             
⠇ |        529 | spectra_subsetting                                             
⠏ |        620 | spectra_subsetting                                             
⠧ |        718 | spectra_subsetting                                             
⠇ |        809 | spectra_subsetting                                             
⠋ |        891 | spectra_subsetting                                             
⠦ |        907 | spectra_subsetting                                             
⠏ |        910 | spectra_subsetting                                             
⠹ |        913 | spectra_subsetting                                             
⠦ |        917 | spectra_subsetting                                             
⠏ |        920 | spectra_subsetting                                             
⠙ |        922 | spectra_subsetting                                             
⠦ |        927 | spectra_subsetting                                             
⠙ |        932 | spectra_subsetting                                             
⠼ |        935 | spectra_subsetting                                             
⠇ |        939 | spectra_subsetting                                             
⠹ |        943 | spectra_subsetting                                             
⠼ |        945 | spectra_subsetting                                             
⠏ |        950 | spectra_subsetting                                             
⠼ |        955 | spectra_subsetting                                             
⠦ |        957 | spectra_subsetting                                             
⠙ |        962 | spectra_subsetting                                             
⠼ |        965 | spectra_subsetting                                             
⠏ |        970 | spectra_subsetting                                             
⠹ |        973 | spectra_subsetting                                             
⠧ |        978 | spectra_subsetting                                             
⠋ |        981 | spectra_subsetting                                             
⠸ |        984 | spectra_subsetting                                             
⠦ |        987 | spectra_subsetting                                             
⠋ |        991 | spectra_subsetting                                             
⠹ |        993 | spectra_subsetting                                             
⠧ |        998 | spectra_subsetting                                             
⠙ |        1002 | spectra_subsetting                                            
⠦ |        1007 | spectra_subsetting                                            
⠋ |        1011 | spectra_subsetting                                            
⠴ |        1016 | spectra_subsetting                                            
⠏ |        1020 | spectra_subsetting                                            
⠸ |        1024 | spectra_subsetting                                            
⠦ |        1027 | spectra_subsetting                                            
⠋ |        1031 | spectra_subsetting                                            
⠸ |        1034 | spectra_subsetting                                            
⠇ |        1039 | spectra_subsetting                                            
⠙ |        1042 | spectra_subsetting                                            
⠼ |        1045 | spectra_subsetting                                            
⠇ |        1049 | spectra_subsetting                                            
⠙ |        1052 | spectra_subsetting                                            
⠼ |        1055 | spectra_subsetting                                            
⠏ |        1060 | spectra_subsetting                                            
⠼ |        1065 | spectra_subsetting                                            
⠧ |        1068 | spectra_subsetting                                            
⠹ |        1073 | spectra_subsetting                                            
⠴ |        1076 | spectra_subsetting                                            
⠏ |        1080 | spectra_subsetting                                            
⠸ |        1084 | spectra_subsetting                                            
⠴ |        1086 | spectra_subsetting                                            
⠇ |        1089 | spectra_subsetting                                            
⠸ |        1094 | spectra_subsetting                                            
⠇ |        1099 | spectra_subsetting                                            
⠋ |        1101 | spectra_subsetting                                            
⠸ |        1104 | spectra_subsetting                                            
⠇ |        1109 | spectra_subsetting                                            
⠋ |        1111 | spectra_subsetting                                            
⠴ |        1116 | spectra_subsetting                                            
⠏ |        1120 | spectra_subsetting                                            
⠹ |        1123 | spectra_subsetting                                            
⠧ |        1128 | spectra_subsetting                                            
⠹ |        1133 | spectra_subsetting                                            
⠴ |        1136 | spectra_subsetting                                            
⠏ |        1140 | spectra_subsetting                                            
⠸ |        1144 | spectra_subsetting                                            
⠇ |        1149 | spectra_subsetting                                            
⠹ |        1153 | spectra_subsetting                                            
⠧ |        1158 | spectra_subsetting                                            
⠙ |        1162 | spectra_subsetting                                            
⠦ |        1167 | spectra_subsetting                                            
⠙ |        1172 | spectra_subsetting                                            
⠼ |        1175 | spectra_subsetting                                            
⠏ |        1180 | spectra_subsetting                                            
⠹ |        1183 | spectra_subsetting                                            
⠦ |        1187 | spectra_subsetting                                            
⠙ |        1192 | spectra_subsetting                                            
⠼ |        1195 | spectra_subsetting                                            
⠇ |        1199 | spectra_subsetting                                            
⠙ |        1202 | spectra_subsetting                                            
⠇ |        1209 | spectra_subsetting                                            
⠦ |        1217 | spectra_subsetting                                            
⠹ |        1223 | spectra_subsetting                                            
⠧ |        1238 | spectra_subsetting                                            
✔ |        1246 | spectra_subsetting [16.6s]

⠏ |          0 | spectra_variables                                              
⠙ |         12 | spectra_variables                                              
⠸ |         14 | spectra_variables                                              
⠴ |         16 | spectra_variables                                              
⠦ |         27 | spectra_variables                                              
⠇ |         29 | spectra_variables                                              
⠋ |         31 | spectra_variables                                              
⠹ |         43 | spectra_variables                                              
⠸ |         54 | spectra_variables                                              
✔ |         64 | spectra_variables [7.1s]

══ Results ═════════════════════════════════════════════════════════════════════
Duration: 25.5 s

[ FAIL 0 | WARN 0 | SKIP 0 | PASS 1314 ]
> 
> dbDisconnect(mm8_db_long)
> dbDisconnect(mm8_db_blob)
> dbDisconnect(mm8_db_blob2)
> dbDisconnect(mm_db)
> dbDisconnect(tmt_db)
> 
> proc.time()
   user  system elapsed 
104.651  13.273 120.029 

Example timings

MsBackendSql.Rcheck/MsBackendSql-Ex.timings

nameusersystemelapsed
MsBackendSql1.3500.2251.664