| Back to Build/check report for BioC 3.23: simplified long | 
  | 
This page was generated on 2025-11-03 11:33 -0500 (Mon, 03 Nov 2025).
| Hostname | OS | Arch (*) | R version | Installed pkgs | 
|---|---|---|---|---|
| nebbiolo1 | Linux (Ubuntu 24.04.3 LTS) | x86_64 | R Under development (unstable) (2025-10-20 r88955) -- "Unsuffered Consequences" | 4775 | 
| Click on any hostname to see more info about the system (e.g. compilers) (*) as reported by 'uname -p', except on Windows and Mac OS X | ||||
| Package 1277/2321 | Hostname | OS / Arch | INSTALL | BUILD | CHECK | BUILD BIN | ||||||||
| MicrobiotaProcess 1.23.0  (landing page) Shuangbin Xu 
  | nebbiolo1 | Linux (Ubuntu 24.04.3 LTS) / x86_64 | OK | OK | OK | |||||||||
| 
To the developers/maintainers of the MicrobiotaProcess package: - Allow up to 24 hours (and sometimes 48 hours) for your latest push to git@git.bioconductor.org:packages/MicrobiotaProcess.git to reflect on this report. See Troubleshooting Build Report for more information. - Use the following Renviron settings to reproduce errors and warnings. - If 'R CMD check' started to fail recently on the Linux builder(s) over a missing dependency, add the missing dependency to 'Suggests:' in your DESCRIPTION file. See Renviron.bioc for more information.  | 
| Package: MicrobiotaProcess | 
| Version: 1.23.0 | 
| Command: /home/biocbuild/bbs-3.23-bioc/R/bin/R CMD check --install=check:MicrobiotaProcess.install-out.txt --library=/home/biocbuild/bbs-3.23-bioc/R/site-library --timings MicrobiotaProcess_1.23.0.tar.gz | 
| StartedAt: 2025-11-03 01:00:20 -0500 (Mon, 03 Nov 2025) | 
| EndedAt: 2025-11-03 01:07:20 -0500 (Mon, 03 Nov 2025) | 
| EllapsedTime: 419.6 seconds | 
| RetCode: 0 | 
| Status: OK | 
| CheckDir: MicrobiotaProcess.Rcheck | 
| Warnings: 0 | 
##############################################################################
##############################################################################
###
### Running command:
###
###   /home/biocbuild/bbs-3.23-bioc/R/bin/R CMD check --install=check:MicrobiotaProcess.install-out.txt --library=/home/biocbuild/bbs-3.23-bioc/R/site-library --timings MicrobiotaProcess_1.23.0.tar.gz
###
##############################################################################
##############################################################################
* using log directory ‘/home/biocbuild/bbs-3.23-bioc/meat/MicrobiotaProcess.Rcheck’
* using R Under development (unstable) (2025-10-20 r88955)
* using platform: x86_64-pc-linux-gnu
* R was compiled by
    gcc (Ubuntu 13.3.0-6ubuntu2~24.04) 13.3.0
    GNU Fortran (Ubuntu 13.3.0-6ubuntu2~24.04) 13.3.0
* running under: Ubuntu 24.04.3 LTS
* using session charset: UTF-8
* checking for file ‘MicrobiotaProcess/DESCRIPTION’ ... OK
* checking extension type ... Package
* this is package ‘MicrobiotaProcess’ version ‘1.23.0’
* package encoding: UTF-8
* checking package namespace information ... OK
* checking package dependencies ... INFO
Imports includes 29 non-default packages.
Importing from so many packages makes the package vulnerable to any of
them becoming unavailable.  Move as many as possible to Suggests and
use conditionally.
* checking if this is a source package ... OK
* checking if there is a namespace ... OK
* checking for hidden files and directories ... OK
* checking for portable file names ... OK
* checking for sufficient/correct file permissions ... OK
* checking whether package ‘MicrobiotaProcess’ can be installed ... OK
* checking installed package size ... OK
* checking package directory ... OK
* checking ‘build’ directory ... OK
* checking DESCRIPTION meta-information ... OK
* checking top-level files ... OK
* checking for left-over files ... OK
* checking index information ... OK
* checking package subdirectories ... OK
* checking code files for non-ASCII characters ... OK
* checking R files for syntax errors ... OK
* checking whether the package can be loaded ... OK
* checking whether the package can be loaded with stated dependencies ... OK
* checking whether the package can be unloaded cleanly ... OK
* checking whether the namespace can be loaded with stated dependencies ... OK
* checking whether the namespace can be unloaded cleanly ... OK
* checking loading without being on the library search path ... OK
* checking whether startup messages can be suppressed ... OK
* checking dependencies in R code ... OK
* checking S3 generic/method consistency ... OK
* checking replacement functions ... OK
* checking foreign function calls ... OK
* checking R code for possible problems ... OK
* checking Rd files ... OK
* checking Rd metadata ... OK
* checking Rd cross-references ... NOTE
Non-topic package-anchored link(s) in Rd file 'reexports.Rd':
  ‘[magrittr:compound]{%<>%}’ ‘[magrittr:pipe]{%>%}’
  ‘[magrittr:aliases]{extract}’
See section 'Cross-references' in the 'Writing R Extensions' manual.
Found the following Rd file(s) with Rd \link{} targets missing package
anchors:
  ggrarecurve.Rd: ggplot2
Please provide package anchors for all Rd \link{} targets not in the
package itself and the base packages.
* checking for missing documentation entries ... OK
* checking for code/documentation mismatches ... OK
* checking Rd \usage sections ... OK
* checking Rd contents ... OK
* checking for unstated dependencies in examples ... OK
* checking contents of ‘data’ directory ... OK
* checking data for non-ASCII characters ... OK
* checking data for ASCII and uncompressed saves ... OK
* checking files in ‘vignettes’ ... OK
* checking examples ... OK
Examples with CPU (user + system) or elapsed time > 5s
                               user system elapsed
mp_cal_abundance-methods     10.752  0.162  10.628
mp_plot_diff_boxplot-methods  6.079  0.004   5.914
mp_cal_rarecurve-methods      5.848  0.126   5.975
mp_diff_analysis-methods      5.052  0.008   4.869
* checking for unstated dependencies in ‘tests’ ... OK
* checking tests ...
  Running ‘testthat.R’
 OK
* checking for unstated dependencies in vignettes ... OK
* checking package vignettes ... OK
* checking re-building of vignette outputs ... OK
* checking PDF version of manual ... OK
* DONE
Status: 1 NOTE
See
  ‘/home/biocbuild/bbs-3.23-bioc/meat/MicrobiotaProcess.Rcheck/00check.log’
for details.
MicrobiotaProcess.Rcheck/00install.out
############################################################################## ############################################################################## ### ### Running command: ### ### /home/biocbuild/bbs-3.23-bioc/R/bin/R CMD INSTALL MicrobiotaProcess ### ############################################################################## ############################################################################## * installing to library ‘/home/biocbuild/bbs-3.23-bioc/R/site-library’ * installing *source* package ‘MicrobiotaProcess’ ... ** this is package ‘MicrobiotaProcess’ version ‘1.23.0’ ** using staged installation ** R ** data ** inst ** byte-compile and prepare package for lazy loading in method for ‘taxonomy<-’ with signature ‘x="MPSE",value="taxonomyTable"’: no definition for class “taxonomyTable” Creating a generic function for ‘rownames<-’ from package ‘base’ in package ‘MicrobiotaProcess’ in method for ‘get_alltaxadf’ with signature ‘"phyloseq"’: no definition for class “phyloseq” in method for ‘get_taxadf’ with signature ‘"phyloseq"’: no definition for class “phyloseq” in method for ‘get_alphaindex’ with signature ‘"phyloseq"’: no definition for class “phyloseq” in method for ‘get_NRI_NTI’ with signature ‘"phyloseq"’: no definition for class “phyloseq” in method for ‘get_rarecurve’ with signature ‘"phyloseq"’: no definition for class “phyloseq” in method for ‘get_upset’ with signature ‘"phyloseq"’: no definition for class “phyloseq” in method for ‘get_vennlist’ with signature ‘"phyloseq"’: no definition for class “phyloseq” in method for ‘drop_taxa’ with signature ‘"phyloseq"’: no definition for class “phyloseq” ** help *** installing help indices ** building package indices ** installing vignettes ** testing if installed package can be loaded from temporary location ** testing if installed package can be loaded from final location ** testing if installed package keeps a record of temporary installation path * DONE (MicrobiotaProcess)
MicrobiotaProcess.Rcheck/tests/testthat.Rout
R Under development (unstable) (2025-10-20 r88955) -- "Unsuffered Consequences"
Copyright (C) 2025 The R Foundation for Statistical Computing
Platform: x86_64-pc-linux-gnu
R is free software and comes with ABSOLUTELY NO WARRANTY.
You are welcome to redistribute it under certain conditions.
Type 'license()' or 'licence()' for distribution details.
R is a collaborative project with many contributors.
Type 'contributors()' for more information and
'citation()' on how to cite R or R packages in publications.
Type 'demo()' for some demos, 'help()' for on-line help, or
'help.start()' for an HTML browser interface to help.
Type 'q()' to quit R.
> library("testthat")
> library("MicrobiotaProcess")
MicrobiotaProcess v1.23.0 For help:
https://github.com/YuLab-SMU/MicrobiotaProcess/issues
If you use MicrobiotaProcess in published research, please cite the
paper:
Shuangbin Xu, Li Zhan, Wenli Tang, Qianwen Wang, Zehan Dai, Lang Zhou,
Tingze Feng, Meijun Chen, Tianzhi Wu, Erqiang Hu, Guangchuang Yu.
MicrobiotaProcess: A comprehensive R package for deep mining
microbiome. The Innovation. 2023, 4(2):100388. doi:
10.1016/j.xinn.2023.100388
Export the citation to BibTex by citation('MicrobiotaProcess')
This message can be suppressed by:
suppressPackageStartupMessages(library(MicrobiotaProcess))
Attaching package: 'MicrobiotaProcess'
The following object is masked from 'package:stats':
    filter
> test_check("MicrobiotaProcess")
[ FAIL 0 | WARN 9 | SKIP 0 | PASS 13 ]
[ FAIL 0 | WARN 9 | SKIP 0 | PASS 13 ]
> 
> proc.time()
   user  system elapsed 
 12.722   0.725  13.314 
MicrobiotaProcess.Rcheck/MicrobiotaProcess-Ex.timings
| name | user | system | elapsed | |
| ImportDada2 | 1.861 | 0.084 | 1.946 | |
| ImportQiime2 | 2.797 | 0.059 | 2.859 | |
| MPSE | 0.084 | 0.000 | 0.084 | |
| as.treedata | 0.000 | 0.001 | 0.001 | |
| build_tree | 0 | 0 | 0 | |
| convert_to_treedata | 0 | 0 | 0 | |
| data-hmp_aerobiosis_small | 0.010 | 0.002 | 0.013 | |
| data-kostic2012crc | 0.050 | 0.003 | 0.053 | |
| data-test_otu_data | 0.001 | 0.001 | 0.002 | |
| diff_analysis | 0.001 | 0.000 | 0.000 | |
| dr_extract | 0 | 0 | 0 | |
| drop_taxa | 0.000 | 0.001 | 0.001 | |
| generalizedFC | 0.005 | 0.000 | 0.005 | |
| get_alltaxadf | 0.000 | 0.001 | 0.000 | |
| get_alphaindex | 0.000 | 0.000 | 0.001 | |
| get_clust | 0.001 | 0.000 | 0.000 | |
| get_coord | 0 | 0 | 0 | |
| get_count | 0.000 | 0.001 | 0.001 | |
| get_dist | 0 | 0 | 0 | |
| get_mean_median | 0 | 0 | 0 | |
| get_pca | 0.000 | 0.000 | 0.001 | |
| get_pcoa | 0 | 0 | 0 | |
| get_pvalue | 0.079 | 0.001 | 0.081 | |
| get_rarecurve | 0.001 | 0.000 | 0.000 | |
| get_sampledflist | 0.001 | 0.000 | 0.000 | |
| get_taxadf | 0.001 | 0.000 | 0.000 | |
| get_upset | 0.000 | 0.001 | 0.001 | |
| get_varct | 0.000 | 0.000 | 0.001 | |
| get_vennlist | 0.000 | 0.001 | 0.000 | |
| ggbartax | 0 | 0 | 0 | |
| ggbox | 0 | 0 | 0 | |
| ggclust | 0.001 | 0.000 | 0.001 | |
| ggdiffbox | 0.000 | 0.001 | 0.001 | |
| ggdiffclade | 0.000 | 0.001 | 0.001 | |
| ggdifftaxbar | 0.001 | 0.000 | 0.000 | |
| ggeffectsize | 0.001 | 0.000 | 0.001 | |
| ggordpoint | 0.000 | 0.001 | 0.001 | |
| ggrarecurve | 0.000 | 0.001 | 0.001 | |
| mp_adonis-methods | 0.161 | 0.001 | 0.162 | |
| mp_aggregate-methods | 0 | 0 | 0 | |
| mp_aggregate_clade-methods | 0.000 | 0.001 | 0.001 | |
| mp_anosim-methods | 1.105 | 0.021 | 1.126 | |
| mp_balance_clade-methods | 0.000 | 0.001 | 0.001 | |
| mp_cal_abundance-methods | 10.752 | 0.162 | 10.628 | |
| mp_cal_alpha-methods | 1.323 | 0.028 | 1.358 | |
| mp_cal_cca-methods | 0.934 | 0.008 | 0.941 | |
| mp_cal_clust-methods | 0.555 | 0.002 | 0.557 | |
| mp_cal_dist-methods | 2.953 | 0.030 | 2.981 | |
| mp_cal_divergence-methods | 0.001 | 0.000 | 0.000 | |
| mp_cal_nmds-methods | 0.334 | 0.011 | 0.346 | |
| mp_cal_pca-methods | 3.175 | 0.186 | 3.363 | |
| mp_cal_pcoa-methods | 0.595 | 0.074 | 0.671 | |
| mp_cal_pd_metric-methods | 0 | 0 | 0 | |
| mp_cal_rarecurve-methods | 5.848 | 0.126 | 5.975 | |
| mp_cal_rda-methods | 0.746 | 0.002 | 0.748 | |
| mp_cal_upset-methods | 1.279 | 0.006 | 1.275 | |
| mp_cal_venn-methods | 0.530 | 0.002 | 0.515 | |
| mp_decostand-methods | 0.343 | 0.000 | 0.343 | |
| mp_diff_analysis-methods | 5.052 | 0.008 | 4.869 | |
| mp_diff_clade-methods | 0 | 0 | 0 | |
| mp_dmn-methods | 0 | 0 | 0 | |
| mp_dmngroup-methods | 0 | 0 | 0 | |
| mp_envfit-methods | 1.937 | 0.040 | 1.978 | |
| mp_filter_taxa-methods | 0.921 | 0.001 | 0.922 | |
| mp_import_metaphlan | 2.810 | 0.001 | 2.812 | |
| mp_mantel-methods | 0.257 | 0.001 | 0.258 | |
| mp_mrpp-methods | 0.157 | 0.001 | 0.159 | |
| mp_plot_abundance-methods | 0.001 | 0.000 | 0.000 | |
| mp_plot_alpha-methods | 0 | 0 | 0 | |
| mp_plot_diff_boxplot-methods | 6.079 | 0.004 | 5.914 | |
| mp_plot_diff_cladogram | 0.001 | 0.000 | 0.000 | |
| mp_plot_diff_manhattan-methods | 2.913 | 0.016 | 2.763 | |
| mp_plot_dist-methods | 0.000 | 0.000 | 0.001 | |
| mp_plot_ord-methods | 0.001 | 0.000 | 0.000 | |
| mp_plot_rarecurve-methods | 0 | 0 | 0 | |
| mp_plot_upset-methods | 0 | 0 | 0 | |
| mp_plot_venn-methods | 0.000 | 0.000 | 0.001 | |
| mp_rrarefy-methods | 0.340 | 0.009 | 0.352 | |
| mp_select_as_tip-methods | 0.000 | 0.000 | 0.001 | |
| mp_stat_taxa-methods | 1.010 | 0.008 | 0.900 | |
| multi_compare | 0.009 | 0.000 | 0.009 | |
| read_qza | 0.001 | 0.000 | 0.000 | |
| show-methods | 0 | 0 | 0 | |
| split_data | 0.002 | 0.000 | 0.002 | |
| split_str_to_list | 0 | 0 | 0 | |
| theme_taxbar | 0.000 | 0.001 | 0.000 | |