| Back to Multiple platform build/check report for BioC 3.23: simplified long |
|
This page was generated on 2025-11-20 11:38 -0500 (Thu, 20 Nov 2025).
| Hostname | OS | Arch (*) | R version | Installed pkgs |
|---|---|---|---|---|
| nebbiolo1 | Linux (Ubuntu 24.04.3 LTS) | x86_64 | R Under development (unstable) (2025-10-20 r88955) -- "Unsuffered Consequences" | 4827 |
| lconway | macOS 12.7.6 Monterey | x86_64 | R Under development (unstable) (2025-10-21 r88958) -- "Unsuffered Consequences" | 4600 |
| kjohnson3 | macOS 13.7.7 Ventura | arm64 | R Under development (unstable) (2025-11-04 r88984) -- "Unsuffered Consequences" | 4564 |
| Click on any hostname to see more info about the system (e.g. compilers) (*) as reported by 'uname -p', except on Windows and Mac OS X | ||||
| Package 1371/2325 | Hostname | OS / Arch | INSTALL | BUILD | CHECK | BUILD BIN | ||||||||
| MSnID 1.45.0 (landing page) Vlad Petyuk
| nebbiolo1 | Linux (Ubuntu 24.04.3 LTS) / x86_64 | OK | OK | OK | |||||||||
| lconway | macOS 12.7.6 Monterey / x86_64 | OK | OK | OK | OK | |||||||||
| kjohnson3 | macOS 13.7.7 Ventura / arm64 | OK | OK | ERROR | OK | |||||||||
|
To the developers/maintainers of the MSnID package: - Allow up to 24 hours (and sometimes 48 hours) for your latest push to git@git.bioconductor.org:packages/MSnID.git to reflect on this report. See Troubleshooting Build Report for more information. - Use the following Renviron settings to reproduce errors and warnings. - If 'R CMD check' started to fail recently on the Linux builder(s) over a missing dependency, add the missing dependency to 'Suggests:' in your DESCRIPTION file. See Renviron.bioc for more information. |
| Package: MSnID |
| Version: 1.45.0 |
| Command: /Library/Frameworks/R.framework/Resources/bin/R CMD check --install=check:MSnID.install-out.txt --library=/Library/Frameworks/R.framework/Resources/library --no-vignettes --timings MSnID_1.45.0.tar.gz |
| StartedAt: 2025-11-19 22:39:01 -0500 (Wed, 19 Nov 2025) |
| EndedAt: 2025-11-19 22:46:59 -0500 (Wed, 19 Nov 2025) |
| EllapsedTime: 477.9 seconds |
| RetCode: 0 |
| Status: OK |
| CheckDir: MSnID.Rcheck |
| Warnings: 0 |
##############################################################################
##############################################################################
###
### Running command:
###
### /Library/Frameworks/R.framework/Resources/bin/R CMD check --install=check:MSnID.install-out.txt --library=/Library/Frameworks/R.framework/Resources/library --no-vignettes --timings MSnID_1.45.0.tar.gz
###
##############################################################################
##############################################################################
* using log directory ‘/Users/biocbuild/bbs-3.23-bioc/meat/MSnID.Rcheck’
* using R Under development (unstable) (2025-10-21 r88958)
* using platform: x86_64-apple-darwin20
* R was compiled by
Apple clang version 14.0.0 (clang-1400.0.29.202)
GNU Fortran (GCC) 14.2.0
* running under: macOS Ventura 13.7.8
* using session charset: UTF-8
* using option ‘--no-vignettes’
* checking for file ‘MSnID/DESCRIPTION’ ... OK
* checking extension type ... Package
* this is package ‘MSnID’ version ‘1.45.0’
* checking package namespace information ... OK
* checking package dependencies ... INFO
Imports includes 25 non-default packages.
Importing from so many packages makes the package vulnerable to any of
them becoming unavailable. Move as many as possible to Suggests and
use conditionally.
* checking if this is a source package ... OK
* checking if there is a namespace ... OK
* checking for hidden files and directories ... OK
* checking for portable file names ... OK
* checking for sufficient/correct file permissions ... OK
* checking whether package ‘MSnID’ can be installed ... OK
* checking installed package size ... OK
* checking package directory ... OK
* checking ‘build’ directory ... OK
* checking DESCRIPTION meta-information ... OK
* checking top-level files ... OK
* checking for left-over files ... OK
* checking index information ... OK
* checking package subdirectories ... OK
* checking code files for non-ASCII characters ... OK
* checking R files for syntax errors ... OK
* checking whether the package can be loaded ... OK
* checking whether the package can be loaded with stated dependencies ... OK
* checking whether the package can be unloaded cleanly ... OK
* checking whether the namespace can be loaded with stated dependencies ... OK
* checking whether the namespace can be unloaded cleanly ... OK
* checking dependencies in R code ... NOTE
Namespaces in Imports field not imported from:
‘BiocGenerics’ ‘BiocStyle’ ‘RUnit’ ‘ggplot2’ ‘msmsTests’ ‘xtable’
All declared Imports should be used.
* checking S3 generic/method consistency ... OK
* checking replacement functions ... OK
* checking foreign function calls ... OK
* checking R code for possible problems ... NOTE
.read_mzIDs.mzR.engine.single.file: no visible binding for global
variable ‘peptideRef’
Undefined global functions or variables:
peptideRef
* checking Rd files ... OK
* checking Rd metadata ... OK
* checking Rd cross-references ... NOTE
Found the following Rd file(s) with Rd \link{} targets missing package
anchors:
MSnID-class.Rd: MSnSet
MSnID-package.Rd: mzID
Please provide package anchors for all Rd \link{} targets not in the
package itself and the base packages.
* checking for missing documentation entries ... OK
* checking for code/documentation mismatches ... OK
* checking Rd \usage sections ... OK
* checking Rd contents ... OK
* checking for unstated dependencies in examples ... OK
* checking contents of ‘data’ directory ... OK
* checking data for non-ASCII characters ... OK
* checking LazyData ... OK
* checking data for ASCII and uncompressed saves ... OK
* checking sizes of PDF files under ‘inst/doc’ ... OK
* checking files in ‘vignettes’ ... OK
* checking examples ... OK
Examples with CPU (user + system) or elapsed time > 5s
user system elapsed
fetch_conversion_table 13.458 1.451 15.611
remap_accessions-method 7.359 0.592 8.184
remap_fasta_entry_names 7.049 0.531 7.781
optimize_filter 3.717 0.112 22.809
* checking for unstated dependencies in ‘tests’ ... OK
* checking tests ...
Running ‘runTests.R’
OK
* checking for unstated dependencies in vignettes ... OK
* checking package vignettes ... OK
* checking running R code from vignettes ... SKIPPED
* checking re-building of vignette outputs ... SKIPPED
* checking PDF version of manual ... OK
* DONE
Status: 3 NOTEs
See
‘/Users/biocbuild/bbs-3.23-bioc/meat/MSnID.Rcheck/00check.log’
for details.
MSnID.Rcheck/00install.out
############################################################################## ############################################################################## ### ### Running command: ### ### /Library/Frameworks/R.framework/Resources/bin/R CMD INSTALL MSnID ### ############################################################################## ############################################################################## * installing to library ‘/Library/Frameworks/R.framework/Versions/4.6-x86_64/Resources/library’ * installing *source* package ‘MSnID’ ... ** this is package ‘MSnID’ version ‘1.45.0’ ** using staged installation ** R ** data *** moving datasets to lazyload DB ** demo ** inst ** byte-compile and prepare package for lazy loading ** help *** installing help indices ** building package indices ** installing vignettes ** testing if installed package can be loaded from temporary location ** testing if installed package can be loaded from final location ** testing if installed package keeps a record of temporary installation path * DONE (MSnID)
MSnID.Rcheck/tests/runTests.Rout
R Under development (unstable) (2025-10-21 r88958) -- "Unsuffered Consequences"
Copyright (C) 2025 The R Foundation for Statistical Computing
Platform: x86_64-apple-darwin20
R is free software and comes with ABSOLUTELY NO WARRANTY.
You are welcome to redistribute it under certain conditions.
Type 'license()' or 'licence()' for distribution details.
R is a collaborative project with many contributors.
Type 'contributors()' for more information and
'citation()' on how to cite R or R packages in publications.
Type 'demo()' for some demos, 'help()' for on-line help, or
'help.start()' for an HTML browser interface to help.
Type 'q()' to quit R.
> BiocGenerics:::testPackage("MSnID")
Note, the anticipated/suggested columns in the
peptide-to-spectrum matching results are:
-----------------------------------------------
accession
calculatedMassToCharge
chargeState
experimentalMassToCharge
isDecoy
peptide
spectrumFile
spectrumID
Reading from mzIdentMLs ...
reading c_elegans.mzid.gz... DONE!
Reading from mzIdentMLs ...
RUNIT TEST PROTOCOL -- Wed Nov 19 22:46:48 2025
***********************************************
Number of test functions: 19
Number of errors: 0
Number of failures: 0
1 Test Suite :
MSnID RUnit Tests - 19 test functions, 0 errors, 0 failures
Number of test functions: 19
Number of errors: 0
Number of failures: 0
There were 12 warnings (use warnings() to see them)
>
> proc.time()
user system elapsed
42.759 1.734 65.467
MSnID.Rcheck/MSnID-Ex.timings
| name | user | system | elapsed | |
| MSnID-class | 0.000 | 0.000 | 0.001 | |
| MSnIDFilter-class | 1.253 | 0.018 | 1.275 | |
| accessions | 0.062 | 0.003 | 0.065 | |
| add_mod_symbol | 1.296 | 0.022 | 1.329 | |
| apply_filter | 0.187 | 0.007 | 0.195 | |
| assess_missed_cleavages | 0.144 | 0.010 | 0.155 | |
| assess_termini | 0.194 | 0.015 | 0.209 | |
| correct_peak_selection | 0.082 | 0.006 | 0.089 | |
| data | 0.071 | 0.005 | 0.077 | |
| evaluate_filter | 0.184 | 0.009 | 0.194 | |
| fetch_conversion_table | 13.458 | 1.451 | 15.611 | |
| id_quality | 0.155 | 0.008 | 0.165 | |
| infer_parsimonious_accessions | 1.203 | 0.045 | 1.256 | |
| map_mod_sites | 1.705 | 0.064 | 1.782 | |
| mass_measurement_error | 0.054 | 0.003 | 0.057 | |
| optimize_filter | 3.717 | 0.112 | 22.809 | |
| peptides | 0.048 | 0.002 | 0.050 | |
| psms | 0.050 | 0.003 | 0.054 | |
| read_mzIDs | 0 | 0 | 0 | |
| recalibrate | 0.058 | 0.006 | 0.064 | |
| remap_accessions-method | 7.359 | 0.592 | 8.184 | |
| remap_fasta_entry_names | 7.049 | 0.531 | 7.781 | |
| report_mods | 1.635 | 0.084 | 1.728 | |