Back to Build/check report for BioC 3.23:   simplified   long
ABCDEFGHIJKL[M]NOPQRSTUVWXYZ

This page was generated on 2025-11-08 11:32 -0500 (Sat, 08 Nov 2025).

HostnameOSArch (*)R versionInstalled pkgs
nebbiolo1Linux (Ubuntu 24.04.3 LTS)x86_64R Under development (unstable) (2025-10-20 r88955) -- "Unsuffered Consequences" 4821
Click on any hostname to see more info about the system (e.g. compilers)      (*) as reported by 'uname -p', except on Windows and Mac OS X

Package 1369/2323HostnameOS / ArchINSTALLBUILDCHECKBUILD BIN
MSnID 1.45.0  (landing page)
Vlad Petyuk
Snapshot Date: 2025-11-07 13:40 -0500 (Fri, 07 Nov 2025)
git_url: https://git.bioconductor.org/packages/MSnID
git_branch: devel
git_last_commit: 7607478
git_last_commit_date: 2025-10-29 10:21:36 -0500 (Wed, 29 Oct 2025)
nebbiolo1Linux (Ubuntu 24.04.3 LTS) / x86_64  OK    OK    OK  UNNEEDED, same version is already published


CHECK results for MSnID on nebbiolo1

To the developers/maintainers of the MSnID package:
- Allow up to 24 hours (and sometimes 48 hours) for your latest push to git@git.bioconductor.org:packages/MSnID.git to reflect on this report. See Troubleshooting Build Report for more information.
- Use the following Renviron settings to reproduce errors and warnings.
- If 'R CMD check' started to fail recently on the Linux builder(s) over a missing dependency, add the missing dependency to 'Suggests:' in your DESCRIPTION file. See Renviron.bioc for more information.

raw results


Summary

Package: MSnID
Version: 1.45.0
Command: /home/biocbuild/bbs-3.23-bioc/R/bin/R CMD check --install=check:MSnID.install-out.txt --library=/home/biocbuild/bbs-3.23-bioc/R/site-library --timings MSnID_1.45.0.tar.gz
StartedAt: 2025-11-08 01:45:29 -0500 (Sat, 08 Nov 2025)
EndedAt: 2025-11-08 01:54:14 -0500 (Sat, 08 Nov 2025)
EllapsedTime: 525.7 seconds
RetCode: 0
Status:   OK  
CheckDir: MSnID.Rcheck
Warnings: 0

Command output

##############################################################################
##############################################################################
###
### Running command:
###
###   /home/biocbuild/bbs-3.23-bioc/R/bin/R CMD check --install=check:MSnID.install-out.txt --library=/home/biocbuild/bbs-3.23-bioc/R/site-library --timings MSnID_1.45.0.tar.gz
###
##############################################################################
##############################################################################


* using log directory ‘/home/biocbuild/bbs-3.23-bioc/meat/MSnID.Rcheck’
* using R Under development (unstable) (2025-10-20 r88955)
* using platform: x86_64-pc-linux-gnu
* R was compiled by
    gcc (Ubuntu 13.3.0-6ubuntu2~24.04) 13.3.0
    GNU Fortran (Ubuntu 13.3.0-6ubuntu2~24.04) 13.3.0
* running under: Ubuntu 24.04.3 LTS
* using session charset: UTF-8
* checking for file ‘MSnID/DESCRIPTION’ ... OK
* checking extension type ... Package
* this is package ‘MSnID’ version ‘1.45.0’
* checking package namespace information ... OK
* checking package dependencies ... INFO
Imports includes 25 non-default packages.
Importing from so many packages makes the package vulnerable to any of
them becoming unavailable.  Move as many as possible to Suggests and
use conditionally.
* checking if this is a source package ... OK
* checking if there is a namespace ... OK
* checking for hidden files and directories ... OK
* checking for portable file names ... OK
* checking for sufficient/correct file permissions ... OK
* checking whether package ‘MSnID’ can be installed ... OK
* checking installed package size ... OK
* checking package directory ... OK
* checking ‘build’ directory ... OK
* checking DESCRIPTION meta-information ... OK
* checking top-level files ... OK
* checking for left-over files ... OK
* checking index information ... OK
* checking package subdirectories ... OK
* checking code files for non-ASCII characters ... OK
* checking R files for syntax errors ... OK
* checking whether the package can be loaded ... OK
* checking whether the package can be loaded with stated dependencies ... OK
* checking whether the package can be unloaded cleanly ... OK
* checking whether the namespace can be loaded with stated dependencies ... OK
* checking whether the namespace can be unloaded cleanly ... OK
* checking loading without being on the library search path ... OK
* checking dependencies in R code ... NOTE
Namespaces in Imports field not imported from:
  ‘BiocGenerics’ ‘BiocStyle’ ‘RUnit’ ‘ggplot2’ ‘msmsTests’ ‘xtable’
  All declared Imports should be used.
* checking S3 generic/method consistency ... OK
* checking replacement functions ... OK
* checking foreign function calls ... OK
* checking R code for possible problems ... NOTE
.read_mzIDs.mzR.engine.single.file: no visible binding for global
  variable ‘peptideRef’
Undefined global functions or variables:
  peptideRef
* checking Rd files ... OK
* checking Rd metadata ... OK
* checking Rd cross-references ... NOTE
Found the following Rd file(s) with Rd \link{} targets missing package
anchors:
  MSnID-class.Rd: MSnSet
  MSnID-package.Rd: mzID
Please provide package anchors for all Rd \link{} targets not in the
package itself and the base packages.
* checking for missing documentation entries ... OK
* checking for code/documentation mismatches ... OK
* checking Rd \usage sections ... OK
* checking Rd contents ... OK
* checking for unstated dependencies in examples ... OK
* checking contents of ‘data’ directory ... OK
* checking data for non-ASCII characters ... OK
* checking LazyData ... OK
* checking data for ASCII and uncompressed saves ... OK
* checking sizes of PDF files under ‘inst/doc’ ...* checking files in ‘vignettes’ ... OK
* checking examples ... OK
Examples with CPU (user + system) or elapsed time > 5s
                          user system elapsed
fetch_conversion_table  10.393  1.653  12.589
remap_accessions-method  6.963  1.003   8.190
remap_fasta_entry_names  6.294  0.858   7.387
optimize_filter          3.694  0.144  19.943
* checking for unstated dependencies in ‘tests’ ... OK
* checking tests ...
  Running ‘runTests.R’
 OK
* checking for unstated dependencies in vignettes ... OK
* checking package vignettes ... OK
* checking re-building of vignette outputs ... OK
* checking PDF version of manual ... OK
* DONE

Status: 3 NOTEs
See
  ‘/home/biocbuild/bbs-3.23-bioc/meat/MSnID.Rcheck/00check.log’
for details.


Installation output

MSnID.Rcheck/00install.out

##############################################################################
##############################################################################
###
### Running command:
###
###   /home/biocbuild/bbs-3.23-bioc/R/bin/R CMD INSTALL MSnID
###
##############################################################################
##############################################################################


* installing to library ‘/home/biocbuild/bbs-3.23-bioc/R/site-library’
* installing *source* package ‘MSnID’ ...
** this is package ‘MSnID’ version ‘1.45.0’
** using staged installation
** R
** data
*** moving datasets to lazyload DB
** demo
** inst
** byte-compile and prepare package for lazy loading
** help
*** installing help indices
** building package indices
** installing vignettes
** testing if installed package can be loaded from temporary location
** testing if installed package can be loaded from final location
** testing if installed package keeps a record of temporary installation path
* DONE (MSnID)

Tests output

MSnID.Rcheck/tests/runTests.Rout


R Under development (unstable) (2025-10-20 r88955) -- "Unsuffered Consequences"
Copyright (C) 2025 The R Foundation for Statistical Computing
Platform: x86_64-pc-linux-gnu

R is free software and comes with ABSOLUTELY NO WARRANTY.
You are welcome to redistribute it under certain conditions.
Type 'license()' or 'licence()' for distribution details.

R is a collaborative project with many contributors.
Type 'contributors()' for more information and
'citation()' on how to cite R or R packages in publications.

Type 'demo()' for some demos, 'help()' for on-line help, or
'help.start()' for an HTML browser interface to help.
Type 'q()' to quit R.

> BiocGenerics:::testPackage("MSnID")
Note, the anticipated/suggested columns in the
peptide-to-spectrum matching results are:
-----------------------------------------------
accession
calculatedMassToCharge
chargeState
experimentalMassToCharge
isDecoy
peptide
spectrumFile
spectrumID
Reading from mzIdentMLs ...

reading c_elegans.mzid.gz... DONE!
Reading from mzIdentMLs ...



RUNIT TEST PROTOCOL -- Sat Nov  8 01:52:38 2025 
*********************************************** 
Number of test functions: 19 
Number of errors: 0 
Number of failures: 0 

 
1 Test Suite : 
MSnID RUnit Tests - 19 test functions, 0 errors, 0 failures
Number of test functions: 19 
Number of errors: 0 
Number of failures: 0 
There were 12 warnings (use warnings() to see them)
> 
> proc.time()
   user  system elapsed 
 40.042   1.474  55.238 

Example timings

MSnID.Rcheck/MSnID-Ex.timings

nameusersystemelapsed
MSnID-class0.0000.0000.001
MSnIDFilter-class1.2220.0531.248
accessions0.0530.0140.067
add_mod_symbol1.1820.0131.195
apply_filter0.1990.0060.170
assess_missed_cleavages0.1130.0170.126
assess_termini1.0410.0131.054
correct_peak_selection0.0710.0010.072
data0.0760.0010.066
evaluate_filter0.1690.0000.144
fetch_conversion_table10.393 1.65312.589
id_quality0.1230.0110.128
infer_parsimonious_accessions1.7560.0251.003
map_mod_sites1.5400.1521.686
mass_measurement_error0.0570.0100.067
optimize_filter 3.694 0.14419.943
peptides0.0550.0080.059
psms0.0620.0110.073
read_mzIDs000
recalibrate0.0680.0080.076
remap_accessions-method6.9631.0038.190
remap_fasta_entry_names6.2940.8587.387
report_mods1.5550.2561.810