Back to Multiple platform build/check report for BioC 3.21: simplified long |
|
This page was generated on 2025-02-04 11:41 -0500 (Tue, 04 Feb 2025).
Hostname | OS | Arch (*) | R version | Installed pkgs |
---|---|---|---|---|
nebbiolo1 | Linux (Ubuntu 24.04.1 LTS) | x86_64 | R Under development (unstable) (2025-01-20 r87609) -- "Unsuffered Consequences" | 4716 |
palomino7 | Windows Server 2022 Datacenter | x64 | R Under development (unstable) (2025-01-21 r87610 ucrt) -- "Unsuffered Consequences" | 4478 |
lconway | macOS 12.7.1 Monterey | x86_64 | R Under development (unstable) (2025-01-22 r87618) -- "Unsuffered Consequences" | 4489 |
kjohnson3 | macOS 13.7.1 Ventura | arm64 | R Under development (unstable) (2025-01-20 r87609) -- "Unsuffered Consequences" | 4442 |
Click on any hostname to see more info about the system (e.g. compilers) (*) as reported by 'uname -p', except on Windows and Mac OS X |
Package 1130/2295 | Hostname | OS / Arch | INSTALL | BUILD | CHECK | BUILD BIN | ||||||||
M3Drop 1.33.0 (landing page) Tallulah Andrews
| nebbiolo1 | Linux (Ubuntu 24.04.1 LTS) / x86_64 | OK | OK | OK | |||||||||
palomino7 | Windows Server 2022 Datacenter / x64 | OK | OK | OK | OK | |||||||||
lconway | macOS 12.7.1 Monterey / x86_64 | OK | OK | OK | OK | |||||||||
kjohnson3 | macOS 13.7.1 Ventura / arm64 | OK | OK | OK | OK | |||||||||
To the developers/maintainers of the M3Drop package: - Allow up to 24 hours (and sometimes 48 hours) for your latest push to git@git.bioconductor.org:packages/M3Drop.git to reflect on this report. See Troubleshooting Build Report for more information. - Use the following Renviron settings to reproduce errors and warnings. - If 'R CMD check' started to fail recently on the Linux builder(s) over a missing dependency, add the missing dependency to 'Suggests:' in your DESCRIPTION file. See Renviron.bioc for more information. |
Package: M3Drop |
Version: 1.33.0 |
Command: E:\biocbuild\bbs-3.21-bioc\R\bin\R.exe CMD check --no-multiarch --install=check:M3Drop.install-out.txt --library=E:\biocbuild\bbs-3.21-bioc\R\library --no-vignettes --timings M3Drop_1.33.0.tar.gz |
StartedAt: 2025-02-04 02:56:10 -0500 (Tue, 04 Feb 2025) |
EndedAt: 2025-02-04 03:03:09 -0500 (Tue, 04 Feb 2025) |
EllapsedTime: 418.8 seconds |
RetCode: 0 |
Status: OK |
CheckDir: M3Drop.Rcheck |
Warnings: 0 |
############################################################################## ############################################################################## ### ### Running command: ### ### E:\biocbuild\bbs-3.21-bioc\R\bin\R.exe CMD check --no-multiarch --install=check:M3Drop.install-out.txt --library=E:\biocbuild\bbs-3.21-bioc\R\library --no-vignettes --timings M3Drop_1.33.0.tar.gz ### ############################################################################## ############################################################################## * using log directory 'E:/biocbuild/bbs-3.21-bioc/meat/M3Drop.Rcheck' * using R Under development (unstable) (2025-01-21 r87610 ucrt) * using platform: x86_64-w64-mingw32 * R was compiled by gcc.exe (GCC) 13.3.0 GNU Fortran (GCC) 13.3.0 * running under: Windows Server 2022 x64 (build 20348) * using session charset: UTF-8 * using option '--no-vignettes' * checking for file 'M3Drop/DESCRIPTION' ... OK * this is package 'M3Drop' version '1.33.0' * checking package namespace information ... OK * checking package dependencies ... OK * checking if this is a source package ... OK * checking if there is a namespace ... OK * checking for hidden files and directories ... OK * checking for portable file names ... OK * checking whether package 'M3Drop' can be installed ... OK * checking installed package size ... OK * checking package directory ... OK * checking 'build' directory ... OK * checking DESCRIPTION meta-information ... OK * checking top-level files ... OK * checking for left-over files ... OK * checking index information ... OK * checking package subdirectories ... OK * checking code files for non-ASCII characters ... OK * checking R files for syntax errors ... OK * checking whether the package can be loaded ... OK * checking whether the package can be loaded with stated dependencies ... OK * checking whether the package can be unloaded cleanly ... OK * checking whether the namespace can be loaded with stated dependencies ... OK * checking whether the namespace can be unloaded cleanly ... OK * checking dependencies in R code ... NOTE Namespace in Imports field not imported from: 'scater' All declared Imports should be used. * checking S3 generic/method consistency ... OK * checking replacement functions ... OK * checking foreign function calls ... OK * checking R code for possible problems ... NOTE M3DropConvertData: no visible global function definition for 'assays' NBumiConvertData: no visible global function definition for 'assays' bg__filter_cells: no visible binding for global variable 'x' bg__get_extreme_residuals: no visible binding for global variable 'x' Undefined global functions or variables: assays x * checking Rd files ... NOTE prepare_Rd: NBumi_FSOther.Rd:8-10: Dropping empty section \usage prepare_Rd: NBumi_TradDE.Rd:7-8: Dropping empty section \usage * checking Rd metadata ... OK * checking Rd cross-references ... OK * checking for missing documentation entries ... OK * checking for code/documentation mismatches ... OK * checking Rd \usage sections ... OK * checking Rd contents ... OK * checking for unstated dependencies in examples ... OK * checking sizes of PDF files under 'inst/doc' ... OK * checking files in 'vignettes' ... OK * checking examples ... OK Examples with CPU (user + system) or elapsed time > 5s user system elapsed NewSimulations 128.81 2.08 130.94 Imputation 78.75 0.50 79.32 M3D_getmarkers 43.28 1.39 44.67 M3D_ConverData 6.26 0.45 6.72 * checking for unstated dependencies in vignettes ... OK * checking package vignettes ... OK * checking running R code from vignettes ... SKIPPED * checking re-building of vignette outputs ... SKIPPED * checking PDF version of manual ... OK * DONE Status: 3 NOTEs See 'E:/biocbuild/bbs-3.21-bioc/meat/M3Drop.Rcheck/00check.log' for details.
M3Drop.Rcheck/00install.out
############################################################################## ############################################################################## ### ### Running command: ### ### E:\biocbuild\bbs-3.21-bioc\R\bin\R.exe CMD INSTALL M3Drop ### ############################################################################## ############################################################################## * installing to library 'E:/biocbuild/bbs-3.21-bioc/R/library' * installing *source* package 'M3Drop' ... ** this is package 'M3Drop' version '1.33.0' ** using staged installation ** R ** inst ** byte-compile and prepare package for lazy loading ** help *** installing help indices ** building package indices ** installing vignettes ** testing if installed package can be loaded from temporary location ** testing if installed package can be loaded from final location ** testing if installed package keeps a record of temporary installation path * DONE (M3Drop)
M3Drop.Rcheck/M3Drop-Ex.timings
name | user | system | elapsed | |
Brennecke_getVariableGenes | 4.12 | 0.16 | 4.42 | |
Consensus_FS | 0.28 | 0.06 | 0.36 | |
Fitting_Dropout_Models | 0 | 0 | 0 | |
Imputation | 78.75 | 0.50 | 79.32 | |
M3D_Clean_Data | 1.41 | 0.11 | 1.52 | |
M3D_ConverData | 6.26 | 0.45 | 6.72 | |
M3D_Differential_Expression | 2.08 | 0.18 | 2.25 | |
M3D_Dropout_Models | 1.97 | 0.20 | 2.17 | |
M3D_Expression_Heatmap | 0.53 | 0.01 | 0.54 | |
M3D_Get_Extremes | 2.15 | 0.25 | 2.41 | |
M3D_Get_Heatmap_Cell_Clusters | 0.54 | 0.02 | 0.55 | |
M3D_Simulations | 0 | 0 | 0 | |
M3D_Test_Shift | 1.40 | 0.11 | 1.51 | |
M3D_ThreeSet_Venn | 0.36 | 0.00 | 0.36 | |
M3D_TraditionalDE | 0.02 | 0.00 | 0.02 | |
M3D_getmarkers | 43.28 | 1.39 | 44.67 | |
M3D_horz_res | 0 | 0 | 0 | |
NBumi_CheckFit | 1.95 | 0.14 | 2.09 | |
NBumi_CoExpression | 1.39 | 0.11 | 1.50 | |
NBumi_CompareModels | 3.47 | 0.20 | 3.67 | |
NBumi_ConvertToInteger | 0 | 0 | 0 | |
NBumi_ConvrtData | 0.30 | 0.03 | 0.33 | |
NBumi_FSDrop | 1.97 | 0.13 | 2.10 | |
NBumi_FSHighVar | 0.95 | 0.17 | 1.12 | |
NBumi_FSOther | 0.02 | 0.00 | 0.02 | |
NBumi_FitDisp | 0 | 0 | 0 | |
NBumi_FitDispVsMean | 0.71 | 0.05 | 0.76 | |
NBumi_FitModel | 1.60 | 0.08 | 1.67 | |
NBumi_HVG | 0.95 | 0.07 | 1.04 | |
NBumi_PearsonResiduals | 1.80 | 0.16 | 1.93 | |
NBumi_TradDE | 0 | 0 | 0 | |
NewSimulations | 128.81 | 2.08 | 130.94 | |
Other_FS | 2.07 | 0.14 | 2.22 | |
PoissonUMIFeatureSelectionDropouts | 0.69 | 0.08 | 0.76 | |
bg__fit_gamma | 0 | 0 | 0 | |
bg__get_stats | 0 | 0 | 0 | |
bg__mean2disp | 0 | 0 | 0 | |
bg__shift_size | 0 | 0 | 0 | |
bg__var_vs_drop | 0 | 0 | 0 | |