Back to Build/check report for BioC 3.23:   simplified   long
ABCDEFGHIJKL[M]NOPQRSTUVWXYZ

This page was generated on 2025-11-05 11:32 -0500 (Wed, 05 Nov 2025).

HostnameOSArch (*)R versionInstalled pkgs
nebbiolo1Linux (Ubuntu 24.04.3 LTS)x86_64R Under development (unstable) (2025-10-20 r88955) -- "Unsuffered Consequences" 4818
Click on any hostname to see more info about the system (e.g. compilers)      (*) as reported by 'uname -p', except on Windows and Mac OS X

Package 1147/2323HostnameOS / ArchINSTALLBUILDCHECKBUILD BIN
M3Drop 1.37.0  (landing page)
Tallulah Andrews
Snapshot Date: 2025-11-04 13:40 -0500 (Tue, 04 Nov 2025)
git_url: https://git.bioconductor.org/packages/M3Drop
git_branch: devel
git_last_commit: 85bdb7c
git_last_commit_date: 2025-10-29 10:35:19 -0500 (Wed, 29 Oct 2025)
nebbiolo1Linux (Ubuntu 24.04.3 LTS) / x86_64  OK    OK    OK  UNNEEDED, same version is already published


CHECK results for M3Drop on nebbiolo1

To the developers/maintainers of the M3Drop package:
- Allow up to 24 hours (and sometimes 48 hours) for your latest push to git@git.bioconductor.org:packages/M3Drop.git to reflect on this report. See Troubleshooting Build Report for more information.
- Use the following Renviron settings to reproduce errors and warnings.
- If 'R CMD check' started to fail recently on the Linux builder(s) over a missing dependency, add the missing dependency to 'Suggests:' in your DESCRIPTION file. See Renviron.bioc for more information.

raw results


Summary

Package: M3Drop
Version: 1.37.0
Command: /home/biocbuild/bbs-3.23-bioc/R/bin/R CMD check --install=check:M3Drop.install-out.txt --library=/home/biocbuild/bbs-3.23-bioc/R/site-library --timings M3Drop_1.37.0.tar.gz
StartedAt: 2025-11-05 00:45:00 -0500 (Wed, 05 Nov 2025)
EndedAt: 2025-11-05 00:52:05 -0500 (Wed, 05 Nov 2025)
EllapsedTime: 425.9 seconds
RetCode: 0
Status:   OK  
CheckDir: M3Drop.Rcheck
Warnings: 0

Command output

##############################################################################
##############################################################################
###
### Running command:
###
###   /home/biocbuild/bbs-3.23-bioc/R/bin/R CMD check --install=check:M3Drop.install-out.txt --library=/home/biocbuild/bbs-3.23-bioc/R/site-library --timings M3Drop_1.37.0.tar.gz
###
##############################################################################
##############################################################################


* using log directory ‘/home/biocbuild/bbs-3.23-bioc/meat/M3Drop.Rcheck’
* using R Under development (unstable) (2025-10-20 r88955)
* using platform: x86_64-pc-linux-gnu
* R was compiled by
    gcc (Ubuntu 13.3.0-6ubuntu2~24.04) 13.3.0
    GNU Fortran (Ubuntu 13.3.0-6ubuntu2~24.04) 13.3.0
* running under: Ubuntu 24.04.3 LTS
* using session charset: UTF-8
* checking for file ‘M3Drop/DESCRIPTION’ ... OK
* this is package ‘M3Drop’ version ‘1.37.0’
* checking package namespace information ... OK
* checking package dependencies ... OK
* checking if this is a source package ... OK
* checking if there is a namespace ... OK
* checking for hidden files and directories ... OK
* checking for portable file names ... OK
* checking for sufficient/correct file permissions ... OK
* checking whether package ‘M3Drop’ can be installed ... OK
* checking installed package size ... OK
* checking package directory ... OK
* checking ‘build’ directory ... OK
* checking DESCRIPTION meta-information ... OK
* checking top-level files ... OK
* checking for left-over files ... OK
* checking index information ... OK
* checking package subdirectories ... OK
* checking code files for non-ASCII characters ... OK
* checking R files for syntax errors ... OK
* checking whether the package can be loaded ... OK
* checking whether the package can be loaded with stated dependencies ... OK
* checking whether the package can be unloaded cleanly ... OK
* checking whether the namespace can be loaded with stated dependencies ... OK
* checking whether the namespace can be unloaded cleanly ... OK
* checking loading without being on the library search path ... OK
* checking dependencies in R code ... NOTE
Namespace in Imports field not imported from: ‘scater’
  All declared Imports should be used.
* checking S3 generic/method consistency ... OK
* checking replacement functions ... OK
* checking foreign function calls ... OK
* checking R code for possible problems ... NOTE
M3DropConvertData: no visible global function definition for ‘assays’
NBumiConvertData: no visible global function definition for ‘assays’
bg__filter_cells: no visible binding for global variable ‘x’
bg__get_extreme_residuals: no visible binding for global variable ‘x’
Undefined global functions or variables:
  assays x
* checking Rd files ... NOTE
prepare_Rd: NBumi_FSOther.Rd:8-10: Dropping empty section \usage
prepare_Rd: NBumi_TradDE.Rd:7-8: Dropping empty section \usage
* checking Rd metadata ... OK
* checking Rd cross-references ... OK
* checking for missing documentation entries ... OK
* checking for code/documentation mismatches ... OK
* checking Rd \usage sections ... OK
* checking Rd contents ... OK
* checking for unstated dependencies in examples ... OK
* checking sizes of PDF files under ‘inst/doc’ ...* checking files in ‘vignettes’ ... OK
* checking examples ... OK
Examples with CPU (user + system) or elapsed time > 5s
                  user system elapsed
NewSimulations 103.867  1.574 105.449
Imputation      39.987  0.129  41.505
M3D_getmarkers  32.239  0.292  32.533
M3D_ConverData   6.948  0.254   9.295
* checking for unstated dependencies in vignettes ... OK
* checking package vignettes ... OK
* checking re-building of vignette outputs ... OK
* checking PDF version of manual ... OK
* DONE

Status: 3 NOTEs
See
  ‘/home/biocbuild/bbs-3.23-bioc/meat/M3Drop.Rcheck/00check.log’
for details.


Installation output

M3Drop.Rcheck/00install.out

##############################################################################
##############################################################################
###
### Running command:
###
###   /home/biocbuild/bbs-3.23-bioc/R/bin/R CMD INSTALL M3Drop
###
##############################################################################
##############################################################################


* installing to library ‘/home/biocbuild/bbs-3.23-bioc/R/site-library’
* installing *source* package ‘M3Drop’ ...
** this is package ‘M3Drop’ version ‘1.37.0’
** using staged installation
** R
** inst
** byte-compile and prepare package for lazy loading
** help
*** installing help indices
** building package indices
** installing vignettes
** testing if installed package can be loaded from temporary location
** testing if installed package can be loaded from final location
** testing if installed package keeps a record of temporary installation path
* DONE (M3Drop)

Tests output


Example timings

M3Drop.Rcheck/M3Drop-Ex.timings

nameusersystemelapsed
Brennecke_getVariableGenes3.4650.1643.632
Consensus_FS0.2440.0010.244
Fitting_Dropout_Models0.0000.0000.001
Imputation39.987 0.12941.505
M3D_Clean_Data1.3160.0911.406
M3D_ConverData6.9480.2549.295
M3D_Differential_Expression1.3640.1081.472
M3D_Dropout_Models1.6770.0351.712
M3D_Expression_Heatmap0.4720.0060.477
M3D_Get_Extremes2.1950.0472.242
M3D_Get_Heatmap_Cell_Clusters0.4300.0140.445
M3D_Simulations000
M3D_Test_Shift0.5680.0100.578
M3D_ThreeSet_Venn0.3210.0020.323
M3D_TraditionalDE0.0090.0000.008
M3D_getmarkers32.239 0.29232.533
M3D_horz_res000
NBumi_CheckFit2.0610.1212.182
NBumi_CoExpression0.6350.0390.674
NBumi_CompareModels2.6060.0572.664
NBumi_ConvertToInteger000
NBumi_ConvrtData0.2180.0050.223
NBumi_FSDrop0.8350.0350.870
NBumi_FSHighVar1.3260.0151.341
NBumi_FSOther0.0090.0010.010
NBumi_FitDisp000
NBumi_FitDispVsMean0.4690.0000.469
NBumi_FitModel0.6510.0190.670
NBumi_HVG0.7430.0000.744
NBumi_PearsonResiduals1.4400.0661.506
NBumi_TradDE000
NewSimulations103.867 1.574105.449
Other_FS1.0300.0081.038
PoissonUMIFeatureSelectionDropouts0.6060.0180.625
bg__fit_gamma000
bg__get_stats0.0000.0000.001
bg__mean2disp000
bg__shift_size000
bg__var_vs_drop000