Back to Multiple platform build/check report for BioC 3.21:   simplified   long
ABCDEFGHIJK[L]MNOPQRSTUVWXYZ

This page was generated on 2025-01-28 11:47 -0500 (Tue, 28 Jan 2025).

HostnameOSArch (*)R versionInstalled pkgs
nebbiolo1Linux (Ubuntu 24.04.1 LTS)x86_64R Under development (unstable) (2025-01-20 r87609) -- "Unsuffered Consequences" 4659
palomino7Windows Server 2022 Datacenterx64R Under development (unstable) (2025-01-21 r87610 ucrt) -- "Unsuffered Consequences" 4454
lconwaymacOS 12.7.1 Montereyx86_64R Under development (unstable) (2025-01-22 r87618) -- "Unsuffered Consequences" 4465
kjohnson3macOS 13.7.1 Venturaarm64R Under development (unstable) (2025-01-20 r87609) -- "Unsuffered Consequences" 4419
kunpeng2Linux (openEuler 22.03 LTS-SP1)aarch64R Under development (unstable) (2024-11-24 r87369) -- "Unsuffered Consequences" 4409
Click on any hostname to see more info about the system (e.g. compilers)      (*) as reported by 'uname -p', except on Windows and Mac OS X

Package 1092/2286HostnameOS / ArchINSTALLBUILDCHECKBUILD BIN
LEA 3.19.4  (landing page)
Olivier Francois
Snapshot Date: 2025-01-27 13:40 -0500 (Mon, 27 Jan 2025)
git_url: https://git.bioconductor.org/packages/LEA
git_branch: devel
git_last_commit: eaf388b
git_last_commit_date: 2025-01-23 09:42:32 -0500 (Thu, 23 Jan 2025)
nebbiolo1Linux (Ubuntu 24.04.1 LTS) / x86_64  OK    OK    OK  UNNEEDED, same version is already published
palomino7Windows Server 2022 Datacenter / x64  OK    OK    OK    OK  UNNEEDED, same version is already published
lconwaymacOS 12.7.1 Monterey / x86_64  OK    OK    OK    OK  UNNEEDED, same version is already published
kjohnson3macOS 13.7.1 Ventura / arm64  OK    OK    OK    OK  UNNEEDED, same version is already published
kunpeng2Linux (openEuler 22.03 LTS-SP1) / aarch64  OK    OK    OK  


CHECK results for LEA on kunpeng2

To the developers/maintainers of the LEA package:
- Allow up to 24 hours (and sometimes 48 hours) for your latest push to git@git.bioconductor.org:packages/LEA.git to reflect on this report. See Troubleshooting Build Report for more information.
- Use the following Renviron settings to reproduce errors and warnings.
- If 'R CMD check' started to fail recently on the Linux builder(s) over a missing dependency, add the missing dependency to 'Suggests:' in your DESCRIPTION file. See Renviron.bioc for more information.
- See Martin Grigorov's blog post for how to debug Linux ARM64 related issues on a x86_64 host.

raw results


Summary

Package: LEA
Version: 3.19.4
Command: /home/biocbuild/R/R/bin/R CMD check --install=check:LEA.install-out.txt --library=/home/biocbuild/R/R/site-library --no-vignettes --timings LEA_3.19.4.tar.gz
StartedAt: 2025-01-28 11:53:53 -0000 (Tue, 28 Jan 2025)
EndedAt: 2025-01-28 11:56:29 -0000 (Tue, 28 Jan 2025)
EllapsedTime: 156.2 seconds
RetCode: 0
Status:   OK  
CheckDir: LEA.Rcheck
Warnings: 0

Command output

##############################################################################
##############################################################################
###
### Running command:
###
###   /home/biocbuild/R/R/bin/R CMD check --install=check:LEA.install-out.txt --library=/home/biocbuild/R/R/site-library --no-vignettes --timings LEA_3.19.4.tar.gz
###
##############################################################################
##############################################################################


* using log directory ‘/home/biocbuild/bbs-3.21-bioc/meat/LEA.Rcheck’
* using R Under development (unstable) (2024-11-24 r87369)
* using platform: aarch64-unknown-linux-gnu
* R was compiled by
    aarch64-unknown-linux-gnu-gcc (GCC) 14.2.0
    GNU Fortran (GCC) 14.2.0
* running under: openEuler 24.03 (LTS)
* using session charset: UTF-8
* using option ‘--no-vignettes’
* checking for file ‘LEA/DESCRIPTION’ ... OK
* this is package ‘LEA’ version ‘3.19.4’
* checking package namespace information ... OK
* checking package dependencies ... OK
* checking if this is a source package ... OK
* checking if there is a namespace ... OK
* checking for hidden files and directories ... OK
* checking for portable file names ... OK
* checking for sufficient/correct file permissions ... OK
* checking whether package ‘LEA’ can be installed ... OK
* used C compiler: ‘aarch64-unknown-linux-gnu-gcc (GCC) 14.2.0’
* checking installed package size ... OK
* checking package directory ... OK
* checking ‘build’ directory ... OK
* checking DESCRIPTION meta-information ... OK
* checking top-level files ... OK
* checking for left-over files ... OK
* checking index information ... OK
* checking package subdirectories ... OK
* checking code files for non-ASCII characters ... OK
* checking R files for syntax errors ... OK
* checking whether the package can be loaded ... OK
* checking whether the package can be loaded with stated dependencies ... OK
* checking whether the package can be unloaded cleanly ... OK
* checking whether the namespace can be loaded with stated dependencies ... OK
* checking whether the namespace can be unloaded cleanly ... OK
* checking loading without being on the library search path ... OK
* checking dependencies in R code ... OK
* checking S3 generic/method consistency ... OK
* checking replacement functions ... OK
* checking foreign function calls ... OK
* checking R code for possible problems ... OK
* checking Rd files ... OK
* checking Rd metadata ... OK
* checking Rd cross-references ... OK
* checking for missing documentation entries ... OK
* checking for code/documentation mismatches ... OK
* checking Rd \usage sections ... OK
* checking Rd contents ... OK
* checking for unstated dependencies in examples ... OK
* checking contents of ‘data’ directory ... OK
* checking data for non-ASCII characters ... OK
* checking data for ASCII and uncompressed saves ... OK
* checking line endings in C/C++/Fortran sources/headers ... OK
* checking line endings in Makefiles ... OK
* checking compilation flags in Makevars ... OK
* checking for GNU extensions in Makefiles ... OK
* checking for portable use of $(BLAS_LIBS) and $(LAPACK_LIBS) ... OK
* checking use of PKG_*FLAGS in Makefiles ... OK
* checking compiled code ... NOTE
Note: information on .o files is not available
* checking files in ‘vignettes’ ... OK
* checking examples ... OK
Examples with CPU (user + system) or elapsed time > 5s
               user system elapsed
main_LFMM    78.547  0.022  78.764
zscores      13.207  0.012  13.250
lfmm_pvalues 13.094  0.004  13.118
main_sNMF     7.165  0.385   7.608
readZscore    6.605  0.004   6.624
* checking for unstated dependencies in vignettes ... OK
* checking package vignettes ... OK
* checking running R code from vignettes ... SKIPPED
* checking re-building of vignette outputs ... SKIPPED
* checking PDF version of manual ... OK
* DONE

Status: 1 NOTE
See
  ‘/home/biocbuild/bbs-3.21-bioc/meat/LEA.Rcheck/00check.log’
for details.


Installation output

LEA.Rcheck/00install.out

##############################################################################
##############################################################################
###
### Running command:
###
###   /home/biocbuild/R/R/bin/R CMD INSTALL LEA
###
##############################################################################
##############################################################################


* installing to library ‘/home/biocbuild/R/R-4.5.0-devel_2024-11-24/site-library’
* installing *source* package ‘LEA’ ...
** using staged installation
** libs
using C compiler: ‘aarch64-unknown-linux-gnu-gcc (GCC) 14.2.0’
/opt/ohpc/pub/compiler/gcc/14.2.0/bin/aarch64-unknown-linux-gnu-gcc -I"/home/biocbuild/R/R/include" -DNDEBUG -I.  -I/usr/local/include    -fPIC  -g -O2  -Wall -Werror=format-security -c R_LFMM.c -o R_LFMM.o
/opt/ohpc/pub/compiler/gcc/14.2.0/bin/aarch64-unknown-linux-gnu-gcc -I"/home/biocbuild/R/R/include" -DNDEBUG -I.  -I/usr/local/include    -fPIC  -g -O2  -Wall -Werror=format-security -c R_crossEntropy.c -o R_crossEntropy.o
/opt/ohpc/pub/compiler/gcc/14.2.0/bin/aarch64-unknown-linux-gnu-gcc -I"/home/biocbuild/R/R/include" -DNDEBUG -I.  -I/usr/local/include    -fPIC  -g -O2  -Wall -Werror=format-security -c R_createDataSet.c -o R_createDataSet.o
/opt/ohpc/pub/compiler/gcc/14.2.0/bin/aarch64-unknown-linux-gnu-gcc -I"/home/biocbuild/R/R/include" -DNDEBUG -I.  -I/usr/local/include    -fPIC  -g -O2  -Wall -Werror=format-security -c R_sNMF.c -o R_sNMF.o
/opt/ohpc/pub/compiler/gcc/14.2.0/bin/aarch64-unknown-linux-gnu-gcc -I"/home/biocbuild/R/R/include" -DNDEBUG -I.  -I/usr/local/include    -fPIC  -g -O2  -Wall -Werror=format-security -c R_ancestrymap2geno.c -o R_ancestrymap2geno.o
/opt/ohpc/pub/compiler/gcc/14.2.0/bin/aarch64-unknown-linux-gnu-gcc -I"/home/biocbuild/R/R/include" -DNDEBUG -I.  -I/usr/local/include    -fPIC  -g -O2  -Wall -Werror=format-security -c R_ancestrymap2lfmm.c -o R_ancestrymap2lfmm.o
/opt/ohpc/pub/compiler/gcc/14.2.0/bin/aarch64-unknown-linux-gnu-gcc -I"/home/biocbuild/R/R/include" -DNDEBUG -I.  -I/usr/local/include    -fPIC  -g -O2  -Wall -Werror=format-security -c R_geno2lfmm.c -o R_geno2lfmm.o
/opt/ohpc/pub/compiler/gcc/14.2.0/bin/aarch64-unknown-linux-gnu-gcc -I"/home/biocbuild/R/R/include" -DNDEBUG -I.  -I/usr/local/include    -fPIC  -g -O2  -Wall -Werror=format-security -c R_lfmm2geno.c -o R_lfmm2geno.o
/opt/ohpc/pub/compiler/gcc/14.2.0/bin/aarch64-unknown-linux-gnu-gcc -I"/home/biocbuild/R/R/include" -DNDEBUG -I.  -I/usr/local/include    -fPIC  -g -O2  -Wall -Werror=format-security -c R_pca.c -o R_pca.o
/opt/ohpc/pub/compiler/gcc/14.2.0/bin/aarch64-unknown-linux-gnu-gcc -I"/home/biocbuild/R/R/include" -DNDEBUG -I.  -I/usr/local/include    -fPIC  -g -O2  -Wall -Werror=format-security -c R_ped2geno.c -o R_ped2geno.o
/opt/ohpc/pub/compiler/gcc/14.2.0/bin/aarch64-unknown-linux-gnu-gcc -I"/home/biocbuild/R/R/include" -DNDEBUG -I.  -I/usr/local/include    -fPIC  -g -O2  -Wall -Werror=format-security -c R_ped2lfmm.c -o R_ped2lfmm.o
/opt/ohpc/pub/compiler/gcc/14.2.0/bin/aarch64-unknown-linux-gnu-gcc -I"/home/biocbuild/R/R/include" -DNDEBUG -I.  -I/usr/local/include    -fPIC  -g -O2  -Wall -Werror=format-security -c R_vcf2geno.c -o R_vcf2geno.o
/opt/ohpc/pub/compiler/gcc/14.2.0/bin/aarch64-unknown-linux-gnu-gcc -I"/home/biocbuild/R/R/include" -DNDEBUG -I.  -I/usr/local/include    -fPIC  -g -O2  -Wall -Werror=format-security -c R_tracyWidom.c -o R_tracyWidom.o
/opt/ohpc/pub/compiler/gcc/14.2.0/bin/aarch64-unknown-linux-gnu-gcc -I"/home/biocbuild/R/R/include" -DNDEBUG -I.  -I/usr/local/include    -fPIC  -g -O2  -Wall -Werror=format-security -c R_init_LEA.c -o R_init_LEA.o
/opt/ohpc/pub/compiler/gcc/14.2.0/bin/aarch64-unknown-linux-gnu-gcc -I"/home/biocbuild/R/R/include" -DNDEBUG -I.  -I/usr/local/include    -fPIC  -g -O2  -Wall -Werror=format-security -c bituint/bituint.c -o bituint/bituint.o
/opt/ohpc/pub/compiler/gcc/14.2.0/bin/aarch64-unknown-linux-gnu-gcc -I"/home/biocbuild/R/R/include" -DNDEBUG -I.  -I/usr/local/include    -fPIC  -g -O2  -Wall -Werror=format-security -c bituint/calc_bituint.c -o bituint/calc_bituint.o
/opt/ohpc/pub/compiler/gcc/14.2.0/bin/aarch64-unknown-linux-gnu-gcc -I"/home/biocbuild/R/R/include" -DNDEBUG -I.  -I/usr/local/include    -fPIC  -g -O2  -Wall -Werror=format-security -c bituint/io_geno_bituint.c -o bituint/io_geno_bituint.o
/opt/ohpc/pub/compiler/gcc/14.2.0/bin/aarch64-unknown-linux-gnu-gcc -I"/home/biocbuild/R/R/include" -DNDEBUG -I.  -I/usr/local/include    -fPIC  -g -O2  -Wall -Werror=format-security -c bituint/slice_bituint.c -o bituint/slice_bituint.o
/opt/ohpc/pub/compiler/gcc/14.2.0/bin/aarch64-unknown-linux-gnu-gcc -I"/home/biocbuild/R/R/include" -DNDEBUG -I.  -I/usr/local/include    -fPIC  -g -O2  -Wall -Werror=format-security -c bituint/thread_bituint.c -o bituint/thread_bituint.o
/opt/ohpc/pub/compiler/gcc/14.2.0/bin/aarch64-unknown-linux-gnu-gcc -I"/home/biocbuild/R/R/include" -DNDEBUG -I.  -I/usr/local/include    -fPIC  -g -O2  -Wall -Werror=format-security -c convert/ancestrymap.c -o convert/ancestrymap.o
/opt/ohpc/pub/compiler/gcc/14.2.0/bin/aarch64-unknown-linux-gnu-gcc -I"/home/biocbuild/R/R/include" -DNDEBUG -I.  -I/usr/local/include    -fPIC  -g -O2  -Wall -Werror=format-security -c convert/geno.c -o convert/geno.o
/opt/ohpc/pub/compiler/gcc/14.2.0/bin/aarch64-unknown-linux-gnu-gcc -I"/home/biocbuild/R/R/include" -DNDEBUG -I.  -I/usr/local/include    -fPIC  -g -O2  -Wall -Werror=format-security -c convert/ped.c -o convert/ped.o
/opt/ohpc/pub/compiler/gcc/14.2.0/bin/aarch64-unknown-linux-gnu-gcc -I"/home/biocbuild/R/R/include" -DNDEBUG -I.  -I/usr/local/include    -fPIC  -g -O2  -Wall -Werror=format-security -c convert/vcf2geno.c -o convert/vcf2geno.o
/opt/ohpc/pub/compiler/gcc/14.2.0/bin/aarch64-unknown-linux-gnu-gcc -I"/home/biocbuild/R/R/include" -DNDEBUG -I.  -I/usr/local/include    -fPIC  -g -O2  -Wall -Werror=format-security -c convert/geno2lfmm.c -o convert/geno2lfmm.o
/opt/ohpc/pub/compiler/gcc/14.2.0/bin/aarch64-unknown-linux-gnu-gcc -I"/home/biocbuild/R/R/include" -DNDEBUG -I.  -I/usr/local/include    -fPIC  -g -O2  -Wall -Werror=format-security -c convert/lfmm2geno.c -o convert/lfmm2geno.o
/opt/ohpc/pub/compiler/gcc/14.2.0/bin/aarch64-unknown-linux-gnu-gcc -I"/home/biocbuild/R/R/include" -DNDEBUG -I.  -I/usr/local/include    -fPIC  -g -O2  -Wall -Werror=format-security -c convert/register_convert.c -o convert/register_convert.o
/opt/ohpc/pub/compiler/gcc/14.2.0/bin/aarch64-unknown-linux-gnu-gcc -I"/home/biocbuild/R/R/include" -DNDEBUG -I.  -I/usr/local/include    -fPIC  -g -O2  -Wall -Werror=format-security -c createDataSet/createDataSet.c -o createDataSet/createDataSet.o
/opt/ohpc/pub/compiler/gcc/14.2.0/bin/aarch64-unknown-linux-gnu-gcc -I"/home/biocbuild/R/R/include" -DNDEBUG -I.  -I/usr/local/include    -fPIC  -g -O2  -Wall -Werror=format-security -c createDataSet/error_cds.c -o createDataSet/error_cds.o
/opt/ohpc/pub/compiler/gcc/14.2.0/bin/aarch64-unknown-linux-gnu-gcc -I"/home/biocbuild/R/R/include" -DNDEBUG -I.  -I/usr/local/include    -fPIC  -g -O2  -Wall -Werror=format-security -c createDataSet/print_cds.c -o createDataSet/print_cds.o
/opt/ohpc/pub/compiler/gcc/14.2.0/bin/aarch64-unknown-linux-gnu-gcc -I"/home/biocbuild/R/R/include" -DNDEBUG -I.  -I/usr/local/include    -fPIC  -g -O2  -Wall -Werror=format-security -c createDataSet/register_cds.c -o createDataSet/register_cds.o
/opt/ohpc/pub/compiler/gcc/14.2.0/bin/aarch64-unknown-linux-gnu-gcc -I"/home/biocbuild/R/R/include" -DNDEBUG -I.  -I/usr/local/include    -fPIC  -g -O2  -Wall -Werror=format-security -c crossEntropy/crossEntropy.c -o crossEntropy/crossEntropy.o
/opt/ohpc/pub/compiler/gcc/14.2.0/bin/aarch64-unknown-linux-gnu-gcc -I"/home/biocbuild/R/R/include" -DNDEBUG -I.  -I/usr/local/include    -fPIC  -g -O2  -Wall -Werror=format-security -c crossEntropy/error_ce.c -o crossEntropy/error_ce.o
/opt/ohpc/pub/compiler/gcc/14.2.0/bin/aarch64-unknown-linux-gnu-gcc -I"/home/biocbuild/R/R/include" -DNDEBUG -I.  -I/usr/local/include    -fPIC  -g -O2  -Wall -Werror=format-security -c crossEntropy/print_ce.c -o crossEntropy/print_ce.o
/opt/ohpc/pub/compiler/gcc/14.2.0/bin/aarch64-unknown-linux-gnu-gcc -I"/home/biocbuild/R/R/include" -DNDEBUG -I.  -I/usr/local/include    -fPIC  -g -O2  -Wall -Werror=format-security -c crossEntropy/register_ce.c -o crossEntropy/register_ce.o
/opt/ohpc/pub/compiler/gcc/14.2.0/bin/aarch64-unknown-linux-gnu-gcc -I"/home/biocbuild/R/R/include" -DNDEBUG -I.  -I/usr/local/include    -fPIC  -g -O2  -Wall -Werror=format-security -c io/io_data_double.c -o io/io_data_double.o
/opt/ohpc/pub/compiler/gcc/14.2.0/bin/aarch64-unknown-linux-gnu-gcc -I"/home/biocbuild/R/R/include" -DNDEBUG -I.  -I/usr/local/include    -fPIC  -g -O2  -Wall -Werror=format-security -c io/io_data_float.c -o io/io_data_float.o
/opt/ohpc/pub/compiler/gcc/14.2.0/bin/aarch64-unknown-linux-gnu-gcc -I"/home/biocbuild/R/R/include" -DNDEBUG -I.  -I/usr/local/include    -fPIC  -g -O2  -Wall -Werror=format-security -c io/io_data_int.c -o io/io_data_int.o
/opt/ohpc/pub/compiler/gcc/14.2.0/bin/aarch64-unknown-linux-gnu-gcc -I"/home/biocbuild/R/R/include" -DNDEBUG -I.  -I/usr/local/include    -fPIC  -g -O2  -Wall -Werror=format-security -c io/io_error.c -o io/io_error.o
/opt/ohpc/pub/compiler/gcc/14.2.0/bin/aarch64-unknown-linux-gnu-gcc -I"/home/biocbuild/R/R/include" -DNDEBUG -I.  -I/usr/local/include    -fPIC  -g -O2  -Wall -Werror=format-security -c io/io_tools.c -o io/io_tools.o
/opt/ohpc/pub/compiler/gcc/14.2.0/bin/aarch64-unknown-linux-gnu-gcc -I"/home/biocbuild/R/R/include" -DNDEBUG -I.  -I/usr/local/include    -fPIC  -g -O2  -Wall -Werror=format-security -c io/print_bar.c -o io/print_bar.o
/opt/ohpc/pub/compiler/gcc/14.2.0/bin/aarch64-unknown-linux-gnu-gcc -I"/home/biocbuild/R/R/include" -DNDEBUG -I.  -I/usr/local/include    -fPIC  -g -O2  -Wall -Werror=format-security -c LFMM/beta.c -o LFMM/beta.o
/opt/ohpc/pub/compiler/gcc/14.2.0/bin/aarch64-unknown-linux-gnu-gcc -I"/home/biocbuild/R/R/include" -DNDEBUG -I.  -I/usr/local/include    -fPIC  -g -O2  -Wall -Werror=format-security -c LFMM/error_lfmm.c -o LFMM/error_lfmm.o
/opt/ohpc/pub/compiler/gcc/14.2.0/bin/aarch64-unknown-linux-gnu-gcc -I"/home/biocbuild/R/R/include" -DNDEBUG -I.  -I/usr/local/include    -fPIC  -g -O2  -Wall -Werror=format-security -c LFMM/lfmm_k0.c -o LFMM/lfmm_k0.o
/opt/ohpc/pub/compiler/gcc/14.2.0/bin/aarch64-unknown-linux-gnu-gcc -I"/home/biocbuild/R/R/include" -DNDEBUG -I.  -I/usr/local/include    -fPIC  -g -O2  -Wall -Werror=format-security -c LFMM/slice_lfmm.c -o LFMM/slice_lfmm.o
/opt/ohpc/pub/compiler/gcc/14.2.0/bin/aarch64-unknown-linux-gnu-gcc -I"/home/biocbuild/R/R/include" -DNDEBUG -I.  -I/usr/local/include    -fPIC  -g -O2  -Wall -Werror=format-security -c LFMM/U.c -o LFMM/U.o
/opt/ohpc/pub/compiler/gcc/14.2.0/bin/aarch64-unknown-linux-gnu-gcc -I"/home/biocbuild/R/R/include" -DNDEBUG -I.  -I/usr/local/include    -fPIC  -g -O2  -Wall -Werror=format-security -c LFMM/beta_k0.c -o LFMM/beta_k0.o
/opt/ohpc/pub/compiler/gcc/14.2.0/bin/aarch64-unknown-linux-gnu-gcc -I"/home/biocbuild/R/R/include" -DNDEBUG -I.  -I/usr/local/include    -fPIC  -g -O2  -Wall -Werror=format-security -c LFMM/lfmm_algo.c -o LFMM/lfmm_algo.o
/opt/ohpc/pub/compiler/gcc/14.2.0/bin/aarch64-unknown-linux-gnu-gcc -I"/home/biocbuild/R/R/include" -DNDEBUG -I.  -I/usr/local/include    -fPIC  -g -O2  -Wall -Werror=format-security -c LFMM/print_lfmm.c -o LFMM/print_lfmm.o
/opt/ohpc/pub/compiler/gcc/14.2.0/bin/aarch64-unknown-linux-gnu-gcc -I"/home/biocbuild/R/R/include" -DNDEBUG -I.  -I/usr/local/include    -fPIC  -g -O2  -Wall -Werror=format-security -c LFMM/thread_lfmm.c -o LFMM/thread_lfmm.o
/opt/ohpc/pub/compiler/gcc/14.2.0/bin/aarch64-unknown-linux-gnu-gcc -I"/home/biocbuild/R/R/include" -DNDEBUG -I.  -I/usr/local/include    -fPIC  -g -O2  -Wall -Werror=format-security -c LFMM/V.c -o LFMM/V.o
/opt/ohpc/pub/compiler/gcc/14.2.0/bin/aarch64-unknown-linux-gnu-gcc -I"/home/biocbuild/R/R/include" -DNDEBUG -I.  -I/usr/local/include    -fPIC  -g -O2  -Wall -Werror=format-security -c LFMM/data_lfmm.c -o LFMM/data_lfmm.o
/opt/ohpc/pub/compiler/gcc/14.2.0/bin/aarch64-unknown-linux-gnu-gcc -I"/home/biocbuild/R/R/include" -DNDEBUG -I.  -I/usr/local/include    -fPIC  -g -O2  -Wall -Werror=format-security -c LFMM/LFMM.c -o LFMM/LFMM.o
/opt/ohpc/pub/compiler/gcc/14.2.0/bin/aarch64-unknown-linux-gnu-gcc -I"/home/biocbuild/R/R/include" -DNDEBUG -I.  -I/usr/local/include    -fPIC  -g -O2  -Wall -Werror=format-security -c LFMM/register_lfmm.c -o LFMM/register_lfmm.o
/opt/ohpc/pub/compiler/gcc/14.2.0/bin/aarch64-unknown-linux-gnu-gcc -I"/home/biocbuild/R/R/include" -DNDEBUG -I.  -I/usr/local/include    -fPIC  -g -O2  -Wall -Werror=format-security -c LFMM/thread_var.c -o LFMM/thread_var.o
/opt/ohpc/pub/compiler/gcc/14.2.0/bin/aarch64-unknown-linux-gnu-gcc -I"/home/biocbuild/R/R/include" -DNDEBUG -I.  -I/usr/local/include    -fPIC  -g -O2  -Wall -Werror=format-security -c matrix/cholesky.c -o matrix/cholesky.o
/opt/ohpc/pub/compiler/gcc/14.2.0/bin/aarch64-unknown-linux-gnu-gcc -I"/home/biocbuild/R/R/include" -DNDEBUG -I.  -I/usr/local/include    -fPIC  -g -O2  -Wall -Werror=format-security -c matrix/error_matrix.c -o matrix/error_matrix.o
/opt/ohpc/pub/compiler/gcc/14.2.0/bin/aarch64-unknown-linux-gnu-gcc -I"/home/biocbuild/R/R/include" -DNDEBUG -I.  -I/usr/local/include    -fPIC  -g -O2  -Wall -Werror=format-security -c matrix/normalize.c -o matrix/normalize.o
/opt/ohpc/pub/compiler/gcc/14.2.0/bin/aarch64-unknown-linux-gnu-gcc -I"/home/biocbuild/R/R/include" -DNDEBUG -I.  -I/usr/local/include    -fPIC  -g -O2  -Wall -Werror=format-security -c matrix/slice_matrix.c -o matrix/slice_matrix.o
/opt/ohpc/pub/compiler/gcc/14.2.0/bin/aarch64-unknown-linux-gnu-gcc -I"/home/biocbuild/R/R/include" -DNDEBUG -I.  -I/usr/local/include    -fPIC  -g -O2  -Wall -Werror=format-security -c matrix/data.c -o matrix/data.o
/opt/ohpc/pub/compiler/gcc/14.2.0/bin/aarch64-unknown-linux-gnu-gcc -I"/home/biocbuild/R/R/include" -DNDEBUG -I.  -I/usr/local/include    -fPIC  -g -O2  -Wall -Werror=format-security -c matrix/inverse.c -o matrix/inverse.o
/opt/ohpc/pub/compiler/gcc/14.2.0/bin/aarch64-unknown-linux-gnu-gcc -I"/home/biocbuild/R/R/include" -DNDEBUG -I.  -I/usr/local/include    -fPIC  -g -O2  -Wall -Werror=format-security -c matrix/rand.c -o matrix/rand.o
/opt/ohpc/pub/compiler/gcc/14.2.0/bin/aarch64-unknown-linux-gnu-gcc -I"/home/biocbuild/R/R/include" -DNDEBUG -I.  -I/usr/local/include    -fPIC  -g -O2  -Wall -Werror=format-security -c matrix/sylvester.c -o matrix/sylvester.o
/opt/ohpc/pub/compiler/gcc/14.2.0/bin/aarch64-unknown-linux-gnu-gcc -I"/home/biocbuild/R/R/include" -DNDEBUG -I.  -I/usr/local/include    -fPIC  -g -O2  -Wall -Werror=format-security -c matrix/diagonalize.c -o matrix/diagonalize.o
/opt/ohpc/pub/compiler/gcc/14.2.0/bin/aarch64-unknown-linux-gnu-gcc -I"/home/biocbuild/R/R/include" -DNDEBUG -I.  -I/usr/local/include    -fPIC  -g -O2  -Wall -Werror=format-security -c matrix/matrix.c -o matrix/matrix.o
/opt/ohpc/pub/compiler/gcc/14.2.0/bin/aarch64-unknown-linux-gnu-gcc -I"/home/biocbuild/R/R/include" -DNDEBUG -I.  -I/usr/local/include    -fPIC  -g -O2  -Wall -Werror=format-security -c matrix/random_projection.c -o matrix/random_projection.o
/opt/ohpc/pub/compiler/gcc/14.2.0/bin/aarch64-unknown-linux-gnu-gcc -I"/home/biocbuild/R/R/include" -DNDEBUG -I.  -I/usr/local/include    -fPIC  -g -O2  -Wall -Werror=format-security -c matrix/thread_matrix.c -o matrix/thread_matrix.o
/opt/ohpc/pub/compiler/gcc/14.2.0/bin/aarch64-unknown-linux-gnu-gcc -I"/home/biocbuild/R/R/include" -DNDEBUG -I.  -I/usr/local/include    -fPIC  -g -O2  -Wall -Werror=format-security -c nnlsm/blockpivot.c -o nnlsm/blockpivot.o
/opt/ohpc/pub/compiler/gcc/14.2.0/bin/aarch64-unknown-linux-gnu-gcc -I"/home/biocbuild/R/R/include" -DNDEBUG -I.  -I/usr/local/include    -fPIC  -g -O2  -Wall -Werror=format-security -c nnlsm/nnlsm.c -o nnlsm/nnlsm.o
/opt/ohpc/pub/compiler/gcc/14.2.0/bin/aarch64-unknown-linux-gnu-gcc -I"/home/biocbuild/R/R/include" -DNDEBUG -I.  -I/usr/local/include    -fPIC  -g -O2  -Wall -Werror=format-security -c nnlsm/solvenormaleqcomb.c -o nnlsm/solvenormaleqcomb.o
/opt/ohpc/pub/compiler/gcc/14.2.0/bin/aarch64-unknown-linux-gnu-gcc -I"/home/biocbuild/R/R/include" -DNDEBUG -I.  -I/usr/local/include    -fPIC  -g -O2  -Wall -Werror=format-security -c nnlsm/sort.c -o nnlsm/sort.o
/opt/ohpc/pub/compiler/gcc/14.2.0/bin/aarch64-unknown-linux-gnu-gcc -I"/home/biocbuild/R/R/include" -DNDEBUG -I.  -I/usr/local/include    -fPIC  -g -O2  -Wall -Werror=format-security -c pca/calc_cov.c -o pca/calc_cov.o
/opt/ohpc/pub/compiler/gcc/14.2.0/bin/aarch64-unknown-linux-gnu-gcc -I"/home/biocbuild/R/R/include" -DNDEBUG -I.  -I/usr/local/include    -fPIC  -g -O2  -Wall -Werror=format-security -c pca/error_pca.c -o pca/error_pca.o
/opt/ohpc/pub/compiler/gcc/14.2.0/bin/aarch64-unknown-linux-gnu-gcc -I"/home/biocbuild/R/R/include" -DNDEBUG -I.  -I/usr/local/include    -fPIC  -g -O2  -Wall -Werror=format-security -c pca/pca.c -o pca/pca.o
/opt/ohpc/pub/compiler/gcc/14.2.0/bin/aarch64-unknown-linux-gnu-gcc -I"/home/biocbuild/R/R/include" -DNDEBUG -I.  -I/usr/local/include    -fPIC  -g -O2  -Wall -Werror=format-security -c pca/print_pca.c -o pca/print_pca.o
/opt/ohpc/pub/compiler/gcc/14.2.0/bin/aarch64-unknown-linux-gnu-gcc -I"/home/biocbuild/R/R/include" -DNDEBUG -I.  -I/usr/local/include    -fPIC  -g -O2  -Wall -Werror=format-security -c pca/register_pca.c -o pca/register_pca.o
/opt/ohpc/pub/compiler/gcc/14.2.0/bin/aarch64-unknown-linux-gnu-gcc -I"/home/biocbuild/R/R/include" -DNDEBUG -I.  -I/usr/local/include    -fPIC  -g -O2  -Wall -Werror=format-security -c sNMF/als.c -o sNMF/als.o
/opt/ohpc/pub/compiler/gcc/14.2.0/bin/aarch64-unknown-linux-gnu-gcc -I"/home/biocbuild/R/R/include" -DNDEBUG -I.  -I/usr/local/include    -fPIC  -g -O2  -Wall -Werror=format-security -c sNMF/als_k1.c -o sNMF/als_k1.o
/opt/ohpc/pub/compiler/gcc/14.2.0/bin/aarch64-unknown-linux-gnu-gcc -I"/home/biocbuild/R/R/include" -DNDEBUG -I.  -I/usr/local/include    -fPIC  -g -O2  -Wall -Werror=format-security -c sNMF/criteria.c -o sNMF/criteria.o
/opt/ohpc/pub/compiler/gcc/14.2.0/bin/aarch64-unknown-linux-gnu-gcc -I"/home/biocbuild/R/R/include" -DNDEBUG -I.  -I/usr/local/include    -fPIC  -g -O2  -Wall -Werror=format-security -c sNMF/print_snmf.c -o sNMF/print_snmf.o
/opt/ohpc/pub/compiler/gcc/14.2.0/bin/aarch64-unknown-linux-gnu-gcc -I"/home/biocbuild/R/R/include" -DNDEBUG -I.  -I/usr/local/include    -fPIC  -g -O2  -Wall -Werror=format-security -c sNMF/sNMF.c -o sNMF/sNMF.o
/opt/ohpc/pub/compiler/gcc/14.2.0/bin/aarch64-unknown-linux-gnu-gcc -I"/home/biocbuild/R/R/include" -DNDEBUG -I.  -I/usr/local/include    -fPIC  -g -O2  -Wall -Werror=format-security -c sNMF/thread_Q.c -o sNMF/thread_Q.o
/opt/ohpc/pub/compiler/gcc/14.2.0/bin/aarch64-unknown-linux-gnu-gcc -I"/home/biocbuild/R/R/include" -DNDEBUG -I.  -I/usr/local/include    -fPIC  -g -O2  -Wall -Werror=format-security -c sNMF/als_F.c -o sNMF/als_F.o
/opt/ohpc/pub/compiler/gcc/14.2.0/bin/aarch64-unknown-linux-gnu-gcc -I"/home/biocbuild/R/R/include" -DNDEBUG -I.  -I/usr/local/include    -fPIC  -g -O2  -Wall -Werror=format-security -c sNMF/als_Q.c -o sNMF/als_Q.o
/opt/ohpc/pub/compiler/gcc/14.2.0/bin/aarch64-unknown-linux-gnu-gcc -I"/home/biocbuild/R/R/include" -DNDEBUG -I.  -I/usr/local/include    -fPIC  -g -O2  -Wall -Werror=format-security -c sNMF/error_snmf.c -o sNMF/error_snmf.o
/opt/ohpc/pub/compiler/gcc/14.2.0/bin/aarch64-unknown-linux-gnu-gcc -I"/home/biocbuild/R/R/include" -DNDEBUG -I.  -I/usr/local/include    -fPIC  -g -O2  -Wall -Werror=format-security -c sNMF/register_snmf.c -o sNMF/register_snmf.o
/opt/ohpc/pub/compiler/gcc/14.2.0/bin/aarch64-unknown-linux-gnu-gcc -I"/home/biocbuild/R/R/include" -DNDEBUG -I.  -I/usr/local/include    -fPIC  -g -O2  -Wall -Werror=format-security -c sNMF/thread_F.c -o sNMF/thread_F.o
/opt/ohpc/pub/compiler/gcc/14.2.0/bin/aarch64-unknown-linux-gnu-gcc -I"/home/biocbuild/R/R/include" -DNDEBUG -I.  -I/usr/local/include    -fPIC  -g -O2  -Wall -Werror=format-security -c sNMF/thread_snmf.c -o sNMF/thread_snmf.o
/opt/ohpc/pub/compiler/gcc/14.2.0/bin/aarch64-unknown-linux-gnu-gcc -I"/home/biocbuild/R/R/include" -DNDEBUG -I.  -I/usr/local/include    -fPIC  -g -O2  -Wall -Werror=format-security -c stats/beta_distribution.c -o stats/beta_distribution.o
/opt/ohpc/pub/compiler/gcc/14.2.0/bin/aarch64-unknown-linux-gnu-gcc -I"/home/biocbuild/R/R/include" -DNDEBUG -I.  -I/usr/local/include    -fPIC  -g -O2  -Wall -Werror=format-security -c stats/gamma_density.c -o stats/gamma_density.o
/opt/ohpc/pub/compiler/gcc/14.2.0/bin/aarch64-unknown-linux-gnu-gcc -I"/home/biocbuild/R/R/include" -DNDEBUG -I.  -I/usr/local/include    -fPIC  -g -O2  -Wall -Werror=format-security -c stats/ln_beta_function.c -o stats/ln_beta_function.o
/opt/ohpc/pub/compiler/gcc/14.2.0/bin/aarch64-unknown-linux-gnu-gcc -I"/home/biocbuild/R/R/include" -DNDEBUG -I.  -I/usr/local/include    -fPIC  -g -O2  -Wall -Werror=format-security -c stats/beta_function.c -o stats/beta_function.o
/opt/ohpc/pub/compiler/gcc/14.2.0/bin/aarch64-unknown-linux-gnu-gcc -I"/home/biocbuild/R/R/include" -DNDEBUG -I.  -I/usr/local/include    -fPIC  -g -O2  -Wall -Werror=format-security -c stats/gamma_distribution.c -o stats/gamma_distribution.o
/opt/ohpc/pub/compiler/gcc/14.2.0/bin/aarch64-unknown-linux-gnu-gcc -I"/home/biocbuild/R/R/include" -DNDEBUG -I.  -I/usr/local/include    -fPIC  -g -O2  -Wall -Werror=format-security -c stats/ln_gamma_function.c -o stats/ln_gamma_function.o
/opt/ohpc/pub/compiler/gcc/14.2.0/bin/aarch64-unknown-linux-gnu-gcc -I"/home/biocbuild/R/R/include" -DNDEBUG -I.  -I/usr/local/include    -fPIC  -g -O2  -Wall -Werror=format-security -c stats/entire_incomplete_gamma_function.c -o stats/entire_incomplete_gamma_function.o
/opt/ohpc/pub/compiler/gcc/14.2.0/bin/aarch64-unknown-linux-gnu-gcc -I"/home/biocbuild/R/R/include" -DNDEBUG -I.  -I/usr/local/include    -fPIC  -g -O2  -Wall -Werror=format-security -c stats/gamma_dist_tables.c -o stats/gamma_dist_tables.o
/opt/ohpc/pub/compiler/gcc/14.2.0/bin/aarch64-unknown-linux-gnu-gcc -I"/home/biocbuild/R/R/include" -DNDEBUG -I.  -I/usr/local/include    -fPIC  -g -O2  -Wall -Werror=format-security -c stats/student_t_distribution.c -o stats/student_t_distribution.o
/opt/ohpc/pub/compiler/gcc/14.2.0/bin/aarch64-unknown-linux-gnu-gcc -I"/home/biocbuild/R/R/include" -DNDEBUG -I.  -I/usr/local/include    -fPIC  -g -O2  -Wall -Werror=format-security -c stats/factorial.c -o stats/factorial.o
/opt/ohpc/pub/compiler/gcc/14.2.0/bin/aarch64-unknown-linux-gnu-gcc -I"/home/biocbuild/R/R/include" -DNDEBUG -I.  -I/usr/local/include    -fPIC  -g -O2  -Wall -Werror=format-security -c stats/gamma_function.c -o stats/gamma_function.o
/opt/ohpc/pub/compiler/gcc/14.2.0/bin/aarch64-unknown-linux-gnu-gcc -I"/home/biocbuild/R/R/include" -DNDEBUG -I.  -I/usr/local/include    -fPIC  -g -O2  -Wall -Werror=format-security -c tracyWidom/error_tracyWidom.c -o tracyWidom/error_tracyWidom.o
/opt/ohpc/pub/compiler/gcc/14.2.0/bin/aarch64-unknown-linux-gnu-gcc -I"/home/biocbuild/R/R/include" -DNDEBUG -I.  -I/usr/local/include    -fPIC  -g -O2  -Wall -Werror=format-security -c tracyWidom/register_tracyWidom.c -o tracyWidom/register_tracyWidom.o
/opt/ohpc/pub/compiler/gcc/14.2.0/bin/aarch64-unknown-linux-gnu-gcc -I"/home/biocbuild/R/R/include" -DNDEBUG -I.  -I/usr/local/include    -fPIC  -g -O2  -Wall -Werror=format-security -c tracyWidom/print_tracyWidom.c -o tracyWidom/print_tracyWidom.o
/opt/ohpc/pub/compiler/gcc/14.2.0/bin/aarch64-unknown-linux-gnu-gcc -I"/home/biocbuild/R/R/include" -DNDEBUG -I.  -I/usr/local/include    -fPIC  -g -O2  -Wall -Werror=format-security -c tracyWidom/tracyWidom.c -o tracyWidom/tracyWidom.o
/opt/ohpc/pub/compiler/gcc/14.2.0/bin/aarch64-unknown-linux-gnu-gcc -shared -L/home/biocbuild/R/R/lib -L/usr/local/lib -o LEA.so R_LFMM.o R_crossEntropy.o R_createDataSet.o R_sNMF.o R_ancestrymap2geno.o R_ancestrymap2lfmm.o R_geno2lfmm.o R_lfmm2geno.o R_pca.o R_ped2geno.o R_ped2lfmm.o R_vcf2geno.o R_tracyWidom.o R_init_LEA.o bituint/bituint.o bituint/calc_bituint.o bituint/io_geno_bituint.o bituint/slice_bituint.o bituint/thread_bituint.o convert/ancestrymap.o convert/geno.o convert/ped.o convert/vcf2geno.o convert/geno2lfmm.o convert/lfmm2geno.o convert/register_convert.o createDataSet/createDataSet.o createDataSet/error_cds.o createDataSet/print_cds.o createDataSet/register_cds.o crossEntropy/crossEntropy.o crossEntropy/error_ce.o crossEntropy/print_ce.o crossEntropy/register_ce.o io/io_data_double.o io/io_data_float.o io/io_data_int.o io/io_error.o io/io_tools.o io/print_bar.o LFMM/beta.o LFMM/error_lfmm.o LFMM/lfmm_k0.o LFMM/slice_lfmm.o LFMM/U.o LFMM/beta_k0.o LFMM/lfmm_algo.o LFMM/print_lfmm.o LFMM/thread_lfmm.o LFMM/V.o LFMM/data_lfmm.o LFMM/LFMM.o LFMM/register_lfmm.o LFMM/thread_var.o matrix/cholesky.o matrix/error_matrix.o matrix/normalize.o matrix/slice_matrix.o matrix/data.o matrix/inverse.o matrix/rand.o matrix/sylvester.o matrix/diagonalize.o matrix/matrix.o matrix/random_projection.o matrix/thread_matrix.o nnlsm/blockpivot.o nnlsm/nnlsm.o nnlsm/solvenormaleqcomb.o nnlsm/sort.o pca/calc_cov.o pca/error_pca.o pca/pca.o pca/print_pca.o pca/register_pca.o sNMF/als.o sNMF/als_k1.o sNMF/criteria.o sNMF/print_snmf.o sNMF/sNMF.o sNMF/thread_Q.o sNMF/als_F.o sNMF/als_Q.o sNMF/error_snmf.o sNMF/register_snmf.o sNMF/thread_F.o sNMF/thread_snmf.o stats/beta_distribution.o stats/gamma_density.o stats/ln_beta_function.o stats/beta_function.o stats/gamma_distribution.o stats/ln_gamma_function.o stats/entire_incomplete_gamma_function.o stats/gamma_dist_tables.o stats/student_t_distribution.o stats/factorial.o stats/gamma_function.o tracyWidom/error_tracyWidom.o tracyWidom/register_tracyWidom.o tracyWidom/print_tracyWidom.o tracyWidom/tracyWidom.o -lopenblas -lgfortran -lm -L/home/biocbuild/R/R/lib -lR
installing to /home/biocbuild/R/R-4.5.0-devel_2024-11-24/site-library/00LOCK-LEA/00new/LEA/libs
** R
** data
** inst
** byte-compile and prepare package for lazy loading
** help
*** installing help indices
** building package indices
** installing vignettes
** testing if installed package can be loaded from temporary location
** checking absolute paths in shared objects and dynamic libraries
** testing if installed package can be loaded from final location
** testing if installed package keeps a record of temporary installation path
* DONE (LEA)

Tests output


Example timings

LEA.Rcheck/LEA-Ex.timings

nameusersystemelapsed
G0.1960.0040.202
Q0.1800.0000.181
ancestrymap2geno0.0010.0030.003
ancestrymap2lfmm0.0020.0000.003
barchart0.5210.0150.540
crossEntropy0.1600.0040.165
genetic_gap0.2840.0120.296
genetic_offset0.2590.0040.263
geno2lfmm0.0180.0000.019
impute0.5970.0120.613
lfmm20.5280.0000.529
lfmm2_test0.4110.0000.412
lfmm2geno0.0210.0000.021
lfmm_pvalues13.094 0.00413.118
main_LFMM78.547 0.02278.764
main_createDataSet0.0120.0050.017
main_crossEntropyEstimation0.0860.0040.091
main_pca0.1150.0080.128
main_sNMF7.1650.3857.608
main_tracyWidom0.0290.0000.029
ped2geno0.0040.0000.004
ped2lfmm0.010.000.01
readEnv0.0010.0000.002
readGeno0.0240.0000.024
readLfmm0.0430.0000.048
readZscore6.6050.0046.624
snmf_pvalues0.5450.0200.567
struct2geno0.0230.0000.022
vcf2geno0.0040.0000.004
vcf2lfmm0.0040.0000.005
writeEnv0.0010.0000.001
writeGeno0.0230.0000.024
writeLFMM0.0410.0000.041
zscores13.207 0.01213.250