Back to Multiple platform build/check report for BioC 3.21:   simplified   long
ABCDEFGH[I]JKLMNOPQRSTUVWXYZ

This page was generated on 2025-02-03 12:38 -0500 (Mon, 03 Feb 2025).

HostnameOSArch (*)R versionInstalled pkgs
nebbiolo1Linux (Ubuntu 24.04.1 LTS)x86_64R Under development (unstable) (2025-01-20 r87609) -- "Unsuffered Consequences" 4704
palomino7Windows Server 2022 Datacenterx64R Under development (unstable) (2025-01-21 r87610 ucrt) -- "Unsuffered Consequences" 4467
lconwaymacOS 12.7.1 Montereyx86_64R Under development (unstable) (2025-01-22 r87618) -- "Unsuffered Consequences" 4478
Click on any hostname to see more info about the system (e.g. compilers)      (*) as reported by 'uname -p', except on Windows and Mac OS X

Package 1048/2289HostnameOS / ArchINSTALLBUILDCHECKBUILD BIN
ISAnalytics 1.17.1  (landing page)
Francesco Gazzo
Snapshot Date: 2025-02-02 13:40 -0500 (Sun, 02 Feb 2025)
git_url: https://git.bioconductor.org/packages/ISAnalytics
git_branch: devel
git_last_commit: 3b0f63a
git_last_commit_date: 2024-12-05 05:16:21 -0500 (Thu, 05 Dec 2024)
nebbiolo1Linux (Ubuntu 24.04.1 LTS) / x86_64  OK    OK    OK  UNNEEDED, same version is already published
palomino7Windows Server 2022 Datacenter / x64  OK    OK    OK    OK  UNNEEDED, same version is already published
lconwaymacOS 12.7.1 Monterey / x86_64  OK    OK    OK    OK  UNNEEDED, same version is already published


CHECK results for ISAnalytics on palomino7

To the developers/maintainers of the ISAnalytics package:
- Allow up to 24 hours (and sometimes 48 hours) for your latest push to git@git.bioconductor.org:packages/ISAnalytics.git to reflect on this report. See Troubleshooting Build Report for more information.
- Use the following Renviron settings to reproduce errors and warnings.
- If 'R CMD check' started to fail recently on the Linux builder(s) over a missing dependency, add the missing dependency to 'Suggests:' in your DESCRIPTION file. See Renviron.bioc for more information.

raw results


Summary

Package: ISAnalytics
Version: 1.17.1
Command: E:\biocbuild\bbs-3.21-bioc\R\bin\R.exe CMD check --no-multiarch --install=check:ISAnalytics.install-out.txt --library=E:\biocbuild\bbs-3.21-bioc\R\library --no-vignettes --timings ISAnalytics_1.17.1.tar.gz
StartedAt: 2025-02-03 02:05:14 -0500 (Mon, 03 Feb 2025)
EndedAt: 2025-02-03 02:15:29 -0500 (Mon, 03 Feb 2025)
EllapsedTime: 615.6 seconds
RetCode: 0
Status:   OK  
CheckDir: ISAnalytics.Rcheck
Warnings: 0

Command output

##############################################################################
##############################################################################
###
### Running command:
###
###   E:\biocbuild\bbs-3.21-bioc\R\bin\R.exe CMD check --no-multiarch --install=check:ISAnalytics.install-out.txt --library=E:\biocbuild\bbs-3.21-bioc\R\library --no-vignettes --timings ISAnalytics_1.17.1.tar.gz
###
##############################################################################
##############################################################################


* using log directory 'E:/biocbuild/bbs-3.21-bioc/meat/ISAnalytics.Rcheck'
* using R Under development (unstable) (2025-01-21 r87610 ucrt)
* using platform: x86_64-w64-mingw32
* R was compiled by
    gcc.exe (GCC) 13.3.0
    GNU Fortran (GCC) 13.3.0
* running under: Windows Server 2022 x64 (build 20348)
* using session charset: UTF-8
* using option '--no-vignettes'
* checking for file 'ISAnalytics/DESCRIPTION' ... OK
* this is package 'ISAnalytics' version '1.17.1'
* package encoding: UTF-8
* checking package namespace information ... OK
* checking package dependencies ... OK
* checking if this is a source package ... OK
* checking if there is a namespace ... OK
* checking for hidden files and directories ... OK
* checking for portable file names ... OK
* checking whether package 'ISAnalytics' can be installed ... OK
* checking installed package size ... OK
* checking package directory ... OK
* checking 'build' directory ... OK
* checking DESCRIPTION meta-information ... OK
* checking top-level files ... OK
* checking for left-over files ... OK
* checking index information ... OK
* checking package subdirectories ... OK
* checking code files for non-ASCII characters ... OK
* checking R files for syntax errors ... OK
* checking whether the package can be loaded ... OK
* checking whether the package can be loaded with stated dependencies ... OK
* checking whether the package can be unloaded cleanly ... OK
* checking whether the namespace can be loaded with stated dependencies ... OK
* checking whether the namespace can be unloaded cleanly ... OK
* checking whether startup messages can be suppressed ... OK
* checking dependencies in R code ... OK
* checking S3 generic/method consistency ... OK
* checking replacement functions ... OK
* checking foreign function calls ... OK
* checking R code for possible problems ... OK
* checking Rd files ... NOTE
checkRd: (-1) refGenes_hg19.Rd:21: Lost braces; missing escapes or markup?
    21 | \item Download from {http://hgdownload.soe.ucsc.edu/goldenPath/hg19/database/}
       |                     ^
* checking Rd metadata ... OK
* checking Rd cross-references ... OK
* checking for missing documentation entries ... OK
* checking for code/documentation mismatches ... OK
* checking Rd \usage sections ... OK
* checking Rd contents ... OK
* checking for unstated dependencies in examples ... OK
* checking contents of 'data' directory ... OK
* checking data for non-ASCII characters ... OK
* checking data for ASCII and uncompressed saves ... OK
* checking files in 'vignettes' ... OK
* checking examples ... OK
Examples with CPU (user + system) or elapsed time > 5s
                               user system elapsed
integration_alluvial_plot      3.89   0.03   10.55
import_parallel_Vispa2Matrices 2.39   0.34   20.87
import_Vispa2_stats            1.90   0.28    7.93
CIS_grubbs_overtime            1.44   0.12    8.33
top_cis_overtime_heatmap       1.48   0.08    7.73
sharing_heatmap                1.39   0.03    9.82
sharing_venn                   1.03   0.14   38.22
HSC_population_plot            0.94   0.03    7.11
iss_source                     0.92   0.01    7.14
remove_collisions              0.72   0.00    5.97
is_sharing                     0.65   0.02    8.50
realign_after_collisions       0.65   0.01    6.16
compute_near_integrations      0.62   0.02   10.59
HSC_population_size_estimate   0.59   0.03    7.02
* checking for unstated dependencies in 'tests' ... OK
* checking tests ...
  Running 'testthat.R'
 OK
* checking for unstated dependencies in vignettes ... OK
* checking package vignettes ... OK
* checking running R code from vignettes ... SKIPPED
* checking re-building of vignette outputs ... SKIPPED
* checking PDF version of manual ... OK
* DONE

Status: 1 NOTE
See
  'E:/biocbuild/bbs-3.21-bioc/meat/ISAnalytics.Rcheck/00check.log'
for details.


Installation output

ISAnalytics.Rcheck/00install.out

##############################################################################
##############################################################################
###
### Running command:
###
###   E:\biocbuild\bbs-3.21-bioc\R\bin\R.exe CMD INSTALL ISAnalytics
###
##############################################################################
##############################################################################


* installing to library 'E:/biocbuild/bbs-3.21-bioc/R/library'
* installing *source* package 'ISAnalytics' ...
** this is package 'ISAnalytics' version '1.17.1'
** using staged installation
** R
** data
** inst
** byte-compile and prepare package for lazy loading
** help
*** installing help indices
*** copying figures
** building package indices
** installing vignettes
** testing if installed package can be loaded from temporary location
** testing if installed package can be loaded from final location
** testing if installed package keeps a record of temporary installation path
* DONE (ISAnalytics)

Tests output

ISAnalytics.Rcheck/tests/testthat.Rout


R Under development (unstable) (2025-01-21 r87610 ucrt) -- "Unsuffered Consequences"
Copyright (C) 2025 The R Foundation for Statistical Computing
Platform: x86_64-w64-mingw32/x64

R is free software and comes with ABSOLUTELY NO WARRANTY.
You are welcome to redistribute it under certain conditions.
Type 'license()' or 'licence()' for distribution details.

R is a collaborative project with many contributors.
Type 'contributors()' for more information and
'citation()' on how to cite R or R packages in publications.

Type 'demo()' for some demos, 'help()' for on-line help, or
'help.start()' for an HTML browser interface to help.
Type 'q()' to quit R.

> library(testthat)
> library(ISAnalytics)
> 
> test_check("ISAnalytics")
Loading required namespace: plotly
Loading required namespace: rmarkdown
Report correctly saved
i Report saved to: E:/biocbuild/bbs-3.21-bioc/tmpdir/RtmpEZtxM6/file1596c3cbf7eef/2025-02-03_collision_removal_report.html
Report correctly saved
i Report saved to: E:/biocbuild/bbs-3.21-bioc/tmpdir/RtmpEZtxM6/file1596c72d02999/2025-02-03_outlier_test_pool_fragments_report.html
[ FAIL 0 | WARN 1 | SKIP 0 | PASS 834 ]

[ FAIL 0 | WARN 1 | SKIP 0 | PASS 834 ]
> 
> proc.time()
   user  system elapsed 
 106.18    7.25  338.07 

Example timings

ISAnalytics.Rcheck/ISAnalytics-Ex.timings

nameusersystemelapsed
CIS_grubbs1.110.021.14
CIS_grubbs_overtime1.440.128.33
CIS_volcano_plot1.330.081.40
HSC_population_plot0.940.037.11
HSC_population_size_estimate0.590.037.02
NGSdataExplorer000
aggregate_metadata0.090.020.11
aggregate_values_by_key0.050.010.07
annotation_issues0.010.030.04
as_sparse_matrix0.050.000.05
available_outlier_tests000
available_tags0.030.000.03
blood_lineages_default0.020.000.02
circos_genomic_density000
clinical_relevant_suspicious_genes0.010.000.01
comparison_matrix0.030.000.03
compute_abundance0.050.000.05
compute_near_integrations 0.62 0.0210.59
cumulative_count_union0.000.020.02
cumulative_is0.160.000.16
date_formats000
default_af_transform000
default_iss_file_prefixes000
default_meta_agg0.020.000.01
default_rec_agg_lambdas0.000.000.02
default_report_path0.020.000.01
default_stats1.080.061.14
enable_progress_bars0.010.010.03
export_ISA_settings0.050.040.08
fisher_scatterplot1.830.041.88
gene_frequency_fisher0.950.020.97
generate_Vispa2_launch_AF0.170.010.18
generate_blank_association_file0.020.000.02
generate_default_folder_structure0.950.240.95
import_ISA_settings0.130.080.21
import_Vispa2_stats1.900.287.93
import_association_file1.280.361.46
import_parallel_Vispa2Matrices 2.39 0.3420.87
import_single_Vispa2Matrix1.550.251.75
inspect_tags0.020.030.05
integration_alluvial_plot 3.89 0.0310.55
is_sharing0.650.028.50
iss_source0.920.017.14
known_clinical_oncogenes0.020.000.01
mandatory_IS_vars0.140.020.16
matching_options000
outlier_filter0.200.060.26
outliers_by_pool_fragments0.250.020.27
pcr_id_column0.020.000.01
purity_filter0.450.000.45
quantification_types000
realign_after_collisions0.650.016.16
reduced_AF_columns0.070.000.06
refGene_table_cols000
remove_collisions0.720.005.97
reset_mandatory_IS_vars0.010.060.07
sample_statistics0.450.030.49
separate_quant_matrices0.020.020.03
set_mandatory_IS_vars0.140.080.22
set_matrix_file_suffixes0.050.000.05
sharing_heatmap1.390.039.82
sharing_venn 1.03 0.1438.22
threshold_filter000
top_abund_tableGrob0.770.000.77
top_cis_overtime_heatmap1.480.087.73
top_integrations0.030.000.03
top_targeted_genes0.440.000.44
transform_columns0.010.000.02