Back to Multiple platform build/check report for BioC 3.23:   simplified   long
ABCDEF[G]HIJKLMNOPQRSTUVWXYZ

This page was generated on 2025-11-18 11:39 -0500 (Tue, 18 Nov 2025).

HostnameOSArch (*)R versionInstalled pkgs
nebbiolo1Linux (Ubuntu 24.04.3 LTS)x86_64R Under development (unstable) (2025-10-20 r88955) -- "Unsuffered Consequences" 4826
lconwaymacOS 12.7.6 Montereyx86_64R Under development (unstable) (2025-10-21 r88958) -- "Unsuffered Consequences" 4561
kjohnson3macOS 13.7.7 Venturaarm64R Under development (unstable) (2025-11-04 r88984) -- "Unsuffered Consequences" 4562
Click on any hostname to see more info about the system (e.g. compilers)      (*) as reported by 'uname -p', except on Windows and Mac OS X

Package 835/2325HostnameOS / ArchINSTALLBUILDCHECKBUILD BIN
GenomicFeatures 1.63.1  (landing page)
H. Pagès
Snapshot Date: 2025-11-17 13:40 -0500 (Mon, 17 Nov 2025)
git_url: https://git.bioconductor.org/packages/GenomicFeatures
git_branch: devel
git_last_commit: d92f2d0
git_last_commit_date: 2025-10-30 02:00:29 -0500 (Thu, 30 Oct 2025)
nebbiolo1Linux (Ubuntu 24.04.3 LTS) / x86_64  OK    OK    OK  UNNEEDED, same version is already published
lconwaymacOS 12.7.6 Monterey / x86_64  OK    OK    TIMEOUT    OK  
kjohnson3macOS 13.7.7 Ventura / arm64  OK    OK    OK    OK  NO, package depends on 'GenomicRanges' which is only available as a source package that needs compilation


CHECK results for GenomicFeatures on lconway

To the developers/maintainers of the GenomicFeatures package:
- Allow up to 24 hours (and sometimes 48 hours) for your latest push to git@git.bioconductor.org:packages/GenomicFeatures.git to reflect on this report. See Troubleshooting Build Report for more information.
- Use the following Renviron settings to reproduce errors and warnings.
- If 'R CMD check' started to fail recently on the Linux builder(s) over a missing dependency, add the missing dependency to 'Suggests:' in your DESCRIPTION file. See Renviron.bioc for more information.

raw results


Summary

Package: GenomicFeatures
Version: 1.63.1
Command: /Library/Frameworks/R.framework/Resources/bin/R CMD check --install=check:GenomicFeatures.install-out.txt --library=/Library/Frameworks/R.framework/Resources/library --no-vignettes --timings GenomicFeatures_1.63.1.tar.gz
StartedAt: 2025-11-18 00:46:04 -0500 (Tue, 18 Nov 2025)
EndedAt: 2025-11-18 01:26:04 -0500 (Tue, 18 Nov 2025)
EllapsedTime: 2400.5 seconds
RetCode: None
Status:   TIMEOUT  
CheckDir: GenomicFeatures.Rcheck
Warnings: NA

Command output

##############################################################################
##############################################################################
###
### Running command:
###
###   /Library/Frameworks/R.framework/Resources/bin/R CMD check --install=check:GenomicFeatures.install-out.txt --library=/Library/Frameworks/R.framework/Resources/library --no-vignettes --timings GenomicFeatures_1.63.1.tar.gz
###
##############################################################################
##############################################################################


* using log directory ‘/Users/biocbuild/bbs-3.23-bioc/meat/GenomicFeatures.Rcheck’
* using R Under development (unstable) (2025-10-21 r88958)
* using platform: x86_64-apple-darwin20
* R was compiled by
    Apple clang version 14.0.0 (clang-1400.0.29.202)
    GNU Fortran (GCC) 14.2.0
* running under: macOS Ventura 13.7.8
* using session charset: UTF-8
* using option ‘--no-vignettes’
* checking for file ‘GenomicFeatures/DESCRIPTION’ ... OK
* this is package ‘GenomicFeatures’ version ‘1.63.1’
* package encoding: UTF-8
* checking package namespace information ... OK
* checking package dependencies ...

Installation output


Tests output


Example timings