Back to Multiple platform build/check report for BioC 3.21:   simplified   long
ABCDEF[G]HIJKLMNOPQRSTUVWXYZ

This page was generated on 2025-02-03 12:38 -0500 (Mon, 03 Feb 2025).

HostnameOSArch (*)R versionInstalled pkgs
nebbiolo1Linux (Ubuntu 24.04.1 LTS)x86_64R Under development (unstable) (2025-01-20 r87609) -- "Unsuffered Consequences" 4704
palomino7Windows Server 2022 Datacenterx64R Under development (unstable) (2025-01-21 r87610 ucrt) -- "Unsuffered Consequences" 4467
lconwaymacOS 12.7.1 Montereyx86_64R Under development (unstable) (2025-01-22 r87618) -- "Unsuffered Consequences" 4478
Click on any hostname to see more info about the system (e.g. compilers)      (*) as reported by 'uname -p', except on Windows and Mac OS X

Package 803/2289HostnameOS / ArchINSTALLBUILDCHECKBUILD BIN
GeneStructureTools 1.27.0  (landing page)
Beth Signal
Snapshot Date: 2025-02-02 13:40 -0500 (Sun, 02 Feb 2025)
git_url: https://git.bioconductor.org/packages/GeneStructureTools
git_branch: devel
git_last_commit: 001986b
git_last_commit_date: 2024-10-29 10:26:11 -0500 (Tue, 29 Oct 2024)
nebbiolo1Linux (Ubuntu 24.04.1 LTS) / x86_64  OK    OK    OK  UNNEEDED, same version is already published
palomino7Windows Server 2022 Datacenter / x64  OK    OK    OK    OK  UNNEEDED, same version is already published
lconwaymacOS 12.7.1 Monterey / x86_64  OK    OK    OK    OK  NO, package depends on 'rtracklayer' which is only available as a source package that needs compilation


CHECK results for GeneStructureTools on lconway

To the developers/maintainers of the GeneStructureTools package:
- Allow up to 24 hours (and sometimes 48 hours) for your latest push to git@git.bioconductor.org:packages/GeneStructureTools.git to reflect on this report. See Troubleshooting Build Report for more information.
- Use the following Renviron settings to reproduce errors and warnings.
- If 'R CMD check' started to fail recently on the Linux builder(s) over a missing dependency, add the missing dependency to 'Suggests:' in your DESCRIPTION file. See Renviron.bioc for more information.

raw results


Summary

Package: GeneStructureTools
Version: 1.27.0
Command: /Library/Frameworks/R.framework/Resources/bin/R CMD check --install=check:GeneStructureTools.install-out.txt --library=/Library/Frameworks/R.framework/Resources/library --no-vignettes --timings GeneStructureTools_1.27.0.tar.gz
StartedAt: 2025-02-02 20:35:22 -0500 (Sun, 02 Feb 2025)
EndedAt: 2025-02-02 20:42:36 -0500 (Sun, 02 Feb 2025)
EllapsedTime: 433.9 seconds
RetCode: 0
Status:   OK  
CheckDir: GeneStructureTools.Rcheck
Warnings: 0

Command output

##############################################################################
##############################################################################
###
### Running command:
###
###   /Library/Frameworks/R.framework/Resources/bin/R CMD check --install=check:GeneStructureTools.install-out.txt --library=/Library/Frameworks/R.framework/Resources/library --no-vignettes --timings GeneStructureTools_1.27.0.tar.gz
###
##############################################################################
##############################################################################


* using log directory ‘/Users/biocbuild/bbs-3.21-bioc/meat/GeneStructureTools.Rcheck’
* using R Under development (unstable) (2025-01-22 r87618)
* using platform: x86_64-apple-darwin20
* R was compiled by
    Apple clang version 14.0.0 (clang-1400.0.29.202)
    GNU Fortran (GCC) 14.2.0
* running under: macOS Monterey 12.7.6
* using session charset: UTF-8
* using option ‘--no-vignettes’
* checking for file ‘GeneStructureTools/DESCRIPTION’ ... OK
* checking extension type ... Package
* this is package ‘GeneStructureTools’ version ‘1.27.0’
* package encoding: UTF-8
* checking package namespace information ... OK
* checking package dependencies ... OK
* checking if this is a source package ... OK
* checking if there is a namespace ... OK
* checking for hidden files and directories ... OK
* checking for portable file names ... OK
* checking for sufficient/correct file permissions ... OK
* checking whether package ‘GeneStructureTools’ can be installed ... OK
* checking installed package size ... OK
* checking package directory ... OK
* checking ‘build’ directory ... OK
* checking DESCRIPTION meta-information ... OK
* checking top-level files ... OK
* checking for left-over files ... OK
* checking index information ... OK
* checking package subdirectories ... OK
* checking code files for non-ASCII characters ... OK
* checking R files for syntax errors ... OK
* checking whether the package can be loaded ... OK
* checking whether the package can be loaded with stated dependencies ... OK
* checking whether the package can be unloaded cleanly ... OK
* checking whether the namespace can be loaded with stated dependencies ... OK
* checking whether the namespace can be unloaded cleanly ... OK
* checking dependencies in R code ... OK
* checking S3 generic/method consistency ... OK
* checking replacement functions ... OK
* checking foreign function calls ... OK
* checking R code for possible problems ... OK
* checking Rd files ... OK
* checking Rd metadata ... OK
* checking Rd cross-references ... OK
* checking for missing documentation entries ... OK
* checking for code/documentation mismatches ... OK
* checking Rd \usage sections ... OK
* checking Rd contents ... OK
* checking for unstated dependencies in examples ... OK
* checking files in ‘vignettes’ ... OK
* checking examples ... OK
Examples with CPU (user + system) or elapsed time > 5s
                                    user system elapsed
leafcutterTranscriptChangeSummary 25.240  1.088  26.511
whippetTranscriptChangeSummary    12.781  0.250  13.208
replaceJunction                    5.272  0.124   5.532
* checking for unstated dependencies in vignettes ... OK
* checking package vignettes ... OK
* checking running R code from vignettes ... SKIPPED
* checking re-building of vignette outputs ... SKIPPED
* checking PDF version of manual ... OK
* DONE

Status: OK


Installation output

GeneStructureTools.Rcheck/00install.out

##############################################################################
##############################################################################
###
### Running command:
###
###   /Library/Frameworks/R.framework/Resources/bin/R CMD INSTALL GeneStructureTools
###
##############################################################################
##############################################################################


* installing to library ‘/Library/Frameworks/R.framework/Versions/4.5-x86_64/Resources/library’
* installing *source* package ‘GeneStructureTools’ ...
** this is package ‘GeneStructureTools’ version ‘1.27.0’
** using staged installation
** R
** inst
** byte-compile and prepare package for lazy loading
** help
*** installing help indices
** building package indices
** installing vignettes
** testing if installed package can be loaded from temporary location
** testing if installed package can be loaded from final location
** testing if installed package keeps a record of temporary installation path
* DONE (GeneStructureTools)

Tests output


Example timings

GeneStructureTools.Rcheck/GeneStructureTools-Ex.timings

nameusersystemelapsed
DEXSeqIdsToGeneIds0.0030.0020.005
UTR2UTR532.6460.1342.812
addBroadTypes0.1900.0050.196
addIntronInTranscript3.1850.1313.443
alternativeIntronUsage4.6420.0454.719
annotateGeneModel0.9550.0150.979
attrChangeAltSpliced1.3010.0861.513
coordinates-methods0.0690.0680.233
diffSplicingResults-methods0.0750.0690.243
exonsToTranscripts0.2850.0070.294
filterGtfOverlap0.2910.0070.300
filterWhippetEvents0.0830.0670.259
findDEXexonType2.5870.0242.624
findExonContainingTranscripts0.4420.0760.608
findIntronContainingTranscripts0.6400.0770.811
findJunctionPairs1.3990.0821.594
formatWhippetEvents0.0160.0070.035
getOrfs0.7560.0170.781
getUOrfs0.5810.0140.599
junctions-methods0.0700.0650.226
leafcutterTranscriptChangeSummary25.240 1.08826.511
makeGeneModel0.1880.0070.198
maxLocation0.0030.0010.004
orfDiff1.8190.1072.053
orfSimilarity0.0010.0010.001
overlapTypes2.7960.0262.844
readCounts-methods0.0790.0770.257
readWhippetDIFFfiles0.0070.0110.029
readWhippetDataSet0.0760.0710.247
readWhippetJNCfiles0.0370.0330.116
readWhippetPSIfiles0.0210.0350.096
removeDuplicateTranscripts0.2900.0070.302
removeSameExon0.2340.0040.239
removeVersion0.0010.0000.000
reorderExonNumbers0.1890.0060.196
replaceJunction5.2720.1245.532
skipExonInTranscript1.6310.0891.848
summariseExonTypes2.6800.0192.710
transcriptChangeSummary1.6540.1041.897
whippetTranscriptChangeSummary12.781 0.25013.208