| Back to Multiple platform build/check report for BioC 3.23: simplified long |
|
This page was generated on 2025-11-22 11:37 -0500 (Sat, 22 Nov 2025).
| Hostname | OS | Arch (*) | R version | Installed pkgs |
|---|---|---|---|---|
| nebbiolo1 | Linux (Ubuntu 24.04.3 LTS) | x86_64 | R Under development (unstable) (2025-10-20 r88955) -- "Unsuffered Consequences" | 4829 |
| lconway | macOS 12.7.6 Monterey | x86_64 | R Under development (unstable) (2025-10-21 r88958) -- "Unsuffered Consequences" | 4603 |
| kjohnson3 | macOS 13.7.7 Ventura | arm64 | R Under development (unstable) (2025-11-04 r88984) -- "Unsuffered Consequences" | 4567 |
| Click on any hostname to see more info about the system (e.g. compilers) (*) as reported by 'uname -p', except on Windows and Mac OS X | ||||
| Package 807/2327 | Hostname | OS / Arch | INSTALL | BUILD | CHECK | BUILD BIN | ||||||||
| GeneBreak 1.41.0 (landing page) Evert van den Broek
| nebbiolo1 | Linux (Ubuntu 24.04.3 LTS) / x86_64 | OK | OK | OK | |||||||||
| lconway | macOS 12.7.6 Monterey / x86_64 | OK | OK | OK | OK | |||||||||
| kjohnson3 | macOS 13.7.7 Ventura / arm64 | OK | OK | OK | OK | |||||||||
|
To the developers/maintainers of the GeneBreak package: - Allow up to 24 hours (and sometimes 48 hours) for your latest push to git@git.bioconductor.org:packages/GeneBreak.git to reflect on this report. See Troubleshooting Build Report for more information. - Use the following Renviron settings to reproduce errors and warnings. - If 'R CMD check' started to fail recently on the Linux builder(s) over a missing dependency, add the missing dependency to 'Suggests:' in your DESCRIPTION file. See Renviron.bioc for more information. |
| Package: GeneBreak |
| Version: 1.41.0 |
| Command: /home/biocbuild/bbs-3.23-bioc/R/bin/R CMD check --install=check:GeneBreak.install-out.txt --library=/home/biocbuild/bbs-3.23-bioc/R/site-library --timings GeneBreak_1.41.0.tar.gz |
| StartedAt: 2025-11-21 23:47:51 -0500 (Fri, 21 Nov 2025) |
| EndedAt: 2025-11-21 23:50:34 -0500 (Fri, 21 Nov 2025) |
| EllapsedTime: 163.2 seconds |
| RetCode: 0 |
| Status: OK |
| CheckDir: GeneBreak.Rcheck |
| Warnings: 0 |
##############################################################################
##############################################################################
###
### Running command:
###
### /home/biocbuild/bbs-3.23-bioc/R/bin/R CMD check --install=check:GeneBreak.install-out.txt --library=/home/biocbuild/bbs-3.23-bioc/R/site-library --timings GeneBreak_1.41.0.tar.gz
###
##############################################################################
##############################################################################
* using log directory ‘/home/biocbuild/bbs-3.23-bioc/meat/GeneBreak.Rcheck’
* using R Under development (unstable) (2025-10-20 r88955)
* using platform: x86_64-pc-linux-gnu
* R was compiled by
gcc (Ubuntu 13.3.0-6ubuntu2~24.04) 13.3.0
GNU Fortran (Ubuntu 13.3.0-6ubuntu2~24.04) 13.3.0
* running under: Ubuntu 24.04.3 LTS
* using session charset: UTF-8
* checking for file ‘GeneBreak/DESCRIPTION’ ... OK
* checking extension type ... Package
* this is package ‘GeneBreak’ version ‘1.41.0’
* checking package namespace information ... OK
* checking package dependencies ... OK
* checking if this is a source package ... OK
* checking if there is a namespace ... OK
* checking for hidden files and directories ... OK
* checking for portable file names ... OK
* checking for sufficient/correct file permissions ... OK
* checking whether package ‘GeneBreak’ can be installed ... OK
* checking installed package size ... OK
* checking package directory ... OK
* checking ‘build’ directory ... OK
* checking DESCRIPTION meta-information ... OK
* checking top-level files ... OK
* checking for left-over files ... OK
* checking index information ... OK
* checking package subdirectories ... OK
* checking code files for non-ASCII characters ... OK
* checking R files for syntax errors ... OK
* checking whether the package can be loaded ... OK
* checking whether the package can be loaded with stated dependencies ... OK
* checking whether the package can be unloaded cleanly ... OK
* checking whether the namespace can be loaded with stated dependencies ... OK
* checking whether the namespace can be unloaded cleanly ... OK
* checking loading without being on the library search path ... OK
* checking dependencies in R code ... OK
* checking S3 generic/method consistency ... OK
* checking replacement functions ... OK
* checking foreign function calls ... OK
* checking R code for possible problems ... NOTE
.glmbreak: no visible global function definition for ‘glm’
.glmbreak: no visible global function definition for ‘predict’
addGeneAnnotation,CopyNumberBreakPoints: no visible global function
definition for ‘head’
bpStats,CopyNumberBreakPoints: no visible global function definition
for ‘sd’
bpStats,CopyNumberBreakPoints: no visible global function definition
for ‘p.adjust’
Undefined global functions or variables:
glm head p.adjust predict sd
Consider adding
importFrom("stats", "glm", "p.adjust", "predict", "sd")
importFrom("utils", "head")
to your NAMESPACE file.
* checking Rd files ... OK
* checking Rd metadata ... OK
* checking Rd cross-references ... OK
* checking for missing documentation entries ... OK
* checking for code/documentation mismatches ... OK
* checking Rd \usage sections ... OK
* checking Rd contents ... OK
* checking for unstated dependencies in examples ... OK
* checking contents of ‘data’ directory ... OK
* checking data for non-ASCII characters ... OK
* checking data for ASCII and uncompressed saves ... OK
* checking sizes of PDF files under ‘inst/doc’ ...* checking files in ‘vignettes’ ... OK
* checking examples ... OK
Examples with CPU (user + system) or elapsed time > 5s
user system elapsed
CopyNumberBreakPointGenes-class 5.041 0.134 5.175
* checking for unstated dependencies in vignettes ... OK
* checking package vignettes ... OK
* checking re-building of vignette outputs ... OK
* checking PDF version of manual ... OK
* DONE
Status: 1 NOTE
See
‘/home/biocbuild/bbs-3.23-bioc/meat/GeneBreak.Rcheck/00check.log’
for details.
GeneBreak.Rcheck/00install.out
############################################################################## ############################################################################## ### ### Running command: ### ### /home/biocbuild/bbs-3.23-bioc/R/bin/R CMD INSTALL GeneBreak ### ############################################################################## ############################################################################## * installing to library ‘/home/biocbuild/bbs-3.23-bioc/R/site-library’ * installing *source* package ‘GeneBreak’ ... ** this is package ‘GeneBreak’ version ‘1.41.0’ ** using staged installation ** R ** data ** byte-compile and prepare package for lazy loading Creating a new generic function for ‘segmentData’ in package ‘GeneBreak’ ** help *** installing help indices ** building package indices ** installing vignettes ** testing if installed package can be loaded from temporary location ** testing if installed package can be loaded from final location ** testing if installed package keeps a record of temporary installation path * DONE (GeneBreak)
GeneBreak.Rcheck/GeneBreak-Ex.timings
| name | user | system | elapsed | |
| CopyNumberBreakPointGenes-class | 5.041 | 0.134 | 5.175 | |
| CopyNumberBreakPoints-class | 1.118 | 0.081 | 1.199 | |
| accessOptions-CopyNumberBreakPoints-method | 0.796 | 0.021 | 0.816 | |
| addGeneAnnotation-CopyNumberBreakPoints-method | 1.783 | 0.024 | 1.807 | |
| bpFilter-CopyNumberBreakPoints-method | 1.507 | 0.025 | 1.533 | |
| bpGenes-CopyNumberBreakPointGenes-method | 1.974 | 0.026 | 2.000 | |
| bpPlot-CopyNumberBreakPoints-method | 3.894 | 0.065 | 3.960 | |
| bpStats-CopyNumberBreakPoints-method | 3.898 | 0.060 | 3.958 | |
| breakpointData-CopyNumberBreakPoints-method | 0.932 | 0.622 | 1.554 | |
| breakpointsPerGene-CopyNumberBreakPointGenes-method | 1.621 | 0.639 | 2.261 | |
| callData-CopyNumberBreakPoints-method | 1.052 | 0.629 | 1.680 | |
| featureChromosomes-CopyNumberBreakPoints-method | 0.479 | 0.059 | 0.539 | |
| featureInfo-CopyNumberBreakPoints-method | 1.924 | 0.184 | 2.108 | |
| featuresPerGene-CopyNumberBreakPointGenes-method | 1.526 | 0.037 | 1.564 | |
| geneChromosomes-CopyNumberBreakPointGenes-method | 1.540 | 0.039 | 1.580 | |
| geneInfo-CopyNumberBreakPointGenes-method | 1.115 | 0.077 | 1.192 | |
| getBreakpoints | 1.450 | 0.023 | 1.473 | |
| namesFeatures-CopyNumberBreakPoints-method | 0.811 | 0.048 | 0.859 | |
| recurrentGenes-CopyNumberBreakPointGenes-method | 4.218 | 0.044 | 4.262 | |
| sampleNames-CopyNumberBreakPoints-method | 0.844 | 0.042 | 0.886 | |
| segmentData-CopyNumberBreakPoints-method | 1.043 | 0.644 | 1.687 | |