| Back to Build/check report for BioC 3.22: simplified long |
|
This page was generated on 2025-10-27 12:45 -0400 (Mon, 27 Oct 2025).
| Hostname | OS | Arch (*) | R version | Installed pkgs |
|---|---|---|---|---|
| kjohnson3 | macOS 13.7.7 Ventura | arm64 | 4.5.1 Patched (2025-09-10 r88807) -- "Great Square Root" | 4637 |
| Click on any hostname to see more info about the system (e.g. compilers) (*) as reported by 'uname -p', except on Windows and Mac OS X | ||||
| Package 815/2361 | Hostname | OS / Arch | INSTALL | BUILD | CHECK | BUILD BIN | ||||||||
| GeneBreak 1.39.0 (landing page) Evert van den Broek
| kjohnson3 | macOS 13.7.7 Ventura / arm64 | OK | OK | OK | OK | ||||||||
|
To the developers/maintainers of the GeneBreak package: - Allow up to 24 hours (and sometimes 48 hours) for your latest push to git@git.bioconductor.org:packages/GeneBreak.git to reflect on this report. See Troubleshooting Build Report for more information. - Use the following Renviron settings to reproduce errors and warnings. - If 'R CMD check' started to fail recently on the Linux builder(s) over a missing dependency, add the missing dependency to 'Suggests:' in your DESCRIPTION file. See Renviron.bioc for more information. |
| Package: GeneBreak |
| Version: 1.39.0 |
| Command: /Library/Frameworks/R.framework/Resources/bin/R CMD check --install=check:GeneBreak.install-out.txt --library=/Library/Frameworks/R.framework/Resources/library --no-vignettes --timings GeneBreak_1.39.0.tar.gz |
| StartedAt: 2025-10-26 19:49:12 -0400 (Sun, 26 Oct 2025) |
| EndedAt: 2025-10-26 19:50:13 -0400 (Sun, 26 Oct 2025) |
| EllapsedTime: 61.8 seconds |
| RetCode: 0 |
| Status: OK |
| CheckDir: GeneBreak.Rcheck |
| Warnings: 0 |
##############################################################################
##############################################################################
###
### Running command:
###
### /Library/Frameworks/R.framework/Resources/bin/R CMD check --install=check:GeneBreak.install-out.txt --library=/Library/Frameworks/R.framework/Resources/library --no-vignettes --timings GeneBreak_1.39.0.tar.gz
###
##############################################################################
##############################################################################
* using log directory ‘/Users/biocbuild/bbs-3.22-bioc/meat/GeneBreak.Rcheck’
* using R version 4.5.1 Patched (2025-09-10 r88807)
* using platform: aarch64-apple-darwin20
* R was compiled by
Apple clang version 16.0.0 (clang-1600.0.26.6)
GNU Fortran (GCC) 14.2.0
* running under: macOS Ventura 13.7.7
* using session charset: UTF-8
* using option ‘--no-vignettes’
* checking for file ‘GeneBreak/DESCRIPTION’ ... OK
* checking extension type ... Package
* this is package ‘GeneBreak’ version ‘1.39.0’
* checking package namespace information ... OK
* checking package dependencies ... OK
* checking if this is a source package ... OK
* checking if there is a namespace ... OK
* checking for hidden files and directories ... OK
* checking for portable file names ... OK
* checking for sufficient/correct file permissions ... OK
* checking whether package ‘GeneBreak’ can be installed ... OK
* checking installed package size ... OK
* checking package directory ... OK
* checking ‘build’ directory ... OK
* checking DESCRIPTION meta-information ... OK
* checking top-level files ... OK
* checking for left-over files ... OK
* checking index information ... OK
* checking package subdirectories ... OK
* checking code files for non-ASCII characters ... OK
* checking R files for syntax errors ... OK
* checking whether the package can be loaded ... OK
* checking whether the package can be loaded with stated dependencies ... OK
* checking whether the package can be unloaded cleanly ... OK
* checking whether the namespace can be loaded with stated dependencies ... OK
* checking whether the namespace can be unloaded cleanly ... OK
* checking dependencies in R code ... OK
* checking S3 generic/method consistency ... OK
* checking replacement functions ... OK
* checking foreign function calls ... OK
* checking R code for possible problems ... NOTE
.glmbreak: no visible global function definition for ‘glm’
.glmbreak: no visible global function definition for ‘predict’
addGeneAnnotation,CopyNumberBreakPoints: no visible global function
definition for ‘head’
bpStats,CopyNumberBreakPoints: no visible global function definition
for ‘sd’
bpStats,CopyNumberBreakPoints: no visible global function definition
for ‘p.adjust’
Undefined global functions or variables:
glm head p.adjust predict sd
Consider adding
importFrom("stats", "glm", "p.adjust", "predict", "sd")
importFrom("utils", "head")
to your NAMESPACE file.
* checking Rd files ... OK
* checking Rd metadata ... OK
* checking Rd cross-references ... OK
* checking for missing documentation entries ... OK
* checking for code/documentation mismatches ... OK
* checking Rd \usage sections ... OK
* checking Rd contents ... OK
* checking for unstated dependencies in examples ... OK
* checking contents of ‘data’ directory ... OK
* checking data for non-ASCII characters ... OK
* checking data for ASCII and uncompressed saves ... OK
* checking sizes of PDF files under ‘inst/doc’ ... OK
* checking files in ‘vignettes’ ... OK
* checking examples ... OK
* checking for unstated dependencies in vignettes ... OK
* checking package vignettes ... OK
* checking running R code from vignettes ... SKIPPED
* checking re-building of vignette outputs ... SKIPPED
* checking PDF version of manual ... OK
* DONE
Status: 1 NOTE
See
‘/Users/biocbuild/bbs-3.22-bioc/meat/GeneBreak.Rcheck/00check.log’
for details.
GeneBreak.Rcheck/00install.out
############################################################################## ############################################################################## ### ### Running command: ### ### /Library/Frameworks/R.framework/Resources/bin/R CMD INSTALL GeneBreak ### ############################################################################## ############################################################################## * installing to library ‘/Library/Frameworks/R.framework/Versions/4.5-arm64/Resources/library’ * installing *source* package ‘GeneBreak’ ... ** this is package ‘GeneBreak’ version ‘1.39.0’ ** using staged installation ** R ** data ** byte-compile and prepare package for lazy loading Creating a new generic function for ‘segmentData’ in package ‘GeneBreak’ ** help *** installing help indices ** building package indices ** installing vignettes ** testing if installed package can be loaded from temporary location ** testing if installed package can be loaded from final location ** testing if installed package keeps a record of temporary installation path * DONE (GeneBreak)
GeneBreak.Rcheck/GeneBreak-Ex.timings
| name | user | system | elapsed | |
| CopyNumberBreakPointGenes-class | 2.129 | 0.292 | 2.424 | |
| CopyNumberBreakPoints-class | 0.636 | 0.064 | 0.700 | |
| accessOptions-CopyNumberBreakPoints-method | 0.353 | 0.040 | 0.393 | |
| addGeneAnnotation-CopyNumberBreakPoints-method | 0.716 | 0.076 | 0.795 | |
| bpFilter-CopyNumberBreakPoints-method | 0.437 | 0.062 | 0.499 | |
| bpGenes-CopyNumberBreakPointGenes-method | 0.779 | 0.089 | 0.872 | |
| bpPlot-CopyNumberBreakPoints-method | 1.969 | 0.249 | 2.224 | |
| bpStats-CopyNumberBreakPoints-method | 1.904 | 0.204 | 2.112 | |
| breakpointData-CopyNumberBreakPoints-method | 0.407 | 0.203 | 0.626 | |
| breakpointsPerGene-CopyNumberBreakPointGenes-method | 0.661 | 0.214 | 0.880 | |
| callData-CopyNumberBreakPoints-method | 0.520 | 0.178 | 0.704 | |
| featureChromosomes-CopyNumberBreakPoints-method | 0.335 | 0.047 | 0.382 | |
| featureInfo-CopyNumberBreakPoints-method | 0.766 | 0.093 | 0.859 | |
| featuresPerGene-CopyNumberBreakPointGenes-method | 0.708 | 0.068 | 0.776 | |
| geneChromosomes-CopyNumberBreakPointGenes-method | 0.591 | 0.071 | 0.662 | |
| geneInfo-CopyNumberBreakPointGenes-method | 0.703 | 0.072 | 0.782 | |
| getBreakpoints | 0.621 | 0.053 | 0.674 | |
| namesFeatures-CopyNumberBreakPoints-method | 0.337 | 0.039 | 0.376 | |
| recurrentGenes-CopyNumberBreakPointGenes-method | 1.594 | 0.225 | 1.820 | |
| sampleNames-CopyNumberBreakPoints-method | 0.362 | 0.048 | 0.411 | |
| segmentData-CopyNumberBreakPoints-method | 0.252 | 0.172 | 0.435 | |