Back to Multiple platform build/check report for BioC 3.23:   simplified   long
ABCDE[F]GHIJKLMNOPQRSTUVWXYZ

This page was generated on 2025-11-21 11:38 -0500 (Fri, 21 Nov 2025).

HostnameOSArch (*)R versionInstalled pkgs
nebbiolo1Linux (Ubuntu 24.04.3 LTS)x86_64R Under development (unstable) (2025-10-20 r88955) -- "Unsuffered Consequences" 4829
lconwaymacOS 12.7.6 Montereyx86_64R Under development (unstable) (2025-10-21 r88958) -- "Unsuffered Consequences" 4602
kjohnson3macOS 13.7.7 Venturaarm64R Under development (unstable) (2025-11-04 r88984) -- "Unsuffered Consequences" 4566
Click on any hostname to see more info about the system (e.g. compilers)      (*) as reported by 'uname -p', except on Windows and Mac OS X

Package 757/2327HostnameOS / ArchINSTALLBUILDCHECKBUILD BIN
FlowSOM 2.19.0  (landing page)
Sofie Van Gassen
Snapshot Date: 2025-11-20 13:40 -0500 (Thu, 20 Nov 2025)
git_url: https://git.bioconductor.org/packages/FlowSOM
git_branch: devel
git_last_commit: 3c00c1d
git_last_commit_date: 2025-10-29 10:23:19 -0500 (Wed, 29 Oct 2025)
nebbiolo1Linux (Ubuntu 24.04.3 LTS) / x86_64  OK    OK    OK  UNNEEDED, same version is already published
lconwaymacOS 12.7.6 Monterey / x86_64  OK    OK    OK    OK  UNNEEDED, same version is already published
kjohnson3macOS 13.7.7 Ventura / arm64  OK    OK    OK    OK  UNNEEDED, same version is already published


CHECK results for FlowSOM on lconway

To the developers/maintainers of the FlowSOM package:
- Allow up to 24 hours (and sometimes 48 hours) for your latest push to git@git.bioconductor.org:packages/FlowSOM.git to reflect on this report. See Troubleshooting Build Report for more information.
- Use the following Renviron settings to reproduce errors and warnings.
- If 'R CMD check' started to fail recently on the Linux builder(s) over a missing dependency, add the missing dependency to 'Suggests:' in your DESCRIPTION file. See Renviron.bioc for more information.

raw results


Summary

Package: FlowSOM
Version: 2.19.0
Command: /Library/Frameworks/R.framework/Resources/bin/R CMD check --install=check:FlowSOM.install-out.txt --library=/Library/Frameworks/R.framework/Resources/library --no-vignettes --timings FlowSOM_2.19.0.tar.gz
StartedAt: 2025-11-20 21:12:15 -0500 (Thu, 20 Nov 2025)
EndedAt: 2025-11-20 21:22:47 -0500 (Thu, 20 Nov 2025)
EllapsedTime: 632.7 seconds
RetCode: 0
Status:   OK  
CheckDir: FlowSOM.Rcheck
Warnings: 0

Command output

##############################################################################
##############################################################################
###
### Running command:
###
###   /Library/Frameworks/R.framework/Resources/bin/R CMD check --install=check:FlowSOM.install-out.txt --library=/Library/Frameworks/R.framework/Resources/library --no-vignettes --timings FlowSOM_2.19.0.tar.gz
###
##############################################################################
##############################################################################


* using log directory ‘/Users/biocbuild/bbs-3.23-bioc/meat/FlowSOM.Rcheck’
* using R Under development (unstable) (2025-10-21 r88958)
* using platform: x86_64-apple-darwin20
* R was compiled by
    Apple clang version 14.0.0 (clang-1400.0.29.202)
    GNU Fortran (GCC) 14.2.0
* running under: macOS Ventura 13.7.8
* using session charset: UTF-8
* using option ‘--no-vignettes’
* checking for file ‘FlowSOM/DESCRIPTION’ ... OK
* this is package ‘FlowSOM’ version ‘2.19.0’
* package encoding: UTF-8
* checking package namespace information ... OK
* checking package dependencies ... OK
* checking if this is a source package ... OK
* checking if there is a namespace ... OK
* checking for hidden files and directories ... OK
* checking for portable file names ... OK
* checking for sufficient/correct file permissions ... OK
* checking whether package ‘FlowSOM’ can be installed ... OK
* used C compiler: ‘Apple clang version 14.0.3 (clang-1403.0.22.14.1)’
* used SDK: ‘MacOSX11.3.1.sdk’
* checking installed package size ... OK
* checking package directory ... OK
* checking ‘build’ directory ... OK
* checking DESCRIPTION meta-information ... OK
* checking top-level files ... OK
* checking for left-over files ... OK
* checking index information ... OK
* checking package subdirectories ... OK
* checking code files for non-ASCII characters ... OK
* checking R files for syntax errors ... OK
* checking whether the package can be loaded ... OK
* checking whether the package can be loaded with stated dependencies ... OK
* checking whether the package can be unloaded cleanly ... OK
* checking whether the namespace can be loaded with stated dependencies ... OK
* checking whether the namespace can be unloaded cleanly ... OK
* checking whether startup messages can be suppressed ... OK
* checking dependencies in R code ... OK
* checking S3 generic/method consistency ... OK
* checking replacement functions ... OK
* checking foreign function calls ... OK
* checking R code for possible problems ... OK
* checking Rd files ... NOTE
checkRd: (-1) PlotDimRed.Rd:55: Lost braces
    55 | of the dimred default = function(dimred){dimred$Y}.}
       |                                         ^
* checking Rd metadata ... OK
* checking Rd cross-references ... NOTE
Non-topic package-anchored link(s) in Rd file 'pipe.Rd':
  ‘[magrittr:pipe]{%>%}’

See section 'Cross-references' in the 'Writing R Extensions' manual.
* checking for missing documentation entries ... OK
* checking for code/documentation mismatches ... OK
* checking Rd \usage sections ... OK
* checking Rd contents ... OK
* checking for unstated dependencies in examples ... OK
* checking line endings in C/C++/Fortran sources/headers ... OK
* checking compiled code ... INFO
Note: information on .o files is not available
* checking sizes of PDF files under ‘inst/doc’ ... OK
* checking files in ‘vignettes’ ... OK
* checking examples ... OK
Examples with CPU (user + system) or elapsed time > 5s
                                    user system elapsed
FlowSOMmary                       53.073  2.326  55.638
PlotDimRed                        39.404  2.497  42.550
PlotOutliers                      35.906  0.963  37.329
PlotMarker                        19.929  1.142  21.373
UpdateMetaclusters                18.034  1.198  19.478
PlotStars                         17.191  1.172  18.645
GroupStats                        14.049  0.820  14.992
FlowSOM                           13.040  1.041  14.212
PlotGroups                        12.456  1.039  13.648
query_multiple                    11.185  0.506  11.888
QueryMultiple                     11.008  0.579  11.742
Plot2DScatters                    10.407  0.710  11.236
AddAnnotation                      9.460  0.638  10.186
PlotManualBars                     9.119  0.784  10.051
PlotPies                           7.954  0.744   8.835
PlotNode                           7.938  0.737   8.789
GetFlowJoLabels                    8.023  0.636   8.735
QueryStarPlot                      7.849  0.314   8.270
PlotVariable                       7.334  0.789   8.311
PlotNumbers                        7.322  0.790   8.218
PlotFlowSOM                        6.912  0.708   7.695
UpdateNodeSize                     6.728  0.229   7.076
CountGroups                        6.363  0.586   7.059
PlotLabels                         5.784  0.659   6.548
SaveClustersToFCS                  5.386  0.780   6.283
NClusters                          5.252  0.844   6.240
GetFeatures                        5.700  0.372   6.130
PlotOverview2D                     5.407  0.528   6.022
MetaclusterMFIs                    5.100  0.725   5.889
NMetaclusters                      5.081  0.724   5.884
MetaclusterCVs                     4.868  0.788   5.815
TestOutliers                       4.938  0.707   5.728
GetMetaclusterCVs                  4.774  0.637   5.492
GetMetaclusterPercentagesPositive  4.723  0.631   5.412
GetPercentages                     4.730  0.624   5.424
print.FlowSOM                      4.622  0.659   5.468
GetMetaclusters                    4.646  0.613   5.319
GetMFIs                            4.641  0.603   5.300
GetMetaclusterMFIs                 4.631  0.586   5.265
GetCounts                          4.514  0.625   5.204
* checking for unstated dependencies in vignettes ... OK
* checking package vignettes ... OK
* checking running R code from vignettes ... SKIPPED
* checking re-building of vignette outputs ... SKIPPED
* checking PDF version of manual ... OK
* DONE

Status: 2 NOTEs
See
  ‘/Users/biocbuild/bbs-3.23-bioc/meat/FlowSOM.Rcheck/00check.log’
for details.


Installation output

FlowSOM.Rcheck/00install.out

##############################################################################
##############################################################################
###
### Running command:
###
###   /Library/Frameworks/R.framework/Resources/bin/R CMD INSTALL FlowSOM
###
##############################################################################
##############################################################################


* installing to library ‘/Library/Frameworks/R.framework/Versions/4.6-x86_64/Resources/library’
* installing *source* package ‘FlowSOM’ ...
** this is package ‘FlowSOM’ version ‘2.19.0’
** using staged installation
** libs
using C compiler: ‘Apple clang version 14.0.3 (clang-1403.0.22.14.1)’
using SDK: ‘MacOSX11.3.1.sdk’
clang -arch x86_64 -I"/Library/Frameworks/R.framework/Resources/include" -DNDEBUG   -I/opt/R/x86_64/include    -fPIC  -falign-functions=64 -Wall -g -O2  -c som.c -o som.o
clang -arch x86_64 -dynamiclib -Wl,-headerpad_max_install_names -undefined dynamic_lookup -L/Library/Frameworks/R.framework/Resources/lib -L/opt/R/x86_64/lib -o FlowSOM.so som.o -F/Library/Frameworks/R.framework/.. -framework R
installing to /Library/Frameworks/R.framework/Versions/4.6-x86_64/Resources/library/00LOCK-FlowSOM/00new/FlowSOM/libs
** R
** inst
** byte-compile and prepare package for lazy loading
** help
*** installing help indices
** building package indices
** installing vignettes
** testing if installed package can be loaded from temporary location
** checking absolute paths in shared objects and dynamic libraries
** testing if installed package can be loaded from final location
** testing if installed package keeps a record of temporary installation path
* DONE (FlowSOM)

Tests output


Example timings

FlowSOM.Rcheck/FlowSOM-Ex.timings

nameusersystemelapsed
AddAnnotation 9.460 0.63810.186
AggregateFlowFrames0.0940.0040.098
BuildMST1.2500.0751.339
BuildSOM1.3530.0961.474
CountGroups6.3630.5867.059
FMeasure0.0010.0000.001
FlowSOM13.040 1.04114.212
FlowSOMSubset4.2980.3864.719
FlowSOMmary53.073 2.32655.638
GetChannels0.0410.0030.045
GetClusterMFIs4.4500.4604.957
GetClusterPercentagesPositive4.4400.4634.953
GetClusters4.3390.5144.898
GetCounts4.5140.6255.204
GetFeatures5.7000.3726.130
GetFlowJoLabels8.0230.6368.735
GetMFIs4.6410.6035.300
GetMarkers0.0450.0040.048
GetMetaclusterCVs4.7740.6375.492
GetMetaclusterMFIs4.6310.5865.265
GetMetaclusterPercentagesPositive4.7230.6315.412
GetMetaclusters4.6460.6135.319
GetPercentages4.7300.6245.424
GroupStats14.049 0.82014.992
Initialize_KWSP0.0060.0000.006
Initialize_PCA0.0010.0000.001
MetaClustering3.2420.5813.863
MetaclusterCVs4.8680.7885.815
MetaclusterMFIs5.1000.7255.889
NClusters5.2520.8446.240
NMetaclusters5.0810.7245.884
NewData4.0170.4574.527
Plot2DScatters10.407 0.71011.236
PlotCenters1.2990.0991.411
PlotClusters2D1.1360.1271.269
PlotDimRed39.404 2.49742.550
PlotFileScatters1.3490.0391.400
PlotFlowSOM6.9120.7087.695
PlotGroups12.456 1.03913.648
PlotLabels5.7840.6596.548
PlotManualBars 9.119 0.78410.051
PlotMarker19.929 1.14221.373
PlotNode7.9380.7378.789
PlotNumbers7.3220.7908.218
PlotOutliers35.906 0.96337.329
PlotOverview2D5.4070.5286.022
PlotPies7.9540.7448.835
PlotSD2.2710.1102.415
PlotStars17.191 1.17218.645
PlotVariable7.3340.7898.311
Purity0.0010.0010.002
QueryMultiple11.008 0.57911.742
QueryStarPlot7.8490.3148.270
ReadInput3.9120.6274.606
SaveClustersToFCS5.3860.7806.283
TestOutliers4.9380.7075.728
UpdateMetaclusters18.034 1.19819.478
UpdateNodeSize6.7280.2297.076
get_channels0.0470.0040.052
get_markers0.0470.0030.051
metaClustering_consensus3.0280.5593.733
plotStarLegend0.5520.0060.568
print.FlowSOM4.6220.6595.468
query_multiple11.185 0.50611.888