| Back to Build/check report for BioC 3.23: simplified long |
|
This page was generated on 2025-11-01 11:32 -0400 (Sat, 01 Nov 2025).
| Hostname | OS | Arch (*) | R version | Installed pkgs |
|---|---|---|---|---|
| nebbiolo1 | Linux (Ubuntu 24.04.3 LTS) | x86_64 | R Under development (unstable) (2025-10-20 r88955) -- "Unsuffered Consequences" | 4774 |
| Click on any hostname to see more info about the system (e.g. compilers) (*) as reported by 'uname -p', except on Windows and Mac OS X | ||||
| Package 754/2321 | Hostname | OS / Arch | INSTALL | BUILD | CHECK | BUILD BIN | ||||||||
| FlowSOM 2.19.0 (landing page) Sofie Van Gassen
| nebbiolo1 | Linux (Ubuntu 24.04.3 LTS) / x86_64 | OK | OK | OK | |||||||||
|
To the developers/maintainers of the FlowSOM package: - Allow up to 24 hours (and sometimes 48 hours) for your latest push to git@git.bioconductor.org:packages/FlowSOM.git to reflect on this report. See Troubleshooting Build Report for more information. - Use the following Renviron settings to reproduce errors and warnings. - If 'R CMD check' started to fail recently on the Linux builder(s) over a missing dependency, add the missing dependency to 'Suggests:' in your DESCRIPTION file. See Renviron.bioc for more information. |
| Package: FlowSOM |
| Version: 2.19.0 |
| Command: /home/biocbuild/bbs-3.23-bioc/R/bin/R CMD check --install=check:FlowSOM.install-out.txt --library=/home/biocbuild/bbs-3.23-bioc/R/site-library --timings FlowSOM_2.19.0.tar.gz |
| StartedAt: 2025-10-31 23:27:39 -0400 (Fri, 31 Oct 2025) |
| EndedAt: 2025-10-31 23:37:51 -0400 (Fri, 31 Oct 2025) |
| EllapsedTime: 611.9 seconds |
| RetCode: 0 |
| Status: OK |
| CheckDir: FlowSOM.Rcheck |
| Warnings: 0 |
##############################################################################
##############################################################################
###
### Running command:
###
### /home/biocbuild/bbs-3.23-bioc/R/bin/R CMD check --install=check:FlowSOM.install-out.txt --library=/home/biocbuild/bbs-3.23-bioc/R/site-library --timings FlowSOM_2.19.0.tar.gz
###
##############################################################################
##############################################################################
* using log directory ‘/home/biocbuild/bbs-3.23-bioc/meat/FlowSOM.Rcheck’
* using R Under development (unstable) (2025-10-20 r88955)
* using platform: x86_64-pc-linux-gnu
* R was compiled by
gcc (Ubuntu 13.3.0-6ubuntu2~24.04) 13.3.0
GNU Fortran (Ubuntu 13.3.0-6ubuntu2~24.04) 13.3.0
* running under: Ubuntu 24.04.3 LTS
* using session charset: UTF-8
* checking for file ‘FlowSOM/DESCRIPTION’ ... OK
* this is package ‘FlowSOM’ version ‘2.19.0’
* package encoding: UTF-8
* checking package namespace information ... OK
* checking package dependencies ... OK
* checking if this is a source package ... OK
* checking if there is a namespace ... OK
* checking for hidden files and directories ... OK
* checking for portable file names ... OK
* checking for sufficient/correct file permissions ... OK
* checking whether package ‘FlowSOM’ can be installed ... OK
* used C compiler: ‘gcc (Ubuntu 13.3.0-6ubuntu2~24.04) 13.3.0’
* checking installed package size ... OK
* checking package directory ... OK
* checking ‘build’ directory ... OK
* checking DESCRIPTION meta-information ... OK
* checking top-level files ... OK
* checking for left-over files ... OK
* checking index information ... OK
* checking package subdirectories ... OK
* checking code files for non-ASCII characters ... OK
* checking R files for syntax errors ... OK
* checking whether the package can be loaded ... OK
* checking whether the package can be loaded with stated dependencies ... OK
* checking whether the package can be unloaded cleanly ... OK
* checking whether the namespace can be loaded with stated dependencies ... OK
* checking whether the namespace can be unloaded cleanly ... OK
* checking loading without being on the library search path ... OK
* checking whether startup messages can be suppressed ... OK
* checking dependencies in R code ... OK
* checking S3 generic/method consistency ... OK
* checking replacement functions ... OK
* checking foreign function calls ... OK
* checking R code for possible problems ... OK
* checking Rd files ... NOTE
checkRd: (-1) PlotDimRed.Rd:55: Lost braces
55 | of the dimred default = function(dimred){dimred$Y}.}
| ^
* checking Rd metadata ... OK
* checking Rd cross-references ... NOTE
Non-topic package-anchored link(s) in Rd file 'pipe.Rd':
‘[magrittr:pipe]{%>%}’
See section 'Cross-references' in the 'Writing R Extensions' manual.
* checking for missing documentation entries ... OK
* checking for code/documentation mismatches ... OK
* checking Rd \usage sections ... OK
* checking Rd contents ... OK
* checking for unstated dependencies in examples ... OK
* checking line endings in C/C++/Fortran sources/headers ... OK
* checking compiled code ... INFO
Note: information on .o files is not available
* checking sizes of PDF files under ‘inst/doc’ ...* checking files in ‘vignettes’ ... OK
* checking examples ... OK
Examples with CPU (user + system) or elapsed time > 5s
user system elapsed
FlowSOMmary 51.277 0.485 51.401
PlotDimRed 44.802 0.126 44.849
PlotOutliers 29.276 0.071 29.346
PlotMarker 18.082 0.093 18.179
UpdateMetaclusters 15.700 0.063 15.764
PlotStars 15.004 0.018 15.021
GroupStats 12.406 0.028 12.435
FlowSOM 11.939 0.067 12.008
PlotGroups 11.554 0.052 11.610
Plot2DScatters 10.084 0.032 10.107
QueryMultiple 9.571 0.014 9.586
query_multiple 9.192 0.015 9.209
AddAnnotation 8.869 0.224 9.096
PlotManualBars 7.986 0.011 7.999
PlotVariable 7.513 0.005 7.519
GetFlowJoLabels 7.019 0.128 7.150
PlotNode 7.094 0.012 7.107
PlotNumbers 6.881 0.072 6.953
PlotPies 6.921 0.007 6.929
QueryStarPlot 6.779 0.003 6.783
UpdateNodeSize 6.039 0.040 6.078
CountGroups 5.843 0.057 5.901
PlotFlowSOM 5.535 0.042 5.578
NClusters 5.386 0.021 5.408
PlotLabels 5.359 0.016 5.377
GetFeatures 5.295 0.018 5.313
PlotOverview2D 5.232 0.045 5.278
* checking for unstated dependencies in vignettes ... OK
* checking package vignettes ... OK
* checking re-building of vignette outputs ... OK
* checking PDF version of manual ... OK
* DONE
Status: 2 NOTEs
See
‘/home/biocbuild/bbs-3.23-bioc/meat/FlowSOM.Rcheck/00check.log’
for details.
FlowSOM.Rcheck/00install.out
############################################################################## ############################################################################## ### ### Running command: ### ### /home/biocbuild/bbs-3.23-bioc/R/bin/R CMD INSTALL FlowSOM ### ############################################################################## ############################################################################## * installing to library ‘/home/biocbuild/bbs-3.23-bioc/R/site-library’ * installing *source* package ‘FlowSOM’ ... ** this is package ‘FlowSOM’ version ‘2.19.0’ ** using staged installation ** libs using C compiler: ‘gcc (Ubuntu 13.3.0-6ubuntu2~24.04) 13.3.0’ gcc -std=gnu2x -I"/home/biocbuild/bbs-3.23-bioc/R/include" -DNDEBUG -I/usr/local/include -fpic -g -O2 -Wall -Werror=format-security -c som.c -o som.o gcc -std=gnu2x -shared -L/home/biocbuild/bbs-3.23-bioc/R/lib -L/usr/local/lib -o FlowSOM.so som.o -L/home/biocbuild/bbs-3.23-bioc/R/lib -lR installing to /home/biocbuild/bbs-3.23-bioc/R/site-library/00LOCK-FlowSOM/00new/FlowSOM/libs ** R ** inst ** byte-compile and prepare package for lazy loading ** help *** installing help indices ** building package indices ** installing vignettes ** testing if installed package can be loaded from temporary location ** checking absolute paths in shared objects and dynamic libraries ** testing if installed package can be loaded from final location ** testing if installed package keeps a record of temporary installation path * DONE (FlowSOM)
FlowSOM.Rcheck/FlowSOM-Ex.timings
| name | user | system | elapsed | |
| AddAnnotation | 8.869 | 0.224 | 9.096 | |
| AggregateFlowFrames | 0.075 | 0.010 | 0.085 | |
| BuildMST | 1.386 | 0.018 | 1.404 | |
| BuildSOM | 1.083 | 0.011 | 1.094 | |
| CountGroups | 5.843 | 0.057 | 5.901 | |
| FMeasure | 0.001 | 0.000 | 0.002 | |
| FlowSOM | 11.939 | 0.067 | 12.008 | |
| FlowSOMSubset | 4.249 | 0.077 | 4.327 | |
| FlowSOMmary | 51.277 | 0.485 | 51.401 | |
| GetChannels | 0.027 | 0.001 | 0.028 | |
| GetClusterMFIs | 4.333 | 0.014 | 4.347 | |
| GetClusterPercentagesPositive | 4.195 | 0.005 | 4.201 | |
| GetClusters | 3.992 | 0.007 | 4.020 | |
| GetCounts | 4.091 | 0.065 | 4.156 | |
| GetFeatures | 5.295 | 0.018 | 5.313 | |
| GetFlowJoLabels | 7.019 | 0.128 | 7.150 | |
| GetMFIs | 4.558 | 0.026 | 4.585 | |
| GetMarkers | 0.028 | 0.000 | 0.028 | |
| GetMetaclusterCVs | 4.745 | 0.014 | 4.760 | |
| GetMetaclusterMFIs | 4.648 | 0.010 | 4.659 | |
| GetMetaclusterPercentagesPositive | 4.436 | 0.024 | 4.462 | |
| GetMetaclusters | 4.636 | 0.013 | 4.650 | |
| GetPercentages | 4.841 | 0.012 | 4.853 | |
| GroupStats | 12.406 | 0.028 | 12.435 | |
| Initialize_KWSP | 0.003 | 0.001 | 0.004 | |
| Initialize_PCA | 0.001 | 0.000 | 0.001 | |
| MetaClustering | 2.826 | 0.030 | 2.857 | |
| MetaclusterCVs | 4.283 | 0.014 | 4.297 | |
| MetaclusterMFIs | 4.682 | 0.006 | 4.688 | |
| NClusters | 5.386 | 0.021 | 5.408 | |
| NMetaclusters | 4.942 | 0.020 | 4.962 | |
| NewData | 4.328 | 0.011 | 4.339 | |
| Plot2DScatters | 10.084 | 0.032 | 10.107 | |
| PlotCenters | 1.125 | 0.015 | 1.140 | |
| PlotClusters2D | 1.004 | 0.003 | 1.006 | |
| PlotDimRed | 44.802 | 0.126 | 44.849 | |
| PlotFileScatters | 1.167 | 0.027 | 1.195 | |
| PlotFlowSOM | 5.535 | 0.042 | 5.578 | |
| PlotGroups | 11.554 | 0.052 | 11.610 | |
| PlotLabels | 5.359 | 0.016 | 5.377 | |
| PlotManualBars | 7.986 | 0.011 | 7.999 | |
| PlotMarker | 18.082 | 0.093 | 18.179 | |
| PlotNode | 7.094 | 0.012 | 7.107 | |
| PlotNumbers | 6.881 | 0.072 | 6.953 | |
| PlotOutliers | 29.276 | 0.071 | 29.346 | |
| PlotOverview2D | 5.232 | 0.045 | 5.278 | |
| PlotPies | 6.921 | 0.007 | 6.929 | |
| PlotSD | 1.998 | 0.006 | 2.004 | |
| PlotStars | 15.004 | 0.018 | 15.021 | |
| PlotVariable | 7.513 | 0.005 | 7.519 | |
| Purity | 0.001 | 0.000 | 0.001 | |
| QueryMultiple | 9.571 | 0.014 | 9.586 | |
| QueryStarPlot | 6.779 | 0.003 | 6.783 | |
| ReadInput | 3.145 | 0.067 | 3.216 | |
| SaveClustersToFCS | 4.606 | 0.012 | 4.619 | |
| TestOutliers | 4.418 | 0.006 | 4.425 | |
| UpdateMetaclusters | 15.700 | 0.063 | 15.764 | |
| UpdateNodeSize | 6.039 | 0.040 | 6.078 | |
| get_channels | 0.027 | 0.000 | 0.028 | |
| get_markers | 0.026 | 0.002 | 0.028 | |
| metaClustering_consensus | 2.164 | 0.012 | 2.176 | |
| plotStarLegend | 0.456 | 0.002 | 0.458 | |
| print.FlowSOM | 4.049 | 0.075 | 4.124 | |
| query_multiple | 9.192 | 0.015 | 9.209 | |