| Back to Multiple platform build/check report for BioC 3.23: simplified long |
|
This page was generated on 2025-11-19 10:13 -0500 (Wed, 19 Nov 2025).
| Hostname | OS | Arch (*) | R version | Installed pkgs |
|---|---|---|---|---|
| nebbiolo1 | Linux (Ubuntu 24.04.3 LTS) | x86_64 | R Under development (unstable) (2025-10-20 r88955) -- "Unsuffered Consequences" | 4827 |
| lconway | macOS 12.7.6 Monterey | x86_64 | R Under development (unstable) (2025-10-21 r88958) -- "Unsuffered Consequences" | 4600 |
| kjohnson3 | macOS 13.7.7 Ventura | arm64 | R Under development (unstable) (2025-11-04 r88984) -- "Unsuffered Consequences" | 4564 |
| Click on any hostname to see more info about the system (e.g. compilers) (*) as reported by 'uname -p', except on Windows and Mac OS X | ||||
| Package 622/2325 | Hostname | OS / Arch | INSTALL | BUILD | CHECK | BUILD BIN | ||||||||
| DspikeIn 1.1.0 (landing page) Mitra Ghotbi
| nebbiolo1 | Linux (Ubuntu 24.04.3 LTS) / x86_64 | OK | OK | OK | |||||||||
| lconway | macOS 12.7.6 Monterey / x86_64 | OK | OK | OK | OK | |||||||||
| kjohnson3 | macOS 13.7.7 Ventura / arm64 | OK | OK | OK | OK | |||||||||
|
To the developers/maintainers of the DspikeIn package: - Allow up to 24 hours (and sometimes 48 hours) for your latest push to git@git.bioconductor.org:packages/DspikeIn.git to reflect on this report. See Troubleshooting Build Report for more information. - Use the following Renviron settings to reproduce errors and warnings. - If 'R CMD check' started to fail recently on the Linux builder(s) over a missing dependency, add the missing dependency to 'Suggests:' in your DESCRIPTION file. See Renviron.bioc for more information. |
| Package: DspikeIn |
| Version: 1.1.0 |
| Command: /Library/Frameworks/R.framework/Resources/bin/R CMD check --install=check:DspikeIn.install-out.txt --library=/Library/Frameworks/R.framework/Resources/library --no-vignettes --timings DspikeIn_1.1.0.tar.gz |
| StartedAt: 2025-11-18 20:47:43 -0500 (Tue, 18 Nov 2025) |
| EndedAt: 2025-11-18 20:57:57 -0500 (Tue, 18 Nov 2025) |
| EllapsedTime: 614.3 seconds |
| RetCode: 0 |
| Status: OK |
| CheckDir: DspikeIn.Rcheck |
| Warnings: 0 |
##############################################################################
##############################################################################
###
### Running command:
###
### /Library/Frameworks/R.framework/Resources/bin/R CMD check --install=check:DspikeIn.install-out.txt --library=/Library/Frameworks/R.framework/Resources/library --no-vignettes --timings DspikeIn_1.1.0.tar.gz
###
##############################################################################
##############################################################################
* using log directory ‘/Users/biocbuild/bbs-3.23-bioc/meat/DspikeIn.Rcheck’
* using R Under development (unstable) (2025-10-21 r88958)
* using platform: x86_64-apple-darwin20
* R was compiled by
Apple clang version 14.0.0 (clang-1400.0.29.202)
GNU Fortran (GCC) 14.2.0
* running under: macOS Ventura 13.7.8
* using session charset: UTF-8
* using option ‘--no-vignettes’
* checking for file ‘DspikeIn/DESCRIPTION’ ... OK
* checking extension type ... Package
* this is package ‘DspikeIn’ version ‘1.1.0’
* package encoding: UTF-8
* checking package namespace information ... OK
* checking package dependencies ... INFO
Imports includes 38 non-default packages.
Importing from so many packages makes the package vulnerable to any of
them becoming unavailable. Move as many as possible to Suggests and
use conditionally.
* checking if this is a source package ... OK
* checking if there is a namespace ... OK
* checking for hidden files and directories ... OK
* checking for portable file names ... OK
* checking for sufficient/correct file permissions ... OK
* checking whether package ‘DspikeIn’ can be installed ... OK
* checking installed package size ... OK
* checking package directory ... OK
* checking ‘build’ directory ... OK
* checking DESCRIPTION meta-information ... OK
* checking top-level files ... OK
* checking for left-over files ... OK
* checking index information ... OK
* checking package subdirectories ... OK
* checking code files for non-ASCII characters ... OK
* checking R files for syntax errors ... OK
* checking whether the package can be loaded ... OK
* checking whether the package can be loaded with stated dependencies ... OK
* checking whether the package can be unloaded cleanly ... OK
* checking whether the namespace can be loaded with stated dependencies ... OK
* checking whether the namespace can be unloaded cleanly ... OK
* checking whether startup messages can be suppressed ... OK
* checking dependencies in R code ... OK
* checking S3 generic/method consistency ... OK
* checking replacement functions ... OK
* checking foreign function calls ... OK
* checking R code for possible problems ... OK
* checking Rd files ... OK
* checking Rd metadata ... OK
* checking Rd cross-references ... NOTE
Non-topic package-anchored link(s) in Rd file 'label.Rd':
‘[phyloseq:tax_table-methods]{phyloseq::tax_table()}’
See section 'Cross-references' in the 'Writing R Extensions' manual.
* checking for missing documentation entries ... OK
* checking for code/documentation mismatches ... OK
* checking Rd \usage sections ... OK
* checking Rd contents ... OK
* checking for unstated dependencies in examples ... OK
* checking contents of ‘data’ directory ... OK
* checking data for non-ASCII characters ... OK
* checking LazyData ... OK
* checking data for ASCII and uncompressed saves ... OK
* checking files in ‘vignettes’ ... OK
* checking examples ... OK
Examples with CPU (user + system) or elapsed time > 5s
user system elapsed
taxa_barplot 45.889 1.422 47.698
plot_core_microbiome_custom 29.430 0.813 30.467
RandomForest_selected 21.110 0.665 21.958
summ_ASV_OTUID 17.245 0.321 17.705
convert_to_absolute_counts 11.985 0.356 12.456
node_level_metrics 12.010 0.212 12.311
calculate_spike_percentage 8.630 0.746 9.544
Pre_processing_hashcodes 8.587 0.250 8.926
quadrant_plot 8.383 0.220 8.665
ridge_plot_it 6.640 0.179 6.868
random_subsample_WithReductionFactor 5.451 1.105 6.633
normalization_set 5.303 0.383 5.734
calculate_spikeIn_factors 4.943 0.179 5.180
alluvial_plot 4.874 0.228 5.158
* checking for unstated dependencies in ‘tests’ ... OK
* checking tests ...
Running ‘testthat.R’
OK
* checking for unstated dependencies in vignettes ... OK
* checking package vignettes ... OK
* checking running R code from vignettes ... SKIPPED
* checking re-building of vignette outputs ... SKIPPED
* checking PDF version of manual ... OK
* DONE
Status: 1 NOTE
See
‘/Users/biocbuild/bbs-3.23-bioc/meat/DspikeIn.Rcheck/00check.log’
for details.
DspikeIn.Rcheck/00install.out
############################################################################## ############################################################################## ### ### Running command: ### ### /Library/Frameworks/R.framework/Resources/bin/R CMD INSTALL DspikeIn ### ############################################################################## ############################################################################## * installing to library ‘/Library/Frameworks/R.framework/Versions/4.6-x86_64/Resources/library’ * installing *source* package ‘DspikeIn’ ... ** this is package ‘DspikeIn’ version ‘1.1.0’ ** using staged installation ** R ** data *** moving datasets to lazyload DB ** inst ** byte-compile and prepare package for lazy loading ** help *** installing help indices ** building package indices ** installing vignettes ** testing if installed package can be loaded from temporary location ** testing if installed package can be loaded from final location ** testing if installed package keeps a record of temporary installation path * DONE (DspikeIn)
DspikeIn.Rcheck/tests/testthat.Rout
R Under development (unstable) (2025-10-21 r88958) -- "Unsuffered Consequences"
Copyright (C) 2025 The R Foundation for Statistical Computing
Platform: x86_64-apple-darwin20
R is free software and comes with ABSOLUTELY NO WARRANTY.
You are welcome to redistribute it under certain conditions.
Type 'license()' or 'licence()' for distribution details.
R is a collaborative project with many contributors.
Type 'contributors()' for more information and
'citation()' on how to cite R or R packages in publications.
Type 'demo()' for some demos, 'help()' for on-line help, or
'help.start()' for an HTML browser interface to help.
Type 'q()' to quit R.
> # This file is part of the standard setup for testthat.
> # It is recommended that you do not modify it.
> #
> # Where should you do additional test configuration?
> # Learn more about the roles of various files in:
> # * https://r-pkgs.org/testing-design.html#sec-tests-files-overview
> # * https://testthat.r-lib.org/articles/special-files.html
>
> library(testthat)
> library(DspikeIn)
Thank you for using DspikeIn! 🎉
For support, 📧 contact: Mitra Ghotbi (mitra.ghotbi@gmail.com)
GitHub Repository: https://github.com/mghotbi/DspikeIn
🐛 Found a bug or have a suggestion? Open an issue:
https://github.com/mghotbi/DspikeIn/issues
>
> test_check("DspikeIn")
[ FAIL 0 | WARN 0 | SKIP 13 | PASS 0 ]
══ Skipped tests (13) ══════════════════════════════════════════════════════════
• On Bioconductor (13): 'test-Pre_processing_species.R:1:1',
'test-RandomForest_selected.R:1:1', 'test-calculate_spikeIn_factors.R:1:1',
'test-calculate_spike_percentage.R:1:1',
'test-calculate_summary_stats_table.R:1:1', 'test-conclusion.R:1:1',
'test-convert_to_absolute_counts.R:1:1',
'test-imbalance_calculate_list_average_scaling_factors.R:1:1',
'test-node_level_metrics.R:1:1', 'test-perform_and_visualize_DA.R:1:1',
'test-quadrant_plot.R:1:1', 'test-remove_zero_negative_count_samples.R:1:1',
'test-simulate_robustness.R:1:1'
[ FAIL 0 | WARN 0 | SKIP 13 | PASS 0 ]
>
> proc.time()
user system elapsed
14.094 0.938 15.196
DspikeIn.Rcheck/DspikeIn-Ex.timings
| name | user | system | elapsed | |
| AcceptableRange | 0.935 | 0.019 | 0.959 | |
| MG_shapes | 0.532 | 0.013 | 0.552 | |
| Pre_processing_hashcodes | 8.587 | 0.250 | 8.926 | |
| Pre_processing_species | 3.963 | 0.092 | 4.087 | |
| Pre_processing_species_list | 0.365 | 0.007 | 0.376 | |
| RandomForest_selected | 21.110 | 0.665 | 21.958 | |
| adjust_abundance_one_third | 1.022 | 0.085 | 1.122 | |
| adjusted_prevalence | 1.810 | 0.067 | 1.894 | |
| alluvial_plot | 4.874 | 0.228 | 5.158 | |
| calculate_list_average_scaling_factors | 0.051 | 0.004 | 0.056 | |
| calculate_spikeIn_factors | 4.943 | 0.179 | 5.180 | |
| calculate_spike_percentage | 8.630 | 0.746 | 9.544 | |
| calculate_spike_percentage_list | 0.823 | 0.087 | 0.927 | |
| calculate_summary_stats_table | 0.143 | 0.008 | 0.154 | |
| color_palette | 0.487 | 0.005 | 0.496 | |
| conclusion | 2.456 | 0.183 | 2.676 | |
| convert_categorical_to_factors | 0.297 | 0.026 | 0.325 | |
| convert_phyloseq_to_tse | 0.587 | 0.009 | 0.600 | |
| convert_to_absolute_counts | 11.985 | 0.356 | 12.456 | |
| convert_tse_to_phyloseq | 0.881 | 0.052 | 0.939 | |
| create_directory | 0.000 | 0.000 | 0.001 | |
| degree_network | 4.330 | 0.195 | 4.565 | |
| detect_common_asvs_taxa | 0.000 | 0.001 | 0.000 | |
| extract_neighbors | 0.023 | 0.005 | 0.029 | |
| filter_and_split_abundance | 2.777 | 0.084 | 2.881 | |
| get_long_format_data | 0.692 | 0.048 | 0.746 | |
| gm_mean | 0.000 | 0.000 | 0.001 | |
| imbalance_calculate_list_average_scaling_factors | 0.162 | 0.003 | 0.167 | |
| label | 0.040 | 0.001 | 0.042 | |
| metadata_full | 0.022 | 0.006 | 0.028 | |
| my_custom_theme | 0.493 | 0.008 | 0.507 | |
| node_level_metrics | 12.010 | 0.212 | 12.311 | |
| norm.DESeq | 3.332 | 0.127 | 3.477 | |
| normalization_set | 5.303 | 0.383 | 5.734 | |
| perform_and_visualize_DA | 0 | 0 | 0 | |
| physeq | 0.041 | 0.003 | 0.045 | |
| physeq_16SOTU | 0.216 | 0.091 | 0.309 | |
| physeq_ITSOTU | 0.233 | 0.108 | 0.344 | |
| plot_core_microbiome_custom | 29.430 | 0.813 | 30.467 | |
| plot_spikein_tree_diagnostic | 0.000 | 0.000 | 0.001 | |
| plotbar_abundance | 0.000 | 0.001 | 0.001 | |
| proportion_adj | 4.757 | 0.131 | 4.918 | |
| quadrant_plot | 8.383 | 0.220 | 8.665 | |
| random_subsample_WithReductionFactor | 5.451 | 1.105 | 6.633 | |
| randomsubsample_Trimmed_evenDepth | 3.049 | 0.162 | 3.232 | |
| regression_plot | 1.249 | 0.041 | 1.302 | |
| relativized_filtered_taxa | 0.357 | 0.004 | 0.362 | |
| remove_zero_negative_count_samples | 0.419 | 0.029 | 0.450 | |
| ridge_plot_it | 6.640 | 0.179 | 6.868 | |
| set_nf | 0.242 | 0.003 | 0.247 | |
| simulate_network_robustness | 3.196 | 0.100 | 3.324 | |
| summ_ASV_OTUID | 17.245 | 0.321 | 17.705 | |
| summ_count_phyloseq | 2.114 | 0.107 | 2.238 | |
| summ_phyloseq_sampleID | 3.063 | 1.035 | 4.175 | |
| taxa_barplot | 45.889 | 1.422 | 47.698 | |
| tidy_phyloseq_tse | 2.721 | 0.067 | 2.813 | |
| tse | 0.056 | 0.003 | 0.059 | |
| validate_spikein_clade | 0.686 | 0.026 | 0.732 | |
| weight_Network | 2.981 | 0.136 | 3.139 | |