| Back to Multiple platform build/check report for BioC 3.22: simplified long |
|
This page was generated on 2025-10-25 12:06 -0400 (Sat, 25 Oct 2025).
| Hostname | OS | Arch (*) | R version | Installed pkgs |
|---|---|---|---|---|
| nebbiolo2 | Linux (Ubuntu 24.04.3 LTS) | x86_64 | 4.5.1 Patched (2025-08-23 r88802) -- "Great Square Root" | 4901 |
| lconway | macOS 12.7.6 Monterey | x86_64 | 4.5.1 Patched (2025-09-10 r88807) -- "Great Square Root" | 4691 |
| kjohnson3 | macOS 13.7.7 Ventura | arm64 | 4.5.1 Patched (2025-09-10 r88807) -- "Great Square Root" | 4637 |
| taishan | Linux (openEuler 24.03 LTS) | aarch64 | 4.5.0 (2025-04-11) -- "How About a Twenty-Six" | 4658 |
| Click on any hostname to see more info about the system (e.g. compilers) (*) as reported by 'uname -p', except on Windows and Mac OS X | ||||
| Package 632/2361 | Hostname | OS / Arch | INSTALL | BUILD | CHECK | BUILD BIN | ||||||||
| DspikeIn 0.99.29 (landing page) Mitra Ghotbi
| nebbiolo2 | Linux (Ubuntu 24.04.3 LTS) / x86_64 | OK | OK | OK | |||||||||
| lconway | macOS 12.7.6 Monterey / x86_64 | OK | OK | OK | OK | |||||||||
| kjohnson3 | macOS 13.7.7 Ventura / arm64 | OK | OK | OK | OK | |||||||||
| taishan | Linux (openEuler 24.03 LTS) / aarch64 | OK | NA | NA | ||||||||||
|
To the developers/maintainers of the DspikeIn package: - Allow up to 24 hours (and sometimes 48 hours) for your latest push to git@git.bioconductor.org:packages/DspikeIn.git to reflect on this report. See Troubleshooting Build Report for more information. - Use the following Renviron settings to reproduce errors and warnings. - If 'R CMD check' started to fail recently on the Linux builder(s) over a missing dependency, add the missing dependency to 'Suggests:' in your DESCRIPTION file. See Renviron.bioc for more information. |
| Package: DspikeIn |
| Version: 0.99.29 |
| Command: /Library/Frameworks/R.framework/Resources/bin/R CMD check --install=check:DspikeIn.install-out.txt --library=/Library/Frameworks/R.framework/Resources/library --no-vignettes --timings DspikeIn_0.99.29.tar.gz |
| StartedAt: 2025-10-24 19:33:49 -0400 (Fri, 24 Oct 2025) |
| EndedAt: 2025-10-24 19:37:14 -0400 (Fri, 24 Oct 2025) |
| EllapsedTime: 204.5 seconds |
| RetCode: 0 |
| Status: OK |
| CheckDir: DspikeIn.Rcheck |
| Warnings: 0 |
##############################################################################
##############################################################################
###
### Running command:
###
### /Library/Frameworks/R.framework/Resources/bin/R CMD check --install=check:DspikeIn.install-out.txt --library=/Library/Frameworks/R.framework/Resources/library --no-vignettes --timings DspikeIn_0.99.29.tar.gz
###
##############################################################################
##############################################################################
* using log directory ‘/Users/biocbuild/bbs-3.22-bioc/meat/DspikeIn.Rcheck’
* using R version 4.5.1 Patched (2025-09-10 r88807)
* using platform: aarch64-apple-darwin20
* R was compiled by
Apple clang version 16.0.0 (clang-1600.0.26.6)
GNU Fortran (GCC) 14.2.0
* running under: macOS Ventura 13.7.7
* using session charset: UTF-8
* using option ‘--no-vignettes’
* checking for file ‘DspikeIn/DESCRIPTION’ ... OK
* checking extension type ... Package
* this is package ‘DspikeIn’ version ‘0.99.29’
* package encoding: UTF-8
* checking package namespace information ... OK
* checking package dependencies ... INFO
Imports includes 38 non-default packages.
Importing from so many packages makes the package vulnerable to any of
them becoming unavailable. Move as many as possible to Suggests and
use conditionally.
* checking if this is a source package ... OK
* checking if there is a namespace ... OK
* checking for hidden files and directories ... OK
* checking for portable file names ... OK
* checking for sufficient/correct file permissions ... OK
* checking whether package ‘DspikeIn’ can be installed ... OK
* checking installed package size ... OK
* checking package directory ... OK
* checking ‘build’ directory ... OK
* checking DESCRIPTION meta-information ... OK
* checking top-level files ... OK
* checking for left-over files ... OK
* checking index information ... OK
* checking package subdirectories ... OK
* checking code files for non-ASCII characters ... OK
* checking R files for syntax errors ... OK
* checking whether the package can be loaded ... OK
* checking whether the package can be loaded with stated dependencies ... OK
* checking whether the package can be unloaded cleanly ... OK
* checking whether the namespace can be loaded with stated dependencies ... OK
* checking whether the namespace can be unloaded cleanly ... OK
* checking whether startup messages can be suppressed ... OK
* checking dependencies in R code ... OK
* checking S3 generic/method consistency ... OK
* checking replacement functions ... OK
* checking foreign function calls ... OK
* checking R code for possible problems ... OK
* checking Rd files ... OK
* checking Rd metadata ... OK
* checking Rd cross-references ... NOTE
Non-topic package-anchored link(s) in Rd file 'label.Rd':
‘[phyloseq:tax_table-methods]{phyloseq::tax_table()}’
See section 'Cross-references' in the 'Writing R Extensions' manual.
* checking for missing documentation entries ... OK
* checking for code/documentation mismatches ... OK
* checking Rd \usage sections ... OK
* checking Rd contents ... OK
* checking for unstated dependencies in examples ... OK
* checking contents of ‘data’ directory ... OK
* checking data for non-ASCII characters ... OK
* checking LazyData ... OK
* checking data for ASCII and uncompressed saves ... OK
* checking files in ‘vignettes’ ... OK
* checking examples ... OK
Examples with CPU (user + system) or elapsed time > 5s
user system elapsed
taxa_barplot 11.422 0.884 12.350
plot_core_microbiome_custom 7.735 0.549 8.323
RandomForest_selected 6.909 0.217 7.146
summ_ASV_OTUID 5.385 0.337 5.735
convert_to_absolute_counts 5.108 0.190 5.308
* checking for unstated dependencies in ‘tests’ ... OK
* checking tests ...
Running ‘testthat.R’
OK
* checking for unstated dependencies in vignettes ... OK
* checking package vignettes ... OK
* checking running R code from vignettes ... SKIPPED
* checking re-building of vignette outputs ... SKIPPED
* checking PDF version of manual ... OK
* DONE
Status: 1 NOTE
See
‘/Users/biocbuild/bbs-3.22-bioc/meat/DspikeIn.Rcheck/00check.log’
for details.
DspikeIn.Rcheck/00install.out
############################################################################## ############################################################################## ### ### Running command: ### ### /Library/Frameworks/R.framework/Resources/bin/R CMD INSTALL DspikeIn ### ############################################################################## ############################################################################## * installing to library ‘/Library/Frameworks/R.framework/Versions/4.5-arm64/Resources/library’ * installing *source* package ‘DspikeIn’ ... ** this is package ‘DspikeIn’ version ‘0.99.29’ ** using staged installation ** R ** data *** moving datasets to lazyload DB ** inst ** byte-compile and prepare package for lazy loading ** help *** installing help indices ** building package indices ** installing vignettes ** testing if installed package can be loaded from temporary location ** testing if installed package can be loaded from final location ** testing if installed package keeps a record of temporary installation path * DONE (DspikeIn)
DspikeIn.Rcheck/tests/testthat.Rout
R version 4.5.1 Patched (2025-09-10 r88807) -- "Great Square Root"
Copyright (C) 2025 The R Foundation for Statistical Computing
Platform: aarch64-apple-darwin20
R is free software and comes with ABSOLUTELY NO WARRANTY.
You are welcome to redistribute it under certain conditions.
Type 'license()' or 'licence()' for distribution details.
R is a collaborative project with many contributors.
Type 'contributors()' for more information and
'citation()' on how to cite R or R packages in publications.
Type 'demo()' for some demos, 'help()' for on-line help, or
'help.start()' for an HTML browser interface to help.
Type 'q()' to quit R.
> # This file is part of the standard setup for testthat.
> # It is recommended that you do not modify it.
> #
> # Where should you do additional test configuration?
> # Learn more about the roles of various files in:
> # * https://r-pkgs.org/testing-design.html#sec-tests-files-overview
> # * https://testthat.r-lib.org/articles/special-files.html
>
> library(testthat)
> library(DspikeIn)
Thank you for using DspikeIn! 🎉
For support, 📧 contact: Mitra Ghotbi (mitra.ghotbi@gmail.com)
GitHub Repository: https://github.com/mghotbi/DspikeIn
🐛 Found a bug or have a suggestion? Open an issue:
https://github.com/mghotbi/DspikeIn/issues
>
> test_check("DspikeIn")
[ FAIL 0 | WARN 0 | SKIP 13 | PASS 0 ]
══ Skipped tests (13) ══════════════════════════════════════════════════════════
• On Bioconductor (13): 'test-Pre_processing_species.R:1:1',
'test-RandomForest_selected.R:1:1', 'test-calculate_spikeIn_factors.R:1:1',
'test-calculate_spike_percentage.R:1:1',
'test-calculate_summary_stats_table.R:1:1', 'test-conclusion.R:1:1',
'test-convert_to_absolute_counts.R:1:1',
'test-imbalance_calculate_list_average_scaling_factors.R:1:1',
'test-node_level_metrics.R:1:1', 'test-perform_and_visualize_DA.R:1:1',
'test-quadrant_plot.R:1:1', 'test-remove_zero_negative_count_samples.R:1:1',
'test-simulate_robustness.R:1:1'
[ FAIL 0 | WARN 0 | SKIP 13 | PASS 0 ]
>
> proc.time()
user system elapsed
4.813 0.206 5.019
DspikeIn.Rcheck/DspikeIn-Ex.timings
| name | user | system | elapsed | |
| AcceptableRange | 0.433 | 0.006 | 0.449 | |
| MG_shapes | 0.168 | 0.004 | 0.179 | |
| Pre_processing_hashcodes | 3.912 | 0.080 | 4.032 | |
| Pre_processing_species | 1.909 | 0.039 | 1.958 | |
| Pre_processing_species_list | 0.095 | 0.001 | 0.096 | |
| RandomForest_selected | 6.909 | 0.217 | 7.146 | |
| adjust_abundance_one_third | 0.743 | 0.038 | 0.786 | |
| adjusted_prevalence | 0.681 | 0.019 | 0.701 | |
| alluvial_plot | 1.844 | 0.062 | 1.906 | |
| calculate_list_average_scaling_factors | 0.013 | 0.000 | 0.013 | |
| calculate_spikeIn_factors | 1.619 | 0.051 | 1.671 | |
| calculate_spike_percentage | 3.479 | 0.326 | 3.813 | |
| calculate_spike_percentage_list | 0.239 | 0.035 | 0.274 | |
| calculate_summary_stats_table | 0.039 | 0.001 | 0.041 | |
| color_palette | 0.129 | 0.000 | 0.129 | |
| conclusion | 0.504 | 0.077 | 0.582 | |
| convert_categorical_to_factors | 0.114 | 0.009 | 0.123 | |
| convert_phyloseq_to_tse | 0.212 | 0.007 | 0.219 | |
| convert_to_absolute_counts | 5.108 | 0.190 | 5.308 | |
| convert_tse_to_phyloseq | 0.321 | 0.025 | 0.347 | |
| create_directory | 0.001 | 0.000 | 0.000 | |
| degree_network | 0.861 | 0.037 | 0.907 | |
| detect_common_asvs_taxa | 0 | 0 | 0 | |
| extract_neighbors | 0.007 | 0.001 | 0.008 | |
| filter_and_split_abundance | 1.396 | 0.036 | 1.435 | |
| get_long_format_data | 0.657 | 0.053 | 0.715 | |
| gm_mean | 0 | 0 | 0 | |
| imbalance_calculate_list_average_scaling_factors | 0.043 | 0.001 | 0.049 | |
| label | 0.011 | 0.001 | 0.012 | |
| metadata_full | 0.008 | 0.002 | 0.010 | |
| my_custom_theme | 0.189 | 0.003 | 0.197 | |
| node_level_metrics | 3.399 | 0.099 | 3.521 | |
| norm.DESeq | 0.967 | 0.098 | 1.066 | |
| normalization_set | 1.930 | 0.210 | 2.145 | |
| perform_and_visualize_DA | 0 | 0 | 0 | |
| physeq | 0.01 | 0.00 | 0.01 | |
| physeq_16SOTU | 0.110 | 0.029 | 0.138 | |
| physeq_ITSOTU | 0.104 | 0.035 | 0.139 | |
| plot_core_microbiome_custom | 7.735 | 0.549 | 8.323 | |
| plot_spikein_tree_diagnostic | 0 | 0 | 0 | |
| plotbar_abundance | 0.000 | 0.001 | 0.000 | |
| proportion_adj | 2.537 | 0.111 | 2.650 | |
| quadrant_plot | 2.307 | 0.099 | 2.410 | |
| random_subsample_WithReductionFactor | 1.686 | 0.537 | 2.228 | |
| randomsubsample_Trimmed_evenDepth | 1.103 | 0.096 | 1.205 | |
| regression_plot | 0.345 | 0.027 | 0.373 | |
| relativized_filtered_taxa | 0.156 | 0.014 | 0.170 | |
| remove_zero_negative_count_samples | 0.173 | 0.035 | 0.210 | |
| ridge_plot_it | 1.913 | 0.068 | 1.982 | |
| set_nf | 0.105 | 0.008 | 0.114 | |
| simulate_network_robustness | 1.049 | 0.020 | 1.071 | |
| summ_ASV_OTUID | 5.385 | 0.337 | 5.735 | |
| summ_count_phyloseq | 0.349 | 0.030 | 0.380 | |
| summ_phyloseq_sampleID | 1.101 | 0.404 | 1.510 | |
| taxa_barplot | 11.422 | 0.884 | 12.350 | |
| tidy_phyloseq_tse | 0.912 | 0.044 | 0.956 | |
| tse | 0.012 | 0.001 | 0.013 | |
| validate_spikein_clade | 0.195 | 0.007 | 0.204 | |
| weight_Network | 1.303 | 0.085 | 1.388 | |