Back to Multiple platform build/check report for BioC 3.21: simplified long |
|
This page was generated on 2025-02-03 12:38 -0500 (Mon, 03 Feb 2025).
Hostname | OS | Arch (*) | R version | Installed pkgs |
---|---|---|---|---|
nebbiolo1 | Linux (Ubuntu 24.04.1 LTS) | x86_64 | R Under development (unstable) (2025-01-20 r87609) -- "Unsuffered Consequences" | 4704 |
palomino7 | Windows Server 2022 Datacenter | x64 | R Under development (unstable) (2025-01-21 r87610 ucrt) -- "Unsuffered Consequences" | 4467 |
lconway | macOS 12.7.1 Monterey | x86_64 | R Under development (unstable) (2025-01-22 r87618) -- "Unsuffered Consequences" | 4478 |
Click on any hostname to see more info about the system (e.g. compilers) (*) as reported by 'uname -p', except on Windows and Mac OS X |
Package 436/2289 | Hostname | OS / Arch | INSTALL | BUILD | CHECK | BUILD BIN | ||||||||
CoSIA 1.7.0 (landing page) Amanda D. Clark
| nebbiolo1 | Linux (Ubuntu 24.04.1 LTS) / x86_64 | OK | OK | TIMEOUT | |||||||||
palomino7 | Windows Server 2022 Datacenter / x64 | OK | OK | TIMEOUT | OK | |||||||||
lconway | macOS 12.7.1 Monterey / x86_64 | OK | OK | OK | OK | |||||||||
To the developers/maintainers of the CoSIA package: - Allow up to 24 hours (and sometimes 48 hours) for your latest push to git@git.bioconductor.org:packages/CoSIA.git to reflect on this report. See Troubleshooting Build Report for more information. - Use the following Renviron settings to reproduce errors and warnings. - If 'R CMD check' started to fail recently on the Linux builder(s) over a missing dependency, add the missing dependency to 'Suggests:' in your DESCRIPTION file. See Renviron.bioc for more information. |
Package: CoSIA |
Version: 1.7.0 |
Command: /Library/Frameworks/R.framework/Resources/bin/R CMD check --install=check:CoSIA.install-out.txt --library=/Library/Frameworks/R.framework/Resources/library --no-vignettes --timings CoSIA_1.7.0.tar.gz |
StartedAt: 2025-02-02 19:40:56 -0500 (Sun, 02 Feb 2025) |
EndedAt: 2025-02-02 20:07:24 -0500 (Sun, 02 Feb 2025) |
EllapsedTime: 1587.8 seconds |
RetCode: 0 |
Status: OK |
CheckDir: CoSIA.Rcheck |
Warnings: 0 |
############################################################################## ############################################################################## ### ### Running command: ### ### /Library/Frameworks/R.framework/Resources/bin/R CMD check --install=check:CoSIA.install-out.txt --library=/Library/Frameworks/R.framework/Resources/library --no-vignettes --timings CoSIA_1.7.0.tar.gz ### ############################################################################## ############################################################################## * using log directory ‘/Users/biocbuild/bbs-3.21-bioc/meat/CoSIA.Rcheck’ * using R Under development (unstable) (2025-01-22 r87618) * using platform: x86_64-apple-darwin20 * R was compiled by Apple clang version 14.0.0 (clang-1400.0.29.202) GNU Fortran (GCC) 14.2.0 * running under: macOS Monterey 12.7.6 * using session charset: UTF-8 * using option ‘--no-vignettes’ * checking for file ‘CoSIA/DESCRIPTION’ ... OK * checking extension type ... Package * this is package ‘CoSIA’ version ‘1.7.0’ * package encoding: UTF-8 * checking package namespace information ... OK * checking package dependencies ... OK * checking if this is a source package ... OK * checking if there is a namespace ... OK * checking for hidden files and directories ... OK * checking for portable file names ... OK * checking for sufficient/correct file permissions ... OK * checking whether package ‘CoSIA’ can be installed ... OK * checking installed package size ... OK * checking package directory ... OK * checking ‘build’ directory ... OK * checking DESCRIPTION meta-information ... NOTE License stub is invalid DCF. * checking top-level files ... OK * checking for left-over files ... OK * checking index information ... OK * checking package subdirectories ... OK * checking code files for non-ASCII characters ... OK * checking R files for syntax errors ... OK * checking whether the package can be loaded ... OK * checking whether the package can be loaded with stated dependencies ... OK * checking whether the package can be unloaded cleanly ... OK * checking whether the namespace can be loaded with stated dependencies ... OK * checking whether the namespace can be unloaded cleanly ... OK * checking dependencies in R code ... OK * checking S3 generic/method consistency ... OK * checking replacement functions ... OK * checking foreign function calls ... OK * checking R code for possible problems ... OK * checking Rd files ... OK * checking Rd metadata ... OK * checking Rd cross-references ... OK * checking for missing documentation entries ... OK * checking for code/documentation mismatches ... OK * checking Rd \usage sections ... OK * checking Rd contents ... OK * checking for unstated dependencies in examples ... OK * checking files in ‘vignettes’ ... OK * checking examples ... OK Examples with CPU (user + system) or elapsed time > 5s user system elapsed plotCVGEx-CoSIAn-method 352.295 20.177 375.554 plotCVGEx 311.780 14.151 331.258 getTissues 105.434 3.817 110.075 plotSpeciesGEx-CoSIAn-method 95.860 4.211 100.942 plotDSGEx 92.812 2.618 103.691 plotTissueGEx-CoSIAn-method 86.971 1.504 89.253 plotTissueGEx 85.844 1.540 89.460 plotDSGEx-CoSIAn-method 83.864 2.251 88.403 plotSpeciesGEx 84.508 1.217 86.514 getGEx-CoSIAn-method 23.735 1.522 25.683 getGExMetrics-CoSIAn-method 19.809 0.633 20.780 getGEx 18.128 0.462 18.865 getGExMetrics 17.634 0.422 18.404 * checking for unstated dependencies in vignettes ... OK * checking package vignettes ... OK * checking running R code from vignettes ... SKIPPED * checking re-building of vignette outputs ... SKIPPED * checking PDF version of manual ... OK * DONE Status: 1 NOTE See ‘/Users/biocbuild/bbs-3.21-bioc/meat/CoSIA.Rcheck/00check.log’ for details.
CoSIA.Rcheck/00install.out
############################################################################## ############################################################################## ### ### Running command: ### ### /Library/Frameworks/R.framework/Resources/bin/R CMD INSTALL CoSIA ### ############################################################################## ############################################################################## * installing to library ‘/Library/Frameworks/R.framework/Versions/4.5-x86_64/Resources/library’ * installing *source* package ‘CoSIA’ ... ** this is package ‘CoSIA’ version ‘1.7.0’ ** using staged installation ** R ** inst ** byte-compile and prepare package for lazy loading ** help *** installing help indices ** building package indices ** installing vignettes ** testing if installed package can be loaded from temporary location ** testing if installed package can be loaded from final location ** testing if installed package keeps a record of temporary installation path * DONE (CoSIA)
CoSIA.Rcheck/CoSIA-Ex.timings
name | user | system | elapsed | |
CoSIA-constructor | 0.003 | 0.000 | 0.004 | |
getConversion-CoSIAn-method | 4.709 | 0.160 | 4.906 | |
getConversion | 2.575 | 0.064 | 2.660 | |
getGEx-CoSIAn-method | 23.735 | 1.522 | 25.683 | |
getGEx | 18.128 | 0.462 | 18.865 | |
getGExMetrics-CoSIAn-method | 19.809 | 0.633 | 20.780 | |
getGExMetrics | 17.634 | 0.422 | 18.404 | |
getTissues | 105.434 | 3.817 | 110.075 | |
plotCVGEx-CoSIAn-method | 352.295 | 20.177 | 375.554 | |
plotCVGEx | 311.780 | 14.151 | 331.258 | |
plotDSGEx-CoSIAn-method | 83.864 | 2.251 | 88.403 | |
plotDSGEx | 92.812 | 2.618 | 103.691 | |
plotSpeciesGEx-CoSIAn-method | 95.860 | 4.211 | 100.942 | |
plotSpeciesGEx | 84.508 | 1.217 | 86.514 | |
plotTissueGEx-CoSIAn-method | 86.971 | 1.504 | 89.253 | |
plotTissueGEx | 85.844 | 1.540 | 89.460 | |
viewCoSIAn-CoSIAn-method | 0.002 | 0.001 | 0.002 | |
viewCoSIAn | 0.001 | 0.000 | 0.002 | |