Back to Multiple platform build/check report for BioC 3.23:   simplified   long
AB[C]DEFGHIJKLMNOPQRSTUVWXYZ

This page was generated on 2025-11-24 11:39 -0500 (Mon, 24 Nov 2025).

HostnameOSArch (*)R versionInstalled pkgs
nebbiolo1Linux (Ubuntu 24.04.3 LTS)x86_64R Under development (unstable) (2025-10-20 r88955) -- "Unsuffered Consequences" 4829
lconwaymacOS 12.7.6 Montereyx86_64R Under development (unstable) (2025-10-21 r88958) -- "Unsuffered Consequences" 4605
kjohnson3macOS 13.7.7 Venturaarm64R Under development (unstable) (2025-11-04 r88984) -- "Unsuffered Consequences" 4568
Click on any hostname to see more info about the system (e.g. compilers)      (*) as reported by 'uname -p', except on Windows and Mac OS X

Package 448/2327HostnameOS / ArchINSTALLBUILDCHECKBUILD BIN
CoSIA 1.11.1  (landing page)
Anthony B. Crumley
Snapshot Date: 2025-11-23 13:40 -0500 (Sun, 23 Nov 2025)
git_url: https://git.bioconductor.org/packages/CoSIA
git_branch: devel
git_last_commit: 3d2338a
git_last_commit_date: 2025-11-05 11:45:05 -0500 (Wed, 05 Nov 2025)
nebbiolo1Linux (Ubuntu 24.04.3 LTS) / x86_64  OK    OK    TIMEOUT  
lconwaymacOS 12.7.6 Monterey / x86_64  OK    OK    TIMEOUT    OK  
kjohnson3macOS 13.7.7 Ventura / arm64  OK    OK    OK    OK  UNNEEDED, same version is already published


CHECK results for CoSIA on kjohnson3

To the developers/maintainers of the CoSIA package:
- Allow up to 24 hours (and sometimes 48 hours) for your latest push to git@git.bioconductor.org:packages/CoSIA.git to reflect on this report. See Troubleshooting Build Report for more information.
- Use the following Renviron settings to reproduce errors and warnings.
- If 'R CMD check' started to fail recently on the Linux builder(s) over a missing dependency, add the missing dependency to 'Suggests:' in your DESCRIPTION file. See Renviron.bioc for more information.

raw results


Summary

Package: CoSIA
Version: 1.11.1
Command: /Library/Frameworks/R.framework/Resources/bin/R CMD check --install=check:CoSIA.install-out.txt --library=/Library/Frameworks/R.framework/Resources/library --no-vignettes --timings CoSIA_1.11.1.tar.gz
StartedAt: 2025-11-23 19:15:58 -0500 (Sun, 23 Nov 2025)
EndedAt: 2025-11-23 19:47:10 -0500 (Sun, 23 Nov 2025)
EllapsedTime: 1871.9 seconds
RetCode: 0
Status:   OK  
CheckDir: CoSIA.Rcheck
Warnings: 0

Command output

##############################################################################
##############################################################################
###
### Running command:
###
###   /Library/Frameworks/R.framework/Resources/bin/R CMD check --install=check:CoSIA.install-out.txt --library=/Library/Frameworks/R.framework/Resources/library --no-vignettes --timings CoSIA_1.11.1.tar.gz
###
##############################################################################
##############################################################################


* using log directory ‘/Users/biocbuild/bbs-3.23-bioc/meat/CoSIA.Rcheck’
* using R Under development (unstable) (2025-11-04 r88984)
* using platform: aarch64-apple-darwin20
* R was compiled by
    Apple clang version 16.0.0 (clang-1600.0.26.6)
    GNU Fortran (GCC) 14.2.0
* running under: macOS Ventura 13.7.8
* using session charset: UTF-8
* using option ‘--no-vignettes’
* checking for file ‘CoSIA/DESCRIPTION’ ... OK
* checking extension type ... Package
* this is package ‘CoSIA’ version ‘1.11.1’
* package encoding: UTF-8
* checking package namespace information ... OK
* checking package dependencies ... OK
* checking if this is a source package ... OK
* checking if there is a namespace ... OK
* checking for hidden files and directories ... OK
* checking for portable file names ... OK
* checking for sufficient/correct file permissions ... OK
* checking whether package ‘CoSIA’ can be installed ... OK
* checking installed package size ... OK
* checking package directory ... OK
* checking ‘build’ directory ... OK
* checking DESCRIPTION meta-information ... NOTE
License stub is invalid DCF.
* checking top-level files ... OK
* checking for left-over files ... OK
* checking index information ... OK
* checking package subdirectories ... OK
* checking code files for non-ASCII characters ... OK
* checking R files for syntax errors ... OK
* checking whether the package can be loaded ... OK
* checking whether the package can be loaded with stated dependencies ... OK
* checking whether the package can be unloaded cleanly ... OK
* checking whether the namespace can be loaded with stated dependencies ... OK
* checking whether the namespace can be unloaded cleanly ... OK
* checking dependencies in R code ... OK
* checking S3 generic/method consistency ... OK
* checking replacement functions ... OK
* checking foreign function calls ... OK
* checking R code for possible problems ... OK
* checking Rd files ... OK
* checking Rd metadata ... OK
* checking Rd cross-references ... OK
* checking for missing documentation entries ... OK
* checking for code/documentation mismatches ... OK
* checking Rd \usage sections ... OK
* checking Rd contents ... OK
* checking for unstated dependencies in examples ... OK
* checking files in ‘vignettes’ ... OK
* checking examples ... OK
Examples with CPU (user + system) or elapsed time > 5s
                                user system elapsed
plotCVGEx-CoSIAn-method      379.567  7.115 400.645
plotCVGEx                    356.290  6.912 374.287
plotDSGEx-CoSIAn-method      135.368  3.051 143.722
plotSpeciesGEx-CoSIAn-method 132.697  1.613 139.657
plotSpeciesGEx               132.883  1.235 137.611
getTissues                   131.990  1.716 136.498
plotTissueGEx-CoSIAn-method  127.318  1.105 130.670
plotDSGEx                    125.263  1.257 128.967
plotTissueGEx                122.461  0.957 125.984
getGEx-CoSIAn-method          25.235  0.331  26.665
getGExMetrics                 24.174  0.488  25.494
getGExMetrics-CoSIAn-method   23.853  0.347  24.923
getGEx                        23.529  0.307  24.461
* checking for unstated dependencies in vignettes ... OK
* checking package vignettes ... OK
* checking running R code from vignettes ... SKIPPED
* checking re-building of vignette outputs ... SKIPPED
* checking PDF version of manual ... OK
* DONE

Status: 1 NOTE
See
  ‘/Users/biocbuild/bbs-3.23-bioc/meat/CoSIA.Rcheck/00check.log’
for details.


Installation output

CoSIA.Rcheck/00install.out

##############################################################################
##############################################################################
###
### Running command:
###
###   /Library/Frameworks/R.framework/Resources/bin/R CMD INSTALL CoSIA
###
##############################################################################
##############################################################################


* installing to library ‘/Library/Frameworks/R.framework/Versions/4.6-arm64/Resources/library’
* installing *source* package ‘CoSIA’ ...
** this is package ‘CoSIA’ version ‘1.11.1’
** using staged installation
** R
** inst
** byte-compile and prepare package for lazy loading
** help
*** installing help indices
** building package indices
** installing vignettes
** testing if installed package can be loaded from temporary location
** testing if installed package can be loaded from final location
** testing if installed package keeps a record of temporary installation path
* DONE (CoSIA)

Tests output


Example timings

CoSIA.Rcheck/CoSIA-Ex.timings

nameusersystemelapsed
CoSIA-constructor0.0010.0010.002
getConversion-CoSIAn-method2.0880.0522.295
getConversion1.0600.0271.166
getGEx-CoSIAn-method25.235 0.33126.665
getGEx23.529 0.30724.461
getGExMetrics-CoSIAn-method23.853 0.34724.923
getGExMetrics24.174 0.48825.494
getTissues131.990 1.716136.498
plotCVGEx-CoSIAn-method379.567 7.115400.645
plotCVGEx356.290 6.912374.287
plotDSGEx-CoSIAn-method135.368 3.051143.722
plotDSGEx125.263 1.257128.967
plotSpeciesGEx-CoSIAn-method132.697 1.613139.657
plotSpeciesGEx132.883 1.235137.611
plotTissueGEx-CoSIAn-method127.318 1.105130.670
plotTissueGEx122.461 0.957125.984
viewCoSIAn-CoSIAn-method0.0010.0000.000
viewCoSIAn000