Back to Multiple platform build/check report for BioC 3.21:   simplified   long
AB[C]DEFGHIJKLMNOPQRSTUVWXYZ

This page was generated on 2025-01-28 11:47 -0500 (Tue, 28 Jan 2025).

HostnameOSArch (*)R versionInstalled pkgs
nebbiolo1Linux (Ubuntu 24.04.1 LTS)x86_64R Under development (unstable) (2025-01-20 r87609) -- "Unsuffered Consequences" 4659
palomino7Windows Server 2022 Datacenterx64R Under development (unstable) (2025-01-21 r87610 ucrt) -- "Unsuffered Consequences" 4454
lconwaymacOS 12.7.1 Montereyx86_64R Under development (unstable) (2025-01-22 r87618) -- "Unsuffered Consequences" 4465
kjohnson3macOS 13.7.1 Venturaarm64R Under development (unstable) (2025-01-20 r87609) -- "Unsuffered Consequences" 4419
kunpeng2Linux (openEuler 22.03 LTS-SP1)aarch64R Under development (unstable) (2024-11-24 r87369) -- "Unsuffered Consequences" 4409
Click on any hostname to see more info about the system (e.g. compilers)      (*) as reported by 'uname -p', except on Windows and Mac OS X

Package 328/2286HostnameOS / ArchINSTALLBUILDCHECKBUILD BIN
ChIPanalyser 1.29.0  (landing page)
Patrick C.N. Martin
Snapshot Date: 2025-01-27 13:40 -0500 (Mon, 27 Jan 2025)
git_url: https://git.bioconductor.org/packages/ChIPanalyser
git_branch: devel
git_last_commit: 0c32095
git_last_commit_date: 2024-10-29 10:22:00 -0500 (Tue, 29 Oct 2024)
nebbiolo1Linux (Ubuntu 24.04.1 LTS) / x86_64  OK    OK    OK  UNNEEDED, same version is already published
palomino7Windows Server 2022 Datacenter / x64  OK    OK    OK    OK  UNNEEDED, same version is already published
lconwaymacOS 12.7.1 Monterey / x86_64  OK    OK    OK    OK  NO, package depends on 'rtracklayer' which is only available as a source package that needs compilation
kjohnson3macOS 13.7.1 Ventura / arm64  OK    OK    OK    OK  NO, package depends on 'rtracklayer' which is only available as a source package that needs compilation
kunpeng2Linux (openEuler 22.03 LTS-SP1) / aarch64  OK    OK    OK  


CHECK results for ChIPanalyser on kunpeng2

To the developers/maintainers of the ChIPanalyser package:
- Allow up to 24 hours (and sometimes 48 hours) for your latest push to git@git.bioconductor.org:packages/ChIPanalyser.git to reflect on this report. See Troubleshooting Build Report for more information.
- Use the following Renviron settings to reproduce errors and warnings.
- If 'R CMD check' started to fail recently on the Linux builder(s) over a missing dependency, add the missing dependency to 'Suggests:' in your DESCRIPTION file. See Renviron.bioc for more information.
- See Martin Grigorov's blog post for how to debug Linux ARM64 related issues on a x86_64 host.

raw results


Summary

Package: ChIPanalyser
Version: 1.29.0
Command: /home/biocbuild/R/R/bin/R CMD check --install=check:ChIPanalyser.install-out.txt --library=/home/biocbuild/R/R/site-library --no-vignettes --timings ChIPanalyser_1.29.0.tar.gz
StartedAt: 2025-01-28 09:07:05 -0000 (Tue, 28 Jan 2025)
EndedAt: 2025-01-28 09:13:53 -0000 (Tue, 28 Jan 2025)
EllapsedTime: 407.3 seconds
RetCode: 0
Status:   OK  
CheckDir: ChIPanalyser.Rcheck
Warnings: 0

Command output

##############################################################################
##############################################################################
###
### Running command:
###
###   /home/biocbuild/R/R/bin/R CMD check --install=check:ChIPanalyser.install-out.txt --library=/home/biocbuild/R/R/site-library --no-vignettes --timings ChIPanalyser_1.29.0.tar.gz
###
##############################################################################
##############################################################################


* using log directory ‘/home/biocbuild/bbs-3.21-bioc/meat/ChIPanalyser.Rcheck’
* using R Under development (unstable) (2024-11-24 r87369)
* using platform: aarch64-unknown-linux-gnu
* R was compiled by
    aarch64-unknown-linux-gnu-gcc (GCC) 14.2.0
    GNU Fortran (GCC) 14.2.0
* running under: openEuler 24.03 (LTS)
* using session charset: UTF-8
* using option ‘--no-vignettes’
* checking for file ‘ChIPanalyser/DESCRIPTION’ ... OK
* checking extension type ... Package
* this is package ‘ChIPanalyser’ version ‘1.29.0’
* package encoding: UTF-8
* checking package namespace information ... OK
* checking package dependencies ... OK
* checking if this is a source package ... OK
* checking if there is a namespace ... OK
* checking for hidden files and directories ... OK
* checking for portable file names ... OK
* checking for sufficient/correct file permissions ... OK
* checking whether package ‘ChIPanalyser’ can be installed ... OK
* checking installed package size ... OK
* checking package directory ... OK
* checking ‘build’ directory ... OK
* checking DESCRIPTION meta-information ... OK
* checking top-level files ... OK
* checking for left-over files ... OK
* checking index information ... OK
* checking package subdirectories ... OK
* checking code files for non-ASCII characters ... OK
* checking R files for syntax errors ... OK
* checking whether the package can be loaded ... OK
* checking whether the package can be loaded with stated dependencies ... OK
* checking whether the package can be unloaded cleanly ... OK
* checking whether the namespace can be loaded with stated dependencies ... OK
* checking whether the namespace can be unloaded cleanly ... OK
* checking loading without being on the library search path ... OK
* checking dependencies in R code ... OK
* checking S3 generic/method consistency ... OK
* checking replacement functions ... OK
* checking foreign function calls ... OK
* checking R code for possible problems ... OK
* checking Rd files ... NOTE
checkRd: (-1) data.Rd:24-25: Lost braces in \enumerate; meant \describe ?
checkRd: (-1) data.Rd:26-27: Lost braces in \enumerate; meant \describe ?
checkRd: (-1) data.Rd:28-31: Lost braces in \enumerate; meant \describe ?
checkRd: (-1) data.Rd:32-33: Lost braces in \enumerate; meant \describe ?
checkRd: (-1) data.Rd:34-35: Lost braces in \enumerate; meant \describe ?
checkRd: (-1) evolve.Rd:91-92: Lost braces in \itemize; \value handles \item{}{} directly
checkRd: (-1) evolve.Rd:93-94: Lost braces in \itemize; \value handles \item{}{} directly
checkRd: (-1) evolve.Rd:95-96: Lost braces in \itemize; \value handles \item{}{} directly
checkRd: (-1) generateStartingPopulation.Rd:31-39: Lost braces in \enumerate; meant \describe ?
checkRd: (-1) generateStartingPopulation.Rd:40-44: Lost braces in \enumerate; meant \describe ?
* checking Rd metadata ... OK
* checking Rd cross-references ... NOTE
Found the following Rd file(s) with Rd \link{} targets missing package
anchors:
  computeChIPProfile.Rd: GRanges
Please provide package anchors for all Rd \link{} targets not in the
package itself and the base packages.
* checking for missing documentation entries ... OK
* checking for code/documentation mismatches ... OK
* checking Rd \usage sections ... OK
* checking Rd contents ... OK
* checking for unstated dependencies in examples ... OK
* checking contents of ‘data’ directory ... OK
* checking data for non-ASCII characters ... OK
* checking LazyData ... OK
* checking data for ASCII and uncompressed saves ... OK
* checking files in ‘vignettes’ ... OK
* checking examples ... OK
* checking for unstated dependencies in ‘tests’ ... OK
* checking tests ...
  Running ‘runTests.R’
 OK
* checking for unstated dependencies in vignettes ... OK
* checking package vignettes ... OK
* checking running R code from vignettes ... SKIPPED
* checking re-building of vignette outputs ... SKIPPED
* checking PDF version of manual ... OK
* DONE

Status: 2 NOTEs
See
  ‘/home/biocbuild/bbs-3.21-bioc/meat/ChIPanalyser.Rcheck/00check.log’
for details.


Installation output

ChIPanalyser.Rcheck/00install.out

##############################################################################
##############################################################################
###
### Running command:
###
###   /home/biocbuild/R/R/bin/R CMD INSTALL ChIPanalyser
###
##############################################################################
##############################################################################


* installing to library ‘/home/biocbuild/R/R-4.5.0-devel_2024-11-24/site-library’
* installing *source* package ‘ChIPanalyser’ ...
** using staged installation
** R
** data
*** moving datasets to lazyload DB
** inst
** byte-compile and prepare package for lazy loading
Creating a new generic function for ‘drop’ in package ‘ChIPanalyser’
** help
*** installing help indices
** building package indices
** installing vignettes
** testing if installed package can be loaded from temporary location
** testing if installed package can be loaded from final location
** testing if installed package keeps a record of temporary installation path
* DONE (ChIPanalyser)

Tests output

ChIPanalyser.Rcheck/tests/runTests.Rout


R Under development (unstable) (2024-11-24 r87369) -- "Unsuffered Consequences"
Copyright (C) 2024 The R Foundation for Statistical Computing
Platform: aarch64-unknown-linux-gnu

R is free software and comes with ABSOLUTELY NO WARRANTY.
You are welcome to redistribute it under certain conditions.
Type 'license()' or 'licence()' for distribution details.

R is a collaborative project with many contributors.
Type 'contributors()' for more information and
'citation()' on how to cite R or R packages in publications.

Type 'demo()' for some demos, 'help()' for on-line help, or
'help.start()' for an HTML browser interface to help.
Type 'q()' to quit R.

> BiocGenerics:::testPackage("ChIPanalyser")

Attaching package: 'generics'

The following objects are masked from 'package:base':

    as.difftime, as.factor, as.ordered, intersect, is.element, setdiff,
    setequal, union


Attaching package: 'BiocGenerics'

The following objects are masked from 'package:stats':

    IQR, mad, sd, var, xtabs

The following objects are masked from 'package:base':

    Filter, Find, Map, Position, Reduce, anyDuplicated, aperm, append,
    as.data.frame, basename, cbind, colnames, dirname, do.call,
    duplicated, eval, evalq, get, grep, grepl, is.unsorted, lapply,
    mapply, match, mget, order, paste, pmax, pmax.int, pmin, pmin.int,
    rank, rbind, rownames, sapply, saveRDS, table, tapply, unique,
    unsplit, which.max, which.min


Attaching package: 'S4Vectors'

The following object is masked from 'package:utils':

    findMatches

The following objects are masked from 'package:base':

    I, expand.grid, unname


Attaching package: 'Biostrings'

The following object is masked from 'package:base':

    strsplit


Attaching package: 'rtracklayer'

The following object is masked from 'package:BiocIO':

    FileForFormat


Attaching package: 'ChIPanalyser'

The following object is masked from 'package:IRanges':

    drop

The following object is masked from 'package:base':

    drop

Loading required package: BSgenome.Dmelanogaster.UCSC.dm6


RUNIT TEST PROTOCOL -- Tue Jan 28 09:13:45 2025 
*********************************************** 
Number of test functions: 0 
Number of errors: 0 
Number of failures: 0 

 
1 Test Suite : 
ChIPanalyser RUnit Tests - 0 test functions, 0 errors, 0 failures
Number of test functions: 0 
Number of errors: 0 
Number of failures: 0 
> 
> proc.time()
   user  system elapsed 
 76.299   5.256  81.842 

Example timings

ChIPanalyser.Rcheck/ChIPanalyser-Ex.timings

nameusersystemelapsed
BPFrequency1.1060.0121.121
BPFrequency_-0.0030.0000.002
ChIPScore-class0.0010.0000.001
ChIPanalyser-package000
DNASequenceLength0.0020.0000.002
GRList-class0.0010.0000.000
PFMFormat0.2150.0200.235
PFMFormat_0.0630.0040.068
PWMThreshold0.0050.0080.014
PWMThreshold_-0.0130.0000.014
PWMpseudocount0.0130.0000.013
PWMpseudocount_-0.0090.0040.013
PositionFrequencyMatrix0.0560.0120.067
PositionFrequencyMatrix_-0.0310.0040.035
PositionWeightMatrix0.0580.0080.067
PositionWeightMatrix_-0.0160.0040.020
averageExpPWMScore0.0470.0200.067
backgroundSignal0.0080.0030.012
backgroundSignal_-0.0160.0000.016
boundMolecules0.0110.0000.011
boundMolecules_-0.0110.0040.015
chipMean0.0120.0000.012
chipMean_-0.0120.0000.011
chipSd0.0120.0000.012
chipSd_-0.0120.0000.012
chipSmooth0.0090.0030.012
chipSmooth_-0.0130.0000.012
computeChIPProfile0.0020.0000.002
computeGenomeWideScores000
computeOccupancy0.0020.0000.002
computeOptimal0.0020.0000.002
computePWMScore0.0100.0040.015
data0.0010.0000.002
drop0.0630.0000.064
evolve0.0000.0010.001
generateStartingPopulation0.0240.0020.026
genomicProfiles-class0.0010.0000.001
genomicProfiles0.080.000.08
genomicProfilesInternal-class0.0010.0000.001
getHighestFitnessSolutions0.0020.0000.002
getTestingData4.6860.0324.728
getTrainingData1.5930.0161.614
lambdaPWM0.0130.0000.013
lambdaPWM_0.0140.0000.013
loci-class0.0010.0000.000
loci1.5620.0361.602
lociWidth0.0130.0000.012
lociWidth_0.0130.0000.012
maxPWMScore0.0020.0000.002
maxSignal0.0110.0000.011
maxSignal_-0.0120.0000.011
minPWMScore0.0020.0000.002
naturalLog0.0130.0000.012
naturalLog_-0.0130.0000.012
noOfSites0.0130.0000.013
noOfSites_-0.0120.0000.013
noiseFilter0.0120.0000.012
noiseFilter_0.0130.0000.012
nos-class0.0010.0000.001
parameterOptions-class0.0000.0000.001
parameterOptions0.0140.0000.013
ploidy0.0120.0000.011
ploidy_-0.0110.0000.011
plotOccupancyProfile0.0020.0000.002
plotOptimalHeatMaps0.0020.0000.002
processingChIP1.5580.0561.618
profileAccuracyEstimate0.0000.0020.002
removeBackground0.0100.0020.011
removeBackground_-0.0120.0000.012
scores1.5780.0321.614
searchSites0.0020.0000.002
setChromatinStates2.2690.0002.276
singleRun0.0000.0020.001
splitData1.5750.0621.640
stepSize0.0120.0000.011
stepSize_-0.0120.0000.012
strandRule0.0130.0000.013
strandRule_-0.0130.0000.013
whichstrand0.0130.0000.013
whichstrand_-0.0130.0000.013