| Back to Multiple platform build/check report for BioC 3.22: simplified long |
|
This page was generated on 2025-10-24 12:04 -0400 (Fri, 24 Oct 2025).
| Hostname | OS | Arch (*) | R version | Installed pkgs |
|---|---|---|---|---|
| nebbiolo2 | Linux (Ubuntu 24.04.3 LTS) | x86_64 | 4.5.1 Patched (2025-08-23 r88802) -- "Great Square Root" | 4898 |
| lconway | macOS 12.7.6 Monterey | x86_64 | 4.5.1 Patched (2025-09-10 r88807) -- "Great Square Root" | 4688 |
| kjohnson3 | macOS 13.7.7 Ventura | arm64 | 4.5.1 Patched (2025-09-10 r88807) -- "Great Square Root" | 4634 |
| taishan | Linux (openEuler 24.03 LTS) | aarch64 | 4.5.0 (2025-04-11) -- "How About a Twenty-Six" | 4658 |
| Click on any hostname to see more info about the system (e.g. compilers) (*) as reported by 'uname -p', except on Windows and Mac OS X | ||||
| Package 346/2359 | Hostname | OS / Arch | INSTALL | BUILD | CHECK | BUILD BIN | ||||||||
| ChIPanalyser 1.31.0 (landing page) Patrick C.N. Martin
| nebbiolo2 | Linux (Ubuntu 24.04.3 LTS) / x86_64 | OK | OK | OK | |||||||||
| lconway | macOS 12.7.6 Monterey / x86_64 | OK | OK | OK | OK | |||||||||
| kjohnson3 | macOS 13.7.7 Ventura / arm64 | OK | OK | OK | OK | |||||||||
| taishan | Linux (openEuler 24.03 LTS) / aarch64 | OK | OK | OK | ||||||||||
|
To the developers/maintainers of the ChIPanalyser package: - Allow up to 24 hours (and sometimes 48 hours) for your latest push to git@git.bioconductor.org:packages/ChIPanalyser.git to reflect on this report. See Troubleshooting Build Report for more information. - Use the following Renviron settings to reproduce errors and warnings. - If 'R CMD check' started to fail recently on the Linux builder(s) over a missing dependency, add the missing dependency to 'Suggests:' in your DESCRIPTION file. See Renviron.bioc for more information. |
| Package: ChIPanalyser |
| Version: 1.31.0 |
| Command: /Library/Frameworks/R.framework/Resources/bin/R CMD check --install=check:ChIPanalyser.install-out.txt --library=/Library/Frameworks/R.framework/Resources/library --no-vignettes --timings ChIPanalyser_1.31.0.tar.gz |
| StartedAt: 2025-10-23 20:02:22 -0400 (Thu, 23 Oct 2025) |
| EndedAt: 2025-10-23 20:09:07 -0400 (Thu, 23 Oct 2025) |
| EllapsedTime: 405.8 seconds |
| RetCode: 0 |
| Status: OK |
| CheckDir: ChIPanalyser.Rcheck |
| Warnings: 0 |
##############################################################################
##############################################################################
###
### Running command:
###
### /Library/Frameworks/R.framework/Resources/bin/R CMD check --install=check:ChIPanalyser.install-out.txt --library=/Library/Frameworks/R.framework/Resources/library --no-vignettes --timings ChIPanalyser_1.31.0.tar.gz
###
##############################################################################
##############################################################################
* using log directory ‘/Users/biocbuild/bbs-3.22-bioc/meat/ChIPanalyser.Rcheck’
* using R version 4.5.1 Patched (2025-09-10 r88807)
* using platform: x86_64-apple-darwin20
* R was compiled by
Apple clang version 14.0.0 (clang-1400.0.29.202)
GNU Fortran (GCC) 14.2.0
* running under: macOS Monterey 12.7.6
* using session charset: UTF-8
* using option ‘--no-vignettes’
* checking for file ‘ChIPanalyser/DESCRIPTION’ ... OK
* checking extension type ... Package
* this is package ‘ChIPanalyser’ version ‘1.31.0’
* package encoding: UTF-8
* checking package namespace information ... OK
* checking package dependencies ... OK
* checking if this is a source package ... OK
* checking if there is a namespace ... OK
* checking for hidden files and directories ... OK
* checking for portable file names ... OK
* checking for sufficient/correct file permissions ... OK
* checking whether package ‘ChIPanalyser’ can be installed ... OK
* checking installed package size ... OK
* checking package directory ... OK
* checking ‘build’ directory ... OK
* checking DESCRIPTION meta-information ... OK
* checking top-level files ... OK
* checking for left-over files ... OK
* checking index information ... OK
* checking package subdirectories ... OK
* checking code files for non-ASCII characters ... OK
* checking R files for syntax errors ... OK
* checking whether the package can be loaded ... OK
* checking whether the package can be loaded with stated dependencies ... OK
* checking whether the package can be unloaded cleanly ... OK
* checking whether the namespace can be loaded with stated dependencies ... OK
* checking whether the namespace can be unloaded cleanly ... OK
* checking dependencies in R code ... OK
* checking S3 generic/method consistency ... OK
* checking replacement functions ... OK
* checking foreign function calls ... OK
* checking R code for possible problems ... OK
* checking Rd files ... NOTE
checkRd: (-1) data.Rd:24-25: Lost braces in \enumerate; meant \describe ?
checkRd: (-1) data.Rd:26-27: Lost braces in \enumerate; meant \describe ?
checkRd: (-1) data.Rd:28-31: Lost braces in \enumerate; meant \describe ?
checkRd: (-1) data.Rd:32-33: Lost braces in \enumerate; meant \describe ?
checkRd: (-1) data.Rd:34-35: Lost braces in \enumerate; meant \describe ?
checkRd: (-1) evolve.Rd:91-92: Lost braces in \itemize; \value handles \item{}{} directly
checkRd: (-1) evolve.Rd:93-94: Lost braces in \itemize; \value handles \item{}{} directly
checkRd: (-1) evolve.Rd:95-96: Lost braces in \itemize; \value handles \item{}{} directly
checkRd: (-1) generateStartingPopulation.Rd:31-39: Lost braces in \enumerate; meant \describe ?
checkRd: (-1) generateStartingPopulation.Rd:40-44: Lost braces in \enumerate; meant \describe ?
* checking Rd metadata ... OK
* checking Rd cross-references ... NOTE
Found the following Rd file(s) with Rd \link{} targets missing package
anchors:
computeChIPProfile.Rd: GRanges
Please provide package anchors for all Rd \link{} targets not in the
package itself and the base packages.
* checking for missing documentation entries ... OK
* checking for code/documentation mismatches ... OK
* checking Rd \usage sections ... OK
* checking Rd contents ... OK
* checking for unstated dependencies in examples ... OK
* checking contents of ‘data’ directory ... OK
* checking data for non-ASCII characters ... OK
* checking LazyData ... OK
* checking data for ASCII and uncompressed saves ... OK
* checking sizes of PDF files under ‘inst/doc’ ... OK
* checking files in ‘vignettes’ ... OK
* checking examples ... OK
* checking for unstated dependencies in ‘tests’ ... OK
* checking tests ...
Running ‘runTests.R’
OK
* checking for unstated dependencies in vignettes ... OK
* checking package vignettes ... OK
* checking running R code from vignettes ... SKIPPED
* checking re-building of vignette outputs ... SKIPPED
* checking PDF version of manual ... OK
* DONE
Status: 2 NOTEs
See
‘/Users/biocbuild/bbs-3.22-bioc/meat/ChIPanalyser.Rcheck/00check.log’
for details.
ChIPanalyser.Rcheck/00install.out
############################################################################## ############################################################################## ### ### Running command: ### ### /Library/Frameworks/R.framework/Resources/bin/R CMD INSTALL ChIPanalyser ### ############################################################################## ############################################################################## * installing to library ‘/Library/Frameworks/R.framework/Versions/4.5-x86_64/Resources/library’ * installing *source* package ‘ChIPanalyser’ ... ** this is package ‘ChIPanalyser’ version ‘1.31.0’ ** using staged installation ** R ** data *** moving datasets to lazyload DB ** inst ** byte-compile and prepare package for lazy loading Creating a new generic function for ‘drop’ in package ‘ChIPanalyser’ ** help *** installing help indices ** building package indices ** installing vignettes ** testing if installed package can be loaded from temporary location ** testing if installed package can be loaded from final location ** testing if installed package keeps a record of temporary installation path * DONE (ChIPanalyser)
ChIPanalyser.Rcheck/tests/runTests.Rout
R version 4.5.1 Patched (2025-09-10 r88807) -- "Great Square Root"
Copyright (C) 2025 The R Foundation for Statistical Computing
Platform: x86_64-apple-darwin20
R is free software and comes with ABSOLUTELY NO WARRANTY.
You are welcome to redistribute it under certain conditions.
Type 'license()' or 'licence()' for distribution details.
R is a collaborative project with many contributors.
Type 'contributors()' for more information and
'citation()' on how to cite R or R packages in publications.
Type 'demo()' for some demos, 'help()' for on-line help, or
'help.start()' for an HTML browser interface to help.
Type 'q()' to quit R.
> BiocGenerics:::testPackage("ChIPanalyser")
Attaching package: 'generics'
The following objects are masked from 'package:base':
as.difftime, as.factor, as.ordered, intersect, is.element, setdiff,
setequal, union
Attaching package: 'BiocGenerics'
The following objects are masked from 'package:stats':
IQR, mad, sd, var, xtabs
The following objects are masked from 'package:base':
Filter, Find, Map, Position, Reduce, anyDuplicated, aperm, append,
as.data.frame, basename, cbind, colnames, dirname, do.call,
duplicated, eval, evalq, get, grep, grepl, is.unsorted, lapply,
mapply, match, mget, order, paste, pmax, pmax.int, pmin, pmin.int,
rank, rbind, rownames, sapply, saveRDS, table, tapply, unique,
unsplit, which.max, which.min
Attaching package: 'S4Vectors'
The following object is masked from 'package:utils':
findMatches
The following objects are masked from 'package:base':
I, expand.grid, unname
Attaching package: 'Biostrings'
The following object is masked from 'package:base':
strsplit
Attaching package: 'ChIPanalyser'
The following object is masked from 'package:IRanges':
drop
The following object is masked from 'package:base':
drop
Loading required package: BSgenome.Dmelanogaster.UCSC.dm6
RUNIT TEST PROTOCOL -- Thu Oct 23 20:08:54 2025
***********************************************
Number of test functions: 0
Number of errors: 0
Number of failures: 0
1 Test Suite :
ChIPanalyser RUnit Tests - 0 test functions, 0 errors, 0 failures
Number of test functions: 0
Number of errors: 0
Number of failures: 0
>
> proc.time()
user system elapsed
85.089 26.257 114.017
ChIPanalyser.Rcheck/ChIPanalyser-Ex.timings
| name | user | system | elapsed | |
| BPFrequency | 0.154 | 0.007 | 0.162 | |
| BPFrequency_- | 0.002 | 0.003 | 0.004 | |
| ChIPScore-class | 0.002 | 0.001 | 0.002 | |
| ChIPanalyser-package | 0.000 | 0.001 | 0.001 | |
| DNASequenceLength | 0.002 | 0.003 | 0.004 | |
| GRList-class | 0.000 | 0.000 | 0.001 | |
| PFMFormat | 0.973 | 0.010 | 0.989 | |
| PFMFormat_ | 0.044 | 0.003 | 0.048 | |
| PWMThreshold | 0.008 | 0.002 | 0.011 | |
| PWMThreshold_- | 0.009 | 0.002 | 0.012 | |
| PWMpseudocount | 0.010 | 0.003 | 0.013 | |
| PWMpseudocount_- | 0.011 | 0.003 | 0.014 | |
| PositionFrequencyMatrix | 0.049 | 0.009 | 0.059 | |
| PositionFrequencyMatrix_- | 0.026 | 0.005 | 0.032 | |
| PositionWeightMatrix | 0.052 | 0.010 | 0.062 | |
| PositionWeightMatrix_- | 0.018 | 0.002 | 0.021 | |
| averageExpPWMScore | 0.050 | 0.010 | 0.061 | |
| backgroundSignal | 0.007 | 0.001 | 0.009 | |
| backgroundSignal_- | 0.012 | 0.006 | 0.018 | |
| boundMolecules | 0.010 | 0.002 | 0.012 | |
| boundMolecules_- | 0.010 | 0.007 | 0.016 | |
| chipMean | 0.009 | 0.001 | 0.010 | |
| chipMean_- | 0.010 | 0.002 | 0.012 | |
| chipSd | 0.010 | 0.002 | 0.011 | |
| chipSd_- | 0.009 | 0.002 | 0.010 | |
| chipSmooth | 0.010 | 0.002 | 0.011 | |
| chipSmooth_- | 0.009 | 0.001 | 0.010 | |
| computeChIPProfile | 0.002 | 0.001 | 0.003 | |
| computeGenomeWideScores | 0.001 | 0.000 | 0.001 | |
| computeOccupancy | 0.002 | 0.001 | 0.003 | |
| computeOptimal | 0.002 | 0.002 | 0.004 | |
| computePWMScore | 0.001 | 0.002 | 0.004 | |
| data | 0.001 | 0.001 | 0.002 | |
| drop | 0.051 | 0.009 | 0.060 | |
| evolve | 0.002 | 0.002 | 0.004 | |
| generateStartingPopulation | 0.025 | 0.003 | 0.028 | |
| genomicProfiles-class | 0.001 | 0.001 | 0.002 | |
| genomicProfiles | 0.060 | 0.013 | 0.073 | |
| genomicProfilesInternal-class | 0.001 | 0.001 | 0.002 | |
| getHighestFitnessSolutions | 0.001 | 0.002 | 0.003 | |
| getTestingData | 4.076 | 0.200 | 4.296 | |
| getTrainingData | 1.340 | 0.141 | 1.488 | |
| lambdaPWM | 0.008 | 0.003 | 0.010 | |
| lambdaPWM_ | 0.008 | 0.002 | 0.010 | |
| loci-class | 0.000 | 0.001 | 0.001 | |
| loci | 1.292 | 0.118 | 1.415 | |
| lociWidth | 0.010 | 0.002 | 0.013 | |
| lociWidth_ | 0.010 | 0.003 | 0.013 | |
| maxPWMScore | 0.002 | 0.003 | 0.005 | |
| maxSignal | 0.009 | 0.001 | 0.011 | |
| maxSignal_- | 0.005 | 0.000 | 0.006 | |
| minPWMScore | 0.002 | 0.003 | 0.004 | |
| naturalLog | 0.010 | 0.002 | 0.012 | |
| naturalLog_- | 0.010 | 0.002 | 0.012 | |
| noOfSites | 0.008 | 0.001 | 0.010 | |
| noOfSites_- | 0.010 | 0.002 | 0.012 | |
| noiseFilter | 0.009 | 0.002 | 0.011 | |
| noiseFilter_ | 0.006 | 0.002 | 0.008 | |
| nos-class | 0.000 | 0.001 | 0.001 | |
| parameterOptions-class | 0.001 | 0.001 | 0.001 | |
| parameterOptions | 0.010 | 0.006 | 0.015 | |
| ploidy | 0.007 | 0.000 | 0.007 | |
| ploidy_- | 0.009 | 0.000 | 0.009 | |
| plotOccupancyProfile | 0.002 | 0.002 | 0.003 | |
| plotOptimalHeatMaps | 0.001 | 0.002 | 0.004 | |
| processingChIP | 1.284 | 0.122 | 1.415 | |
| profileAccuracyEstimate | 0.002 | 0.002 | 0.005 | |
| removeBackground | 0.011 | 0.000 | 0.011 | |
| removeBackground_- | 0.009 | 0.001 | 0.010 | |
| scores | 1.324 | 0.123 | 1.455 | |
| searchSites | 0.001 | 0.002 | 0.004 | |
| setChromatinStates | 1.854 | 0.036 | 1.899 | |
| singleRun | 0.001 | 0.001 | 0.003 | |
| splitData | 1.277 | 0.109 | 1.393 | |
| stepSize | 0.007 | 0.000 | 0.008 | |
| stepSize_- | 0.008 | 0.000 | 0.008 | |
| strandRule | 0.008 | 0.002 | 0.011 | |
| strandRule_- | 0.009 | 0.002 | 0.010 | |
| whichstrand | 0.010 | 0.003 | 0.012 | |
| whichstrand_- | 0.009 | 0.002 | 0.011 | |