| Back to Multiple platform build/check report for BioC 3.22: simplified long |
|
This page was generated on 2025-08-15 12:06 -0400 (Fri, 15 Aug 2025).
| Hostname | OS | Arch (*) | R version | Installed pkgs |
|---|---|---|---|---|
| nebbiolo2 | Linux (Ubuntu 24.04.3 LTS) | x86_64 | 4.5.1 (2025-06-13) -- "Great Square Root" | 4818 |
| palomino8 | Windows Server 2022 Datacenter | x64 | 4.5.1 (2025-06-13 ucrt) -- "Great Square Root" | 4554 |
| lconway | macOS 12.7.1 Monterey | x86_64 | 4.5.1 (2025-06-13) -- "Great Square Root" | 4595 |
| kjohnson3 | macOS 13.7.7 Ventura | arm64 | 4.5.1 Patched (2025-06-14 r88325) -- "Great Square Root" | 4537 |
| taishan | Linux (openEuler 24.03 LTS) | aarch64 | 4.5.0 (2025-04-11) -- "How About a Twenty-Six" | 4535 |
| Click on any hostname to see more info about the system (e.g. compilers) (*) as reported by 'uname -p', except on Windows and Mac OS X | ||||
| Package 270/2317 | Hostname | OS / Arch | INSTALL | BUILD | CHECK | BUILD BIN | ||||||||
| CaMutQC 1.5.5 (landing page) Xin Wang
| nebbiolo2 | Linux (Ubuntu 24.04.3 LTS) / x86_64 | OK | OK | OK | |||||||||
| palomino8 | Windows Server 2022 Datacenter / x64 | OK | OK | OK | OK | |||||||||
| lconway | macOS 12.7.1 Monterey / x86_64 | OK | OK | OK | OK | |||||||||
| kjohnson3 | macOS 13.7.7 Ventura / arm64 | OK | OK | OK | OK | |||||||||
| taishan | Linux (openEuler 24.03 LTS) / aarch64 | OK | OK | OK | ||||||||||
|
To the developers/maintainers of the CaMutQC package: - Allow up to 24 hours (and sometimes 48 hours) for your latest push to git@git.bioconductor.org:packages/CaMutQC.git to reflect on this report. See Troubleshooting Build Report for more information. - Use the following Renviron settings to reproduce errors and warnings. - If 'R CMD check' started to fail recently on the Linux builder(s) over a missing dependency, add the missing dependency to 'Suggests:' in your DESCRIPTION file. See Renviron.bioc for more information. |
| Package: CaMutQC |
| Version: 1.5.5 |
| Command: F:\biocbuild\bbs-3.22-bioc\R\bin\R.exe CMD check --no-multiarch --install=check:CaMutQC.install-out.txt --library=F:\biocbuild\bbs-3.22-bioc\R\library --no-vignettes --timings CaMutQC_1.5.5.tar.gz |
| StartedAt: 2025-08-15 01:18:26 -0400 (Fri, 15 Aug 2025) |
| EndedAt: 2025-08-15 01:22:41 -0400 (Fri, 15 Aug 2025) |
| EllapsedTime: 255.0 seconds |
| RetCode: 0 |
| Status: OK |
| CheckDir: CaMutQC.Rcheck |
| Warnings: 0 |
##############################################################################
##############################################################################
###
### Running command:
###
### F:\biocbuild\bbs-3.22-bioc\R\bin\R.exe CMD check --no-multiarch --install=check:CaMutQC.install-out.txt --library=F:\biocbuild\bbs-3.22-bioc\R\library --no-vignettes --timings CaMutQC_1.5.5.tar.gz
###
##############################################################################
##############################################################################
* using log directory 'F:/biocbuild/bbs-3.22-bioc/meat/CaMutQC.Rcheck'
* using R version 4.5.1 (2025-06-13 ucrt)
* using platform: x86_64-w64-mingw32
* R was compiled by
gcc.exe (GCC) 14.2.0
GNU Fortran (GCC) 14.2.0
* running under: Windows Server 2022 x64 (build 20348)
* using session charset: UTF-8
* using option '--no-vignettes'
* checking for file 'CaMutQC/DESCRIPTION' ... OK
* checking extension type ... Package
* this is package 'CaMutQC' version '1.5.5'
* package encoding: UTF-8
* checking package namespace information ... OK
* checking package dependencies ... OK
* checking if this is a source package ... OK
* checking if there is a namespace ... OK
* checking for hidden files and directories ... OK
* checking for portable file names ... OK
* checking whether package 'CaMutQC' can be installed ... OK
* checking installed package size ... OK
* checking package directory ... OK
* checking 'build' directory ... OK
* checking DESCRIPTION meta-information ... OK
* checking top-level files ... NOTE
File
LICENSE
is not mentioned in the DESCRIPTION file.
* checking for left-over files ... OK
* checking index information ... OK
* checking package subdirectories ... OK
* checking code files for non-ASCII characters ... OK
* checking R files for syntax errors ... OK
* checking whether the package can be loaded ... OK
* checking whether the package can be loaded with stated dependencies ... OK
* checking whether the package can be unloaded cleanly ... OK
* checking whether the namespace can be loaded with stated dependencies ... OK
* checking whether the namespace can be unloaded cleanly ... OK
* checking dependencies in R code ... OK
* checking S3 generic/method consistency ... OK
* checking replacement functions ... OK
* checking foreign function calls ... OK
* checking R code for possible problems ... NOTE
mutFilterNormalDP: no visible binding for global variable
'Existing_variation'
mutFilterNormalDP: no visible binding for global variable 'n_depth'
mutFilterNormalDP: no visible binding for global variable 'rowname'
Undefined global functions or variables:
Existing_variation n_depth rowname
* checking Rd files ... OK
* checking Rd metadata ... OK
* checking Rd cross-references ... OK
* checking for missing documentation entries ... OK
* checking for code/documentation mismatches ... OK
* checking Rd \usage sections ... OK
* checking Rd contents ... OK
* checking for unstated dependencies in examples ... OK
* checking files in 'vignettes' ... OK
* checking examples ... OK
Examples with CPU (user + system) or elapsed time > 5s
user system elapsed
mutFilterReg 17.9 0.1 18.03
* checking for unstated dependencies in vignettes ... OK
* checking package vignettes ... OK
* checking running R code from vignettes ... SKIPPED
* checking re-building of vignette outputs ... SKIPPED
* checking PDF version of manual ... OK
* DONE
Status: 2 NOTEs
See
'F:/biocbuild/bbs-3.22-bioc/meat/CaMutQC.Rcheck/00check.log'
for details.
CaMutQC.Rcheck/00install.out
############################################################################## ############################################################################## ### ### Running command: ### ### F:\biocbuild\bbs-3.22-bioc\R\bin\R.exe CMD INSTALL CaMutQC ### ############################################################################## ############################################################################## * installing to library 'F:/biocbuild/bbs-3.22-bioc/R/library' * installing *source* package 'CaMutQC' ... ** this is package 'CaMutQC' version '1.5.5' ** using staged installation ** R ** inst ** byte-compile and prepare package for lazy loading Warning: replacing previous import 'ape::degree' by 'circlize::degree' when loading 'MesKit' Warning: replacing previous import 'ape::where' by 'dplyr::where' when loading 'MesKit' ** help *** installing help indices ** building package indices ** installing vignettes ** testing if installed package can be loaded from temporary location Warning: replacing previous import 'ape::degree' by 'circlize::degree' when loading 'MesKit' Warning: replacing previous import 'ape::where' by 'dplyr::where' when loading 'MesKit' ** testing if installed package can be loaded from final location Warning: replacing previous import 'ape::degree' by 'circlize::degree' when loading 'MesKit' Warning: replacing previous import 'ape::where' by 'dplyr::where' when loading 'MesKit' ** testing if installed package keeps a record of temporary installation path * DONE (CaMutQC)
CaMutQC.Rcheck/CaMutQC-Ex.timings
| name | user | system | elapsed | |
| calTMB | 4.50 | 0.14 | 4.87 | |
| mutFilterAdj | 0.83 | 0.00 | 0.83 | |
| mutFilterCan | 1.12 | 0.03 | 1.15 | |
| mutFilterCom | 1.08 | 0.03 | 1.11 | |
| mutFilterDB | 1.20 | 0.03 | 1.24 | |
| mutFilterNormalDP | 1.28 | 0.02 | 1.29 | |
| mutFilterPON | 0.97 | 0.00 | 0.97 | |
| mutFilterQual | 1.30 | 0.19 | 1.49 | |
| mutFilterRef | 1.41 | 0.01 | 1.42 | |
| mutFilterReg | 17.90 | 0.10 | 18.03 | |
| mutFilterSB | 0.94 | 0.03 | 0.97 | |
| mutFilterTech | 1.17 | 0.06 | 1.23 | |
| mutFilterType | 1.03 | 0.03 | 1.07 | |
| mutSelection | 0.94 | 0.03 | 0.96 | |
| processMut | 0.51 | 0.02 | 0.53 | |
| toMesKit | 0.45 | 0.00 | 0.47 | |
| tomaftools | 0.43 | 0.04 | 0.48 | |
| vcfToMAF | 1.18 | 0.02 | 1.21 | |