Back to Multiple platform build/check report for BioC 3.21: simplified long |
|
This page was generated on 2025-02-03 12:38 -0500 (Mon, 03 Feb 2025).
Hostname | OS | Arch (*) | R version | Installed pkgs |
---|---|---|---|---|
nebbiolo1 | Linux (Ubuntu 24.04.1 LTS) | x86_64 | R Under development (unstable) (2025-01-20 r87609) -- "Unsuffered Consequences" | 4704 |
palomino7 | Windows Server 2022 Datacenter | x64 | R Under development (unstable) (2025-01-21 r87610 ucrt) -- "Unsuffered Consequences" | 4467 |
lconway | macOS 12.7.1 Monterey | x86_64 | R Under development (unstable) (2025-01-22 r87618) -- "Unsuffered Consequences" | 4478 |
Click on any hostname to see more info about the system (e.g. compilers) (*) as reported by 'uname -p', except on Windows and Mac OS X |
Package 265/2289 | Hostname | OS / Arch | INSTALL | BUILD | CHECK | BUILD BIN | ||||||||
CaMutQC 1.3.0 (landing page) Xin Wang
| nebbiolo1 | Linux (Ubuntu 24.04.1 LTS) / x86_64 | OK | OK | OK | |||||||||
palomino7 | Windows Server 2022 Datacenter / x64 | OK | OK | OK | OK | |||||||||
lconway | macOS 12.7.1 Monterey / x86_64 | OK | OK | OK | OK | |||||||||
To the developers/maintainers of the CaMutQC package: - Allow up to 24 hours (and sometimes 48 hours) for your latest push to git@git.bioconductor.org:packages/CaMutQC.git to reflect on this report. See Troubleshooting Build Report for more information. - Use the following Renviron settings to reproduce errors and warnings. - If 'R CMD check' started to fail recently on the Linux builder(s) over a missing dependency, add the missing dependency to 'Suggests:' in your DESCRIPTION file. See Renviron.bioc for more information. |
Package: CaMutQC |
Version: 1.3.0 |
Command: /Library/Frameworks/R.framework/Resources/bin/R CMD check --install=check:CaMutQC.install-out.txt --library=/Library/Frameworks/R.framework/Resources/library --no-vignettes --timings CaMutQC_1.3.0.tar.gz |
StartedAt: 2025-02-02 19:18:06 -0500 (Sun, 02 Feb 2025) |
EndedAt: 2025-02-02 19:22:05 -0500 (Sun, 02 Feb 2025) |
EllapsedTime: 239.1 seconds |
RetCode: 0 |
Status: OK |
CheckDir: CaMutQC.Rcheck |
Warnings: 0 |
############################################################################## ############################################################################## ### ### Running command: ### ### /Library/Frameworks/R.framework/Resources/bin/R CMD check --install=check:CaMutQC.install-out.txt --library=/Library/Frameworks/R.framework/Resources/library --no-vignettes --timings CaMutQC_1.3.0.tar.gz ### ############################################################################## ############################################################################## * using log directory ‘/Users/biocbuild/bbs-3.21-bioc/meat/CaMutQC.Rcheck’ * using R Under development (unstable) (2025-01-22 r87618) * using platform: x86_64-apple-darwin20 * R was compiled by Apple clang version 14.0.0 (clang-1400.0.29.202) GNU Fortran (GCC) 14.2.0 * running under: macOS Monterey 12.7.6 * using session charset: UTF-8 * using option ‘--no-vignettes’ * checking for file ‘CaMutQC/DESCRIPTION’ ... OK * checking extension type ... Package * this is package ‘CaMutQC’ version ‘1.3.0’ * package encoding: UTF-8 * checking package namespace information ... OK * checking package dependencies ... OK * checking if this is a source package ... OK * checking if there is a namespace ... OK * checking for hidden files and directories ... OK * checking for portable file names ... OK * checking for sufficient/correct file permissions ... OK * checking whether package ‘CaMutQC’ can be installed ... OK * checking installed package size ... OK * checking package directory ... OK * checking ‘build’ directory ... OK * checking DESCRIPTION meta-information ... OK * checking top-level files ... NOTE File LICENSE is not mentioned in the DESCRIPTION file. * checking for left-over files ... OK * checking index information ... OK * checking package subdirectories ... OK * checking code files for non-ASCII characters ... OK * checking R files for syntax errors ... OK * checking whether the package can be loaded ... OK * checking whether the package can be loaded with stated dependencies ... OK * checking whether the package can be unloaded cleanly ... OK * checking whether the namespace can be loaded with stated dependencies ... OK * checking whether the namespace can be unloaded cleanly ... OK * checking dependencies in R code ... OK * checking S3 generic/method consistency ... OK * checking replacement functions ... OK * checking foreign function calls ... OK * checking R code for possible problems ... NOTE mutFilterNormalDP: no visible binding for global variable ‘Existing_variation’ mutFilterNormalDP: no visible binding for global variable ‘n_depth’ mutFilterNormalDP: no visible binding for global variable ‘rowname’ Undefined global functions or variables: Existing_variation n_depth rowname * checking Rd files ... OK * checking Rd metadata ... OK * checking Rd cross-references ... OK * checking for missing documentation entries ... OK * checking for code/documentation mismatches ... OK * checking Rd \usage sections ... OK * checking Rd contents ... OK * checking for unstated dependencies in examples ... OK * checking files in ‘vignettes’ ... OK * checking examples ... OK Examples with CPU (user + system) or elapsed time > 5s user system elapsed mutFilterReg 15.853 0.111 16.052 mutFilterCan 7.455 0.549 8.485 * checking for unstated dependencies in vignettes ... OK * checking package vignettes ... OK * checking running R code from vignettes ... SKIPPED * checking re-building of vignette outputs ... SKIPPED * checking PDF version of manual ... OK * DONE Status: 2 NOTEs See ‘/Users/biocbuild/bbs-3.21-bioc/meat/CaMutQC.Rcheck/00check.log’ for details.
CaMutQC.Rcheck/00install.out
############################################################################## ############################################################################## ### ### Running command: ### ### /Library/Frameworks/R.framework/Resources/bin/R CMD INSTALL CaMutQC ### ############################################################################## ############################################################################## * installing to library ‘/Library/Frameworks/R.framework/Versions/4.5-x86_64/Resources/library’ * installing *source* package ‘CaMutQC’ ... ** this is package ‘CaMutQC’ version ‘1.3.0’ ** using staged installation ** R ** inst ** byte-compile and prepare package for lazy loading Warning: replacing previous import ‘ape::degree’ by ‘circlize::degree’ when loading ‘MesKit’ Warning: replacing previous import ‘ape::where’ by ‘dplyr::where’ when loading ‘MesKit’ ** help *** installing help indices ** building package indices ** installing vignettes ** testing if installed package can be loaded from temporary location Warning: replacing previous import ‘ape::degree’ by ‘circlize::degree’ when loading ‘MesKit’ Warning: replacing previous import ‘ape::where’ by ‘dplyr::where’ when loading ‘MesKit’ ** testing if installed package can be loaded from final location Warning: replacing previous import ‘ape::degree’ by ‘circlize::degree’ when loading ‘MesKit’ Warning: replacing previous import ‘ape::where’ by ‘dplyr::where’ when loading ‘MesKit’ ** testing if installed package keeps a record of temporary installation path * DONE (CaMutQC)
CaMutQC.Rcheck/CaMutQC-Ex.timings
name | user | system | elapsed | |
calTMB | 1.916 | 0.077 | 2.016 | |
mutFilterAdj | 1.058 | 0.052 | 1.118 | |
mutFilterCan | 7.455 | 0.549 | 8.485 | |
mutFilterCom | 1.138 | 0.017 | 1.165 | |
mutFilterDB | 1.518 | 0.015 | 1.542 | |
mutFilterNormalDP | 0.904 | 0.019 | 0.929 | |
mutFilterPON | 0.928 | 0.011 | 0.946 | |
mutFilterQual | 0.959 | 0.011 | 0.978 | |
mutFilterRef | 1.053 | 0.018 | 1.078 | |
mutFilterReg | 15.853 | 0.111 | 16.052 | |
mutFilterSB | 1.131 | 0.011 | 1.150 | |
mutFilterTech | 1.107 | 0.012 | 1.131 | |
mutFilterType | 1.042 | 0.008 | 1.058 | |
mutSelection | 0.997 | 0.009 | 1.013 | |
processMut | 0.554 | 0.011 | 0.574 | |
toMesKit | 0.566 | 0.011 | 0.585 | |
tomaftools | 0.566 | 0.011 | 0.588 | |
vcfToMAF | 0.937 | 0.009 | 0.952 | |