Back to Multiple platform build/check report for BioC 3.21:   simplified   long
A[B]CDEFGHIJKLMNOPQRSTUVWXYZ

This page was generated on 2025-01-28 11:47 -0500 (Tue, 28 Jan 2025).

HostnameOSArch (*)R versionInstalled pkgs
nebbiolo1Linux (Ubuntu 24.04.1 LTS)x86_64R Under development (unstable) (2025-01-20 r87609) -- "Unsuffered Consequences" 4659
palomino7Windows Server 2022 Datacenterx64R Under development (unstable) (2025-01-21 r87610 ucrt) -- "Unsuffered Consequences" 4454
lconwaymacOS 12.7.1 Montereyx86_64R Under development (unstable) (2025-01-22 r87618) -- "Unsuffered Consequences" 4465
kjohnson3macOS 13.7.1 Venturaarm64R Under development (unstable) (2025-01-20 r87609) -- "Unsuffered Consequences" 4419
kunpeng2Linux (openEuler 22.03 LTS-SP1)aarch64R Under development (unstable) (2024-11-24 r87369) -- "Unsuffered Consequences" 4409
Click on any hostname to see more info about the system (e.g. compilers)      (*) as reported by 'uname -p', except on Windows and Mac OS X

Package 141/2286HostnameOS / ArchINSTALLBUILDCHECKBUILD BIN
BatchQC 2.3.0  (landing page)
Jessica McClintock
Snapshot Date: 2025-01-27 13:40 -0500 (Mon, 27 Jan 2025)
git_url: https://git.bioconductor.org/packages/BatchQC
git_branch: devel
git_last_commit: 8029628
git_last_commit_date: 2024-10-29 10:09:55 -0500 (Tue, 29 Oct 2024)
nebbiolo1Linux (Ubuntu 24.04.1 LTS) / x86_64  OK    OK    OK  UNNEEDED, same version is already published
palomino7Windows Server 2022 Datacenter / x64  OK    OK    OK    OK  NO, package depends on 'DESeq2' which is only available as a source package that needs compilation
lconwaymacOS 12.7.1 Monterey / x86_64  OK    OK    OK    OK  NO, package depends on 'DESeq2' which is only available as a source package that needs compilation
kjohnson3macOS 13.7.1 Ventura / arm64  OK    OK    OK    OK  NO, package depends on 'DESeq2' which is only available as a source package that needs compilation
kunpeng2Linux (openEuler 22.03 LTS-SP1) / aarch64  OK    OK    OK  


CHECK results for BatchQC on kunpeng2

To the developers/maintainers of the BatchQC package:
- Allow up to 24 hours (and sometimes 48 hours) for your latest push to git@git.bioconductor.org:packages/BatchQC.git to reflect on this report. See Troubleshooting Build Report for more information.
- Use the following Renviron settings to reproduce errors and warnings.
- If 'R CMD check' started to fail recently on the Linux builder(s) over a missing dependency, add the missing dependency to 'Suggests:' in your DESCRIPTION file. See Renviron.bioc for more information.
- See Martin Grigorov's blog post for how to debug Linux ARM64 related issues on a x86_64 host.

raw results


Summary

Package: BatchQC
Version: 2.3.0
Command: /home/biocbuild/R/R/bin/R CMD check --install=check:BatchQC.install-out.txt --library=/home/biocbuild/R/R/site-library --no-vignettes --timings BatchQC_2.3.0.tar.gz
StartedAt: 2025-01-28 03:42:48 -0000 (Tue, 28 Jan 2025)
EndedAt: 2025-01-28 03:51:03 -0000 (Tue, 28 Jan 2025)
EllapsedTime: 495.6 seconds
RetCode: 0
Status:   OK  
CheckDir: BatchQC.Rcheck
Warnings: 0

Command output

##############################################################################
##############################################################################
###
### Running command:
###
###   /home/biocbuild/R/R/bin/R CMD check --install=check:BatchQC.install-out.txt --library=/home/biocbuild/R/R/site-library --no-vignettes --timings BatchQC_2.3.0.tar.gz
###
##############################################################################
##############################################################################


* using log directory ‘/home/biocbuild/bbs-3.21-bioc/meat/BatchQC.Rcheck’
* using R Under development (unstable) (2024-11-24 r87369)
* using platform: aarch64-unknown-linux-gnu
* R was compiled by
    aarch64-unknown-linux-gnu-gcc (GCC) 14.2.0
    GNU Fortran (GCC) 14.2.0
* running under: openEuler 24.03 (LTS)
* using session charset: UTF-8
* using option ‘--no-vignettes’
* checking for file ‘BatchQC/DESCRIPTION’ ... OK
* checking extension type ... Package
* this is package ‘BatchQC’ version ‘2.3.0’
* package encoding: UTF-8
* checking package namespace information ... OK
* checking package dependencies ... INFO
Imports includes 23 non-default packages.
Importing from so many packages makes the package vulnerable to any of
them becoming unavailable.  Move as many as possible to Suggests and
use conditionally.
* checking if this is a source package ... OK
* checking if there is a namespace ... OK
* checking for hidden files and directories ... OK
* checking for portable file names ... OK
* checking for sufficient/correct file permissions ... OK
* checking whether package ‘BatchQC’ can be installed ... OK
* checking installed package size ... OK
* checking package directory ... OK
* checking ‘build’ directory ... OK
* checking DESCRIPTION meta-information ... OK
* checking top-level files ... OK
* checking for left-over files ... OK
* checking index information ... OK
* checking package subdirectories ...Warning: program compiled against libxml 212 using older 211
 OK
* checking code files for non-ASCII characters ... OK
* checking R files for syntax errors ... OK
* checking whether the package can be loaded ... OK
* checking whether the package can be loaded with stated dependencies ... OK
* checking whether the package can be unloaded cleanly ... OK
* checking whether the namespace can be loaded with stated dependencies ... OK
* checking whether the namespace can be unloaded cleanly ... OK
* checking loading without being on the library search path ... OK
* checking dependencies in R code ... OK
* checking S3 generic/method consistency ... OK
* checking replacement functions ... OK
* checking foreign function calls ... OK
* checking R code for possible problems ... OK
* checking Rd files ... OK
* checking Rd metadata ... OK
* checking Rd cross-references ... OK
* checking for missing documentation entries ... OK
* checking for code/documentation mismatches ... OK
* checking Rd \usage sections ... OK
* checking Rd contents ... OK
* checking for unstated dependencies in examples ... OK
* checking contents of ‘data’ directory ... OK
* checking data for non-ASCII characters ... OK
* checking data for ASCII and uncompressed saves ... OK
* checking files in ‘vignettes’ ... OK
* checking examples ... OK
Examples with CPU (user + system) or elapsed time > 5s
                         user system elapsed
volcano_plot           33.030  0.124  33.274
DE_analyze             25.967  0.327  26.353
pval_plotter           24.226  0.148  24.418
pval_summary           21.553  0.048  21.638
PCA_plotter            18.971  0.148  19.154
batch_correct          16.475  0.088  16.590
goodness_of_fit_DESeq2  5.866  0.032   5.912
* checking for unstated dependencies in ‘tests’ ... OK
* checking tests ...
  Running ‘spelling.R’
  Running ‘testthat.R’
 OK
* checking for unstated dependencies in vignettes ... OK
* checking package vignettes ... OK
* checking running R code from vignettes ... SKIPPED
* checking re-building of vignette outputs ... SKIPPED
* checking PDF version of manual ... OK
* DONE

Status: OK


Installation output

BatchQC.Rcheck/00install.out

##############################################################################
##############################################################################
###
### Running command:
###
###   /home/biocbuild/R/R/bin/R CMD INSTALL BatchQC
###
##############################################################################
##############################################################################


* installing to library ‘/home/biocbuild/R/R-4.5.0-devel_2024-11-24/site-library’
* installing *source* package ‘BatchQC’ ...
** using staged installation
** R
** data
** inst
** byte-compile and prepare package for lazy loading
** help
*** installing help indices
** building package indices
** installing vignettes
** testing if installed package can be loaded from temporary location
** testing if installed package can be loaded from final location
** testing if installed package keeps a record of temporary installation path
* DONE (BatchQC)

Tests output

BatchQC.Rcheck/tests/spelling.Rout


R Under development (unstable) (2024-11-24 r87369) -- "Unsuffered Consequences"
Copyright (C) 2024 The R Foundation for Statistical Computing
Platform: aarch64-unknown-linux-gnu

R is free software and comes with ABSOLUTELY NO WARRANTY.
You are welcome to redistribute it under certain conditions.
Type 'license()' or 'licence()' for distribution details.

R is a collaborative project with many contributors.
Type 'contributors()' for more information and
'citation()' on how to cite R or R packages in publications.

Type 'demo()' for some demos, 'help()' for on-line help, or
'help.start()' for an HTML browser interface to help.
Type 'q()' to quit R.

> if (requireNamespace('spelling', quietly = TRUE))
+   spelling::spell_check_test(vignettes = TRUE, error = FALSE,
+                              skip_on_cran = TRUE)
NULL
> 
> proc.time()
   user  system elapsed 
  0.220   0.026   0.291 

BatchQC.Rcheck/tests/testthat.Rout


R Under development (unstable) (2024-11-24 r87369) -- "Unsuffered Consequences"
Copyright (C) 2024 The R Foundation for Statistical Computing
Platform: aarch64-unknown-linux-gnu

R is free software and comes with ABSOLUTELY NO WARRANTY.
You are welcome to redistribute it under certain conditions.
Type 'license()' or 'licence()' for distribution details.

R is a collaborative project with many contributors.
Type 'contributors()' for more information and
'citation()' on how to cite R or R packages in publications.

Type 'demo()' for some demos, 'help()' for on-line help, or
'help.start()' for an HTML browser interface to help.
Type 'q()' to quit R.

> library(testthat)
> library(BatchQC)
> 
> test_check("BatchQC")
Warning: program compiled against libxml 212 using older 211
[ FAIL 0 | WARN 0 | SKIP 1 | PASS 0 ]

══ Skipped tests (1) ═══════════════════════════════════════════════════════════
• On CRAN (1): 'test-lintr.R:3:5'

[ FAIL 0 | WARN 0 | SKIP 1 | PASS 0 ]
> 
> proc.time()
   user  system elapsed 
 15.581   0.590  16.495 

Example timings

BatchQC.Rcheck/BatchQC-Ex.timings

nameusersystemelapsed
BatchQC000
DE_analyze25.967 0.32726.353
EV_plotter1.2570.0081.267
EV_table0.8820.0120.896
PCA_plotter18.971 0.14819.154
batch_correct16.475 0.08816.590
batch_design0.7060.0080.715
batchqc_explained_variation0.9530.0120.968
bladder_data_upload0.3100.0040.315
color_palette0.3150.0120.330
confound_metrics0.7050.0080.714
cor_props0.6440.0080.654
covariates_not_confounded0.6950.0040.700
cramers_v0.6300.0150.647
dendrogram_alpha_numeric_check0.5990.0150.617
dendrogram_color_palette1.0820.0161.100
dendrogram_plotter2.2660.0122.282
goodness_of_fit_DESeq25.8660.0325.912
heatmap_num_to_char_converter0.5980.0040.604
heatmap_plotter2.0520.0122.072
normalize_SE1.0610.0001.063
process_dendrogram1.0920.0001.094
pval_plotter24.226 0.14824.418
pval_summary21.553 0.04821.638
ratio_plotter1.1250.0121.139
std_pearson_corr_coef0.6800.0040.686
summarized_experiment0.0240.0000.024
variation_ratios0.9310.0120.944
volcano_plot33.030 0.12433.274