| Back to Multiple platform build/check report for BioC 3.23: simplified long |
|
This page was generated on 2025-11-27 11:37 -0500 (Thu, 27 Nov 2025).
| Hostname | OS | Arch (*) | R version | Installed pkgs |
|---|---|---|---|---|
| nebbiolo1 | Linux (Ubuntu 24.04.3 LTS) | x86_64 | R Under development (unstable) (2025-10-20 r88955) -- "Unsuffered Consequences" | 4865 |
| lconway | macOS 12.7.6 Monterey | x86_64 | R Under development (unstable) (2025-10-21 r88958) -- "Unsuffered Consequences" | 4614 |
| kjohnson3 | macOS 13.7.7 Ventura | arm64 | R Under development (unstable) (2025-11-04 r88984) -- "Unsuffered Consequences" | 4571 |
| Click on any hostname to see more info about the system (e.g. compilers) (*) as reported by 'uname -p', except on Windows and Mac OS X | ||||
| Package 148/2328 | Hostname | OS / Arch | INSTALL | BUILD | CHECK | BUILD BIN | ||||||||
| BatchQC 2.7.0 (landing page) Jessica Anderson
| nebbiolo1 | Linux (Ubuntu 24.04.3 LTS) / x86_64 | OK | OK | OK | |||||||||
| lconway | macOS 12.7.6 Monterey / x86_64 | OK | OK | OK | OK | |||||||||
| kjohnson3 | macOS 13.7.7 Ventura / arm64 | OK | OK | OK | OK | |||||||||
|
To the developers/maintainers of the BatchQC package: - Allow up to 24 hours (and sometimes 48 hours) for your latest push to git@git.bioconductor.org:packages/BatchQC.git to reflect on this report. See Troubleshooting Build Report for more information. - Use the following Renviron settings to reproduce errors and warnings. - If 'R CMD check' started to fail recently on the Linux builder(s) over a missing dependency, add the missing dependency to 'Suggests:' in your DESCRIPTION file. See Renviron.bioc for more information. |
| Package: BatchQC |
| Version: 2.7.0 |
| Command: /home/biocbuild/bbs-3.23-bioc/R/bin/R CMD check --install=check:BatchQC.install-out.txt --library=/home/biocbuild/bbs-3.23-bioc/R/site-library --timings BatchQC_2.7.0.tar.gz |
| StartedAt: 2025-11-26 21:16:08 -0500 (Wed, 26 Nov 2025) |
| EndedAt: 2025-11-26 21:30:22 -0500 (Wed, 26 Nov 2025) |
| EllapsedTime: 854.4 seconds |
| RetCode: 0 |
| Status: OK |
| CheckDir: BatchQC.Rcheck |
| Warnings: 0 |
##############################################################################
##############################################################################
###
### Running command:
###
### /home/biocbuild/bbs-3.23-bioc/R/bin/R CMD check --install=check:BatchQC.install-out.txt --library=/home/biocbuild/bbs-3.23-bioc/R/site-library --timings BatchQC_2.7.0.tar.gz
###
##############################################################################
##############################################################################
* using log directory ‘/home/biocbuild/bbs-3.23-bioc/meat/BatchQC.Rcheck’
* using R Under development (unstable) (2025-10-20 r88955)
* using platform: x86_64-pc-linux-gnu
* R was compiled by
gcc (Ubuntu 13.3.0-6ubuntu2~24.04) 13.3.0
GNU Fortran (Ubuntu 13.3.0-6ubuntu2~24.04) 13.3.0
* running under: Ubuntu 24.04.3 LTS
* using session charset: UTF-8
* checking for file ‘BatchQC/DESCRIPTION’ ... OK
* checking extension type ... Package
* this is package ‘BatchQC’ version ‘2.7.0’
* package encoding: UTF-8
* checking package namespace information ... OK
* checking package dependencies ... INFO
Imports includes 27 non-default packages.
Importing from so many packages makes the package vulnerable to any of
them becoming unavailable. Move as many as possible to Suggests and
use conditionally.
* checking if this is a source package ... OK
* checking if there is a namespace ... OK
* checking for hidden files and directories ... OK
* checking for portable file names ... OK
* checking for sufficient/correct file permissions ... OK
* checking whether package ‘BatchQC’ can be installed ... OK
* checking installed package size ... OK
* checking package directory ... OK
* checking ‘build’ directory ... OK
* checking DESCRIPTION meta-information ... OK
* checking top-level files ... OK
* checking for left-over files ... OK
* checking index information ... OK
* checking package subdirectories ... OK
* checking code files for non-ASCII characters ... OK
* checking R files for syntax errors ... OK
* checking whether the package can be loaded ... OK
* checking whether the package can be loaded with stated dependencies ... OK
* checking whether the package can be unloaded cleanly ... OK
* checking whether the namespace can be loaded with stated dependencies ... OK
* checking whether the namespace can be unloaded cleanly ... OK
* checking loading without being on the library search path ... OK
* checking dependencies in R code ... OK
* checking S3 generic/method consistency ... OK
* checking replacement functions ... OK
* checking foreign function calls ... OK
* checking R code for possible problems ... OK
* checking Rd files ... OK
* checking Rd metadata ... OK
* checking Rd cross-references ... OK
* checking for missing documentation entries ... OK
* checking for code/documentation mismatches ... OK
* checking Rd \usage sections ... OK
* checking Rd contents ... OK
* checking for unstated dependencies in examples ... OK
* checking contents of ‘data’ directory ... OK
* checking data for non-ASCII characters ... OK
* checking data for ASCII and uncompressed saves ... OK
* checking files in ‘vignettes’ ... OK
* checking examples ... OK
Examples with CPU (user + system) or elapsed time > 5s
user system elapsed
compute_aic 36.760 0.256 37.018
volcano_plot 27.086 0.147 27.234
DE_analyze 20.868 0.379 21.262
tb_data_upload 18.462 0.801 20.211
pval_plotter 18.409 0.225 18.636
pval_summary 17.650 0.106 17.756
batch_correct 14.875 0.022 14.904
PCA_plotter 12.694 0.072 12.766
compute_lambda 5.091 0.024 5.115
* checking for unstated dependencies in ‘tests’ ... OK
* checking tests ...
Running ‘spelling.R’
Running ‘testthat.R’
OK
* checking for unstated dependencies in vignettes ... OK
* checking package vignettes ... OK
* checking re-building of vignette outputs ... OK
* checking PDF version of manual ... OK
* DONE
Status: OK
BatchQC.Rcheck/00install.out
############################################################################## ############################################################################## ### ### Running command: ### ### /home/biocbuild/bbs-3.23-bioc/R/bin/R CMD INSTALL BatchQC ### ############################################################################## ############################################################################## * installing to library ‘/home/biocbuild/bbs-3.23-bioc/R/site-library’ * installing *source* package ‘BatchQC’ ... ** this is package ‘BatchQC’ version ‘2.7.0’ ** using staged installation ** R ** data ** inst ** byte-compile and prepare package for lazy loading ** help *** installing help indices ** building package indices ** installing vignettes ** testing if installed package can be loaded from temporary location ** testing if installed package can be loaded from final location ** testing if installed package keeps a record of temporary installation path * DONE (BatchQC)
BatchQC.Rcheck/tests/spelling.Rout
R Under development (unstable) (2025-10-20 r88955) -- "Unsuffered Consequences"
Copyright (C) 2025 The R Foundation for Statistical Computing
Platform: x86_64-pc-linux-gnu
R is free software and comes with ABSOLUTELY NO WARRANTY.
You are welcome to redistribute it under certain conditions.
Type 'license()' or 'licence()' for distribution details.
R is a collaborative project with many contributors.
Type 'contributors()' for more information and
'citation()' on how to cite R or R packages in publications.
Type 'demo()' for some demos, 'help()' for on-line help, or
'help.start()' for an HTML browser interface to help.
Type 'q()' to quit R.
> if (requireNamespace('spelling', quietly = TRUE))
+ spelling::spell_check_test(vignettes = TRUE, error = FALSE,
+ skip_on_cran = TRUE)
All Done!
>
> proc.time()
user system elapsed
0.154 0.035 0.176
BatchQC.Rcheck/tests/testthat.Rout
R Under development (unstable) (2025-10-20 r88955) -- "Unsuffered Consequences"
Copyright (C) 2025 The R Foundation for Statistical Computing
Platform: x86_64-pc-linux-gnu
R is free software and comes with ABSOLUTELY NO WARRANTY.
You are welcome to redistribute it under certain conditions.
Type 'license()' or 'licence()' for distribution details.
R is a collaborative project with many contributors.
Type 'contributors()' for more information and
'citation()' on how to cite R or R packages in publications.
Type 'demo()' for some demos, 'help()' for on-line help, or
'help.start()' for an HTML browser interface to help.
Type 'q()' to quit R.
> library(testthat)
> library(BatchQC)
>
> test_check("BatchQC")
[ FAIL 0 | WARN 0 | SKIP 1 | PASS 0 ]
══ Skipped tests (1) ═══════════════════════════════════════════════════════════
• On CRAN (1): 'test-lintr.R:3:5'
[ FAIL 0 | WARN 0 | SKIP 1 | PASS 0 ]
>
> proc.time()
user system elapsed
12.288 0.676 12.952
BatchQC.Rcheck/BatchQC-Ex.timings
| name | user | system | elapsed | |
| BatchQC | 0 | 0 | 0 | |
| DE_analyze | 20.868 | 0.379 | 21.262 | |
| EV_plotter | 1.111 | 0.028 | 1.138 | |
| EV_table | 0.884 | 0.025 | 0.909 | |
| PCA_plotter | 12.694 | 0.072 | 12.766 | |
| batch_correct | 14.875 | 0.022 | 14.904 | |
| batch_design | 0.469 | 0.007 | 0.476 | |
| batchqc_explained_variation | 0.877 | 0.127 | 1.004 | |
| bisect | 0.004 | 0.000 | 0.003 | |
| bladder_data_upload | 0.224 | 0.029 | 0.252 | |
| color_palette | 0.177 | 0.005 | 0.181 | |
| compute_aic | 36.760 | 0.256 | 37.018 | |
| compute_lambda | 5.091 | 0.024 | 5.115 | |
| confound_metrics | 0.476 | 0.008 | 0.485 | |
| cor_props | 0.441 | 0.008 | 0.449 | |
| covariates_not_confounded | 0.435 | 0.010 | 0.446 | |
| cramers_v | 0.406 | 0.009 | 0.416 | |
| dendrogram_alpha_numeric_check | 0.438 | 0.010 | 0.448 | |
| dendrogram_color_palette | 0.637 | 0.006 | 0.643 | |
| dendrogram_plotter | 1.562 | 0.006 | 1.567 | |
| goodness_of_fit_DESeq2 | 4.017 | 0.017 | 4.033 | |
| heatmap_num_to_char_converter | 0.392 | 0.011 | 0.404 | |
| heatmap_plotter | 1.271 | 0.012 | 1.283 | |
| is_design_balanced | 0.484 | 0.006 | 0.490 | |
| kBET | 2.517 | 0.006 | 2.523 | |
| normalize_SE | 0.657 | 0.014 | 0.671 | |
| plot_kBET | 2.962 | 0.013 | 2.975 | |
| process_dendrogram | 0.684 | 0.037 | 0.721 | |
| pval_plotter | 18.409 | 0.225 | 18.636 | |
| pval_summary | 17.650 | 0.106 | 17.756 | |
| ratio_plotter | 1.107 | 0.010 | 1.128 | |
| run_kBET | 2.659 | 0.011 | 2.679 | |
| run_lambda | 0.487 | 0.003 | 0.489 | |
| std_pearson_corr_coef | 0.422 | 0.007 | 0.428 | |
| summarized_experiment | 0.014 | 0.001 | 0.016 | |
| tb_data_upload | 18.462 | 0.801 | 20.211 | |
| umap | 2.892 | 0.110 | 3.001 | |
| variation_ratios | 0.928 | 0.037 | 0.965 | |
| volcano_plot | 27.086 | 0.147 | 27.234 | |