| Back to Multiple platform build/check report for BioC 3.23: simplified long |
|
This page was generated on 2025-11-17 11:39 -0500 (Mon, 17 Nov 2025).
| Hostname | OS | Arch (*) | R version | Installed pkgs |
|---|---|---|---|---|
| nebbiolo1 | Linux (Ubuntu 24.04.3 LTS) | x86_64 | R Under development (unstable) (2025-10-20 r88955) -- "Unsuffered Consequences" | 4826 |
| lconway | macOS 12.7.6 Monterey | x86_64 | R Under development (unstable) (2025-10-21 r88958) -- "Unsuffered Consequences" | 4491 |
| kjohnson3 | macOS 13.7.7 Ventura | arm64 | R Under development (unstable) (2025-11-04 r88984) -- "Unsuffered Consequences" | 4562 |
| Click on any hostname to see more info about the system (e.g. compilers) (*) as reported by 'uname -p', except on Windows and Mac OS X | ||||
| Package 260/2325 | Hostname | OS / Arch | INSTALL | BUILD | CHECK | BUILD BIN | ||||||||
| BUSpaRse 1.25.0 (landing page) Lambda Moses
| nebbiolo1 | Linux (Ubuntu 24.04.3 LTS) / x86_64 | OK | OK | OK | |||||||||
| lconway | macOS 12.7.6 Monterey / x86_64 | OK | OK | OK | OK | |||||||||
| kjohnson3 | macOS 13.7.7 Ventura / arm64 | OK | ERROR | skipped | skipped | |||||||||
|
To the developers/maintainers of the BUSpaRse package: - Allow up to 24 hours (and sometimes 48 hours) for your latest push to git@git.bioconductor.org:packages/BUSpaRse.git to reflect on this report. See Troubleshooting Build Report for more information. - Use the following Renviron settings to reproduce errors and warnings. - If 'R CMD check' started to fail recently on the Linux builder(s) over a missing dependency, add the missing dependency to 'Suggests:' in your DESCRIPTION file. See Renviron.bioc for more information. |
| Package: BUSpaRse |
| Version: 1.25.0 |
| Command: /Library/Frameworks/R.framework/Resources/bin/R CMD INSTALL BUSpaRse |
| StartedAt: 2025-11-16 20:39:10 -0500 (Sun, 16 Nov 2025) |
| EndedAt: 2025-11-16 20:40:21 -0500 (Sun, 16 Nov 2025) |
| EllapsedTime: 71.2 seconds |
| RetCode: 0 |
| Status: OK |
##############################################################################
##############################################################################
###
### Running command:
###
### /Library/Frameworks/R.framework/Resources/bin/R CMD INSTALL BUSpaRse
###
##############################################################################
##############################################################################
* installing to library ‘/Library/Frameworks/R.framework/Versions/4.6-x86_64/Resources/library’
* installing *source* package ‘BUSpaRse’ ...
** this is package ‘BUSpaRse’ version ‘1.25.0’
** using staged installation
** libs
using C++ compiler: ‘Apple clang version 14.0.3 (clang-1403.0.22.14.1)’
using C++11
using SDK: ‘MacOSX11.3.1.sdk’
clang++ -arch x86_64 -std=gnu++11 -I"/Library/Frameworks/R.framework/Resources/include" -DNDEBUG -I'/Library/Frameworks/R.framework/Versions/4.6-x86_64/Resources/library/Rcpp/include' -I'/Library/Frameworks/R.framework/Versions/4.6-x86_64/Resources/library/RcppArmadillo/include' -I'/Library/Frameworks/R.framework/Versions/4.6-x86_64/Resources/library/RcppProgress/include' -I'/Library/Frameworks/R.framework/Versions/4.6-x86_64/Resources/library/BH/include' -I/opt/R/x86_64/include -fPIC -falign-functions=64 -Wall -g -O2 -c RcppExports.cpp -o RcppExports.o
In file included from RcppExports.cpp:4:
In file included from /Library/Frameworks/R.framework/Versions/4.6-x86_64/Resources/library/RcppArmadillo/include/RcppArmadillo.h:29:
/Library/Frameworks/R.framework/Versions/4.6-x86_64/Resources/library/RcppArmadillo/include/RcppArmadillo/version/arma.h:66:17: warning: Using fallback compilation with Armadillo 14.6.3. Please consider defining -DARMA_USE_CURRENT and also removing C++11 compilation directive. See GitHub issue #475 for more. [-W#pragma-messages]
#pragma message("Using fallback compilation with Armadillo 14.6.3. Please consider defining -DARMA_USE_CURRENT and also removing C++11 compilation directive. See GitHub issue #475 for more.")
^
1 warning generated.
clang++ -arch x86_64 -std=gnu++11 -I"/Library/Frameworks/R.framework/Resources/include" -DNDEBUG -I'/Library/Frameworks/R.framework/Versions/4.6-x86_64/Resources/library/Rcpp/include' -I'/Library/Frameworks/R.framework/Versions/4.6-x86_64/Resources/library/RcppArmadillo/include' -I'/Library/Frameworks/R.framework/Versions/4.6-x86_64/Resources/library/RcppProgress/include' -I'/Library/Frameworks/R.framework/Versions/4.6-x86_64/Resources/library/BH/include' -I/opt/R/x86_64/include -fPIC -falign-functions=64 -Wall -g -O2 -c fill_cell_gene.cpp -o fill_cell_gene.o
In file included from fill_cell_gene.cpp:7:
In file included from /Library/Frameworks/R.framework/Versions/4.6-x86_64/Resources/library/RcppArmadillo/include/RcppArmadillo.h:29:
/Library/Frameworks/R.framework/Versions/4.6-x86_64/Resources/library/RcppArmadillo/include/RcppArmadillo/version/arma.h:66:17: warning: Using fallback compilation with Armadillo 14.6.3. Please consider defining -DARMA_USE_CURRENT and also removing C++11 compilation directive. See GitHub issue #475 for more. [-W#pragma-messages]
#pragma message("Using fallback compilation with Armadillo 14.6.3. Please consider defining -DARMA_USE_CURRENT and also removing C++11 compilation directive. See GitHub issue #475 for more.")
^
1 warning generated.
clang++ -arch x86_64 -std=gnu++11 -dynamiclib -Wl,-headerpad_max_install_names -undefined dynamic_lookup -L/Library/Frameworks/R.framework/Resources/lib -L/opt/R/x86_64/lib -o BUSpaRse.so RcppExports.o fill_cell_gene.o -L/Library/Frameworks/R.framework/Resources/lib -lRlapack -L/Library/Frameworks/R.framework/Resources/lib -lRblas -L/opt/gfortran/lib/gcc/x86_64-apple-darwin20.0/14.2.0 -L/opt/gfortran/lib -lemutls_w -lheapt_w -lgfortran -lquadmath -F/Library/Frameworks/R.framework/.. -framework R
installing to /Library/Frameworks/R.framework/Versions/4.6-x86_64/Resources/library/00LOCK-BUSpaRse/00new/BUSpaRse/libs
** R
** data
*** moving datasets to lazyload DB
** inst
** byte-compile and prepare package for lazy loading
** help
*** installing help indices
** building package indices
** installing vignettes
** testing if installed package can be loaded from temporary location
** checking absolute paths in shared objects and dynamic libraries
** testing if installed package can be loaded from final location
** testing if installed package keeps a record of temporary installation path
* DONE (BUSpaRse)