| Back to Multiple platform build/check report for BioC 3.9 |
|
This page was generated on 2019-10-16 13:01:12 -0400 (Wed, 16 Oct 2019).
| Package 1372/1741 | Hostname | OS / Arch | INSTALL | BUILD | CHECK | BUILD BIN | ||||||
| rhdf5client 1.6.1 Samuela Pollack
| malbec2 | Linux (Ubuntu 18.04.2 LTS) / x86_64 | OK | OK | ERROR | |||||||
| tokay2 | Windows Server 2012 R2 Standard / x64 | OK | OK | ERROR | OK | |||||||
| celaya2 | OS X 10.11.6 El Capitan / x86_64 | OK | [ OK ] | ERROR | OK |
| Package: rhdf5client |
| Version: 1.6.1 |
| Command: /Library/Frameworks/R.framework/Versions/Current/Resources/bin/R CMD build --keep-empty-dirs --no-resave-data rhdf5client |
| StartedAt: 2019-10-15 23:13:46 -0400 (Tue, 15 Oct 2019) |
| EndedAt: 2019-10-15 23:15:09 -0400 (Tue, 15 Oct 2019) |
| EllapsedTime: 82.3 seconds |
| RetCode: 0 |
| Status: OK |
| PackageFile: rhdf5client_1.6.1.tar.gz |
| PackageFileSize: 534.6 KiB |
############################################################################## ############################################################################## ### ### Running command: ### ### /Library/Frameworks/R.framework/Versions/Current/Resources/bin/R CMD build --keep-empty-dirs --no-resave-data rhdf5client ### ############################################################################## ############################################################################## * checking for file ‘rhdf5client/DESCRIPTION’ ... OK * preparing ‘rhdf5client’: * checking DESCRIPTION meta-information ... OK * cleaning src * installing the package to build vignettes * creating vignettes ... OK * cleaning src * checking for LF line-endings in source and make files and shell scripts * checking for empty or unneeded directories * building ‘rhdf5client_1.6.1.tar.gz’