| Back to Multiple platform build/check report for BioC 3.9 | 
 | 
This page was generated on 2019-10-16 12:49:31 -0400 (Wed, 16 Oct 2019).
| Package 1302/1741 | Hostname | OS / Arch | INSTALL | BUILD | CHECK | BUILD BIN | ||||||
| r3Cseq 1.30.0 Supat Thongjuea 
 | malbec2 | Linux (Ubuntu 18.04.2 LTS) / x86_64 | OK | OK | OK |  | ||||||
| tokay2 | Windows Server 2012 R2 Standard / x64 | OK | OK | OK | OK |  | ||||||
| celaya2 | OS X 10.11.6 El Capitan / x86_64 | OK | OK | OK | [ OK ] |  | 
| Package: r3Cseq | 
| Version: 1.30.0 | 
| Command: rm -rf r3Cseq.buildbin-libdir && mkdir r3Cseq.buildbin-libdir && /Users/biocbuild/BBS/utils/build-universal.sh r3Cseq_1.30.0.tar.gz /Library/Frameworks/R.framework/Versions/Current/Resources/bin/R r3Cseq.buildbin-libdir | 
| StartedAt: 2019-10-16 09:12:49 -0400 (Wed, 16 Oct 2019) | 
| EndedAt: 2019-10-16 09:13:51 -0400 (Wed, 16 Oct 2019) | 
| EllapsedTime: 62.3 seconds | 
| RetCode: 0 | 
| Status: OK | 
| PackageFile: r3Cseq_1.30.0.tgz | 
| PackageFileSize: 2.588 MiB | 
############################################################################## ############################################################################## ### ### Running command: ### ### rm -rf r3Cseq.buildbin-libdir && mkdir r3Cseq.buildbin-libdir && /Users/biocbuild/BBS/utils/build-universal.sh r3Cseq_1.30.0.tar.gz /Library/Frameworks/R.framework/Versions/Current/Resources/bin/R r3Cseq.buildbin-libdir ### ############################################################################## ############################################################################## >>>>>>> >>>>>>> INSTALLATION WITH 'R CMD INSTALL --preclean --no-multiarch --library=r3Cseq.buildbin-libdir r3Cseq_1.30.0.tar.gz' >>>>>>> * installing *source* package ‘r3Cseq’ ... ** using staged installation ** R ** data ** inst ** byte-compile and prepare package for lazy loading No methods found in package ‘Biostrings’ for request: ‘DNAString’ when loading ‘r3Cseq’ ** help *** installing help indices ** building package indices ** installing vignettes ** testing if installed package can be loaded from temporary location No methods found in package ‘Biostrings’ for request: ‘DNAString’ when loading ‘r3Cseq’ ** testing if installed package can be loaded from final location No methods found in package ‘Biostrings’ for request: ‘DNAString’ when loading ‘r3Cseq’ ** testing if installed package keeps a record of temporary installation path * DONE (r3Cseq)