| Back to Multiple platform build/check report for BioC 3.9 |
|
This page was generated on 2019-04-09 13:33:11 -0400 (Tue, 09 Apr 2019).
| Package 1160/1703 | Hostname | OS / Arch | INSTALL | BUILD | CHECK | BUILD BIN | ||||||
| pcaExplorer 2.9.5 Federico Marini
| malbec2 | Linux (Ubuntu 18.04.2 LTS) / x86_64 | OK | OK | OK | |||||||
| tokay2 | Windows Server 2012 R2 Standard / x64 | OK | OK | OK | OK | |||||||
| celaya2 | OS X 10.11.6 El Capitan / x86_64 | OK | OK | OK | OK | |||||||
| merida2 | OS X 10.11.6 El Capitan / x86_64 | OK | OK | [ OK ] | OK |
| Package: pcaExplorer |
| Version: 2.9.5 |
| Command: /Library/Frameworks/R.framework/Versions/Current/Resources/bin/R CMD check --install=check:pcaExplorer.install-out.txt --library=/Library/Frameworks/R.framework/Versions/Current/Resources/library --no-vignettes --timings pcaExplorer_2.9.5.tar.gz |
| StartedAt: 2019-04-09 02:45:48 -0400 (Tue, 09 Apr 2019) |
| EndedAt: 2019-04-09 02:52:41 -0400 (Tue, 09 Apr 2019) |
| EllapsedTime: 412.9 seconds |
| RetCode: 0 |
| Status: OK |
| CheckDir: pcaExplorer.Rcheck |
| Warnings: 0 |
############################################################################## ############################################################################## ### ### Running command: ### ### /Library/Frameworks/R.framework/Versions/Current/Resources/bin/R CMD check --install=check:pcaExplorer.install-out.txt --library=/Library/Frameworks/R.framework/Versions/Current/Resources/library --no-vignettes --timings pcaExplorer_2.9.5.tar.gz ### ############################################################################## ############################################################################## * using log directory ‘/Users/biocbuild/bbs-3.9-bioc/meat/pcaExplorer.Rcheck’ * using R Under development (unstable) (2018-11-27 r75683) * using platform: x86_64-apple-darwin15.6.0 (64-bit) * using session charset: UTF-8 * using option ‘--no-vignettes’ * checking for file ‘pcaExplorer/DESCRIPTION’ ... OK * checking extension type ... Package * this is package ‘pcaExplorer’ version ‘2.9.5’ * package encoding: UTF-8 * checking package namespace information ... OK * checking package dependencies ... OK * checking if this is a source package ... OK * checking if there is a namespace ... OK * checking for hidden files and directories ... OK * checking for portable file names ... OK * checking for sufficient/correct file permissions ... OK * checking whether package ‘pcaExplorer’ can be installed ... OK * checking installed package size ... OK * checking package directory ... OK * checking ‘build’ directory ... OK * checking DESCRIPTION meta-information ... OK * checking top-level files ... OK * checking for left-over files ... OK * checking index information ... OK * checking package subdirectories ... OK * checking R files for non-ASCII characters ... OK * checking R files for syntax errors ... OK * checking whether the package can be loaded ... OK * checking whether the package can be loaded with stated dependencies ... OK * checking whether the package can be unloaded cleanly ... OK * checking whether the namespace can be loaded with stated dependencies ... OK * checking whether the namespace can be unloaded cleanly ... OK * checking dependencies in R code ... OK * checking S3 generic/method consistency ... OK * checking replacement functions ... OK * checking foreign function calls ... OK * checking R code for possible problems ... NOTE pcaExplorer: no visible binding for '<<-' assignment to ‘pcaexplorer_env’ pcaExplorer : <anonymous>: no visible binding for global variable ‘airway’ pcaExplorer : <anonymous>: no visible binding for global variable ‘pcaexplorer_env’ Undefined global functions or variables: airway pcaexplorer_env * checking Rd files ... OK * checking Rd metadata ... OK * checking Rd cross-references ... OK * checking for missing documentation entries ... OK * checking for code/documentation mismatches ... OK * checking Rd \usage sections ... OK * checking Rd contents ... OK * checking for unstated dependencies in examples ... OK * checking files in ‘vignettes’ ... OK * checking examples ... OK * checking for unstated dependencies in ‘tests’ ... OK * checking tests ... Running ‘testthat.R’ OK * checking for unstated dependencies in vignettes ... OK * checking package vignettes in ‘inst/doc’ ... OK * checking running R code from vignettes ... SKIPPED * checking re-building of vignette outputs ... SKIPPED * checking PDF version of manual ... OK * DONE Status: 1 NOTE See ‘/Users/biocbuild/bbs-3.9-bioc/meat/pcaExplorer.Rcheck/00check.log’ for details.
pcaExplorer.Rcheck/00install.out
############################################################################## ############################################################################## ### ### Running command: ### ### /Library/Frameworks/R.framework/Versions/Current/Resources/bin/R CMD INSTALL pcaExplorer ### ############################################################################## ############################################################################## * installing to library ‘/Library/Frameworks/R.framework/Versions/3.6/Resources/library’ * installing *source* package ‘pcaExplorer’ ... ** R ** inst ** byte-compile and prepare package for lazy loading ** help *** installing help indices ** building package indices ** installing vignettes ** testing if installed package can be loaded * DONE (pcaExplorer)
pcaExplorer.Rcheck/tests/testthat.Rout
R Under development (unstable) (2018-11-27 r75683) -- "Unsuffered Consequences"
Copyright (C) 2018 The R Foundation for Statistical Computing
Platform: x86_64-apple-darwin15.6.0 (64-bit)
R is free software and comes with ABSOLUTELY NO WARRANTY.
You are welcome to redistribute it under certain conditions.
Type 'license()' or 'licence()' for distribution details.
R is a collaborative project with many contributors.
Type 'contributors()' for more information and
'citation()' on how to cite R or R packages in publications.
Type 'demo()' for some demos, 'help()' for on-line help, or
'help.start()' for an HTML browser interface to help.
Type 'q()' to quit R.
> library(testthat)
> library(pcaExplorer)
Welcome to pcaExplorer v2.9.5
If you use pcaExplorer in your work, please cite:
Federico Marini, Harald Binder
pcaExplorer: an R/Bioconductor package for interacting with RNA-seq principal components
biorXiv, 2018 - https://doi.org/10.1101/493551
>
> test_check("pcaExplorer")
══ testthat results ═══════════════════════════════════════════════════════════
OK: 18 SKIPPED: 0 FAILED: 0
>
> proc.time()
user system elapsed
92.710 2.557 95.866
pcaExplorer.Rcheck/pcaExplorer-Ex.timings
| name | user | system | elapsed | |
| correlatePCs | 4.385 | 0.104 | 4.511 | |
| distro_expr | 4.330 | 0.042 | 4.393 | |
| geneprofiler | 2.844 | 0.050 | 2.906 | |
| genespca | 4.009 | 0.073 | 4.100 | |
| get_annotation | 2.565 | 0.099 | 2.681 | |
| get_annotation_orgdb | 2.914 | 0.094 | 3.030 | |
| hi_loadings | 2.863 | 0.024 | 2.914 | |
| limmaquickpca2go | 2.235 | 0.083 | 2.329 | |
| makeExampleDESeqDataSet_multifac | 0.267 | 0.001 | 0.270 | |
| pair_corr | 2.312 | 0.072 | 2.399 | |
| pca2go | 2.222 | 0.079 | 2.311 | |
| pcaExplorer | 2.600 | 0.067 | 2.678 | |
| pcaplot | 3.580 | 0.025 | 3.625 | |
| pcaplot3d | 2.971 | 0.044 | 3.039 | |
| pcascree | 3.380 | 0.011 | 3.416 | |
| plotPCcorrs | 4.112 | 0.066 | 4.215 | |
| topGOtable | 1.976 | 0.060 | 2.050 | |