| Back to Multiple platform build/check report for BioC 3.9 |
|
This page was generated on 2018-10-29 10:32:04 -0400 (Mon, 29 Oct 2018).
| Package 1127/1642 | Hostname | OS / Arch | INSTALL | BUILD | CHECK | BUILD BIN | ||||||
Cristobal Fresno
| malbec2 | Linux (Ubuntu 16.04.1 LTS) / x86_64 | ERROR | ERROR | skipped | |||||||
| tokay2 | Windows Server 2012 R2 Standard / x64 | ERROR | [ ERROR ] | skipped | skipped | |||||||
| merida2 | OS X 10.11.6 El Capitan / x86_64 | ERROR | ERROR | skipped | skipped |
| Package: pbcmc |
| Version: 1.9.1 |
| Command: chmod a+r pbcmc -R && C:\Users\biocbuild\bbs-3.9-bioc\R\bin\R.exe CMD build --keep-empty-dirs --no-resave-data pbcmc |
| StartedAt: 2018-10-28 23:55:43 -0400 (Sun, 28 Oct 2018) |
| EndedAt: 2018-10-28 23:55:57 -0400 (Sun, 28 Oct 2018) |
| EllapsedTime: 13.4 seconds |
| RetCode: 1 |
| Status: ERROR |
| PackageFile: pbcmc_1.9.1.tar.gz |
| PackageFileSize: 555.9 KiB |
##############################################################################
##############################################################################
###
### Running command:
###
### chmod a+r pbcmc -R && C:\Users\biocbuild\bbs-3.9-bioc\R\bin\R.exe CMD build --keep-empty-dirs --no-resave-data pbcmc
###
##############################################################################
##############################################################################
* checking for file 'pbcmc/DESCRIPTION' ... OK
* preparing 'pbcmc':
* checking DESCRIPTION meta-information ... OK
* installing the package to build vignettes
-----------------------------------
* installing *source* package 'pbcmc' ...
** R
Error in .install_package_code_files(".", instdir) :
files in 'C:/Users/biocbuild/bbs-3.9-bioc/tmpdir/Rtmp2Vnglb/Rbuildfec19f44d36/pbcmc/R' missing from 'Collate' field:
zzz.R
ERROR: unable to collate and parse R files for package 'pbcmc'
* removing 'C:/Users/biocbuild/bbs-3.9-bioc/tmpdir/Rtmp2Vnglb/Rinstfec574a6fbd/pbcmc'
In R CMD INSTALL
-----------------------------------
ERROR: package installation failed