| Back to Multiple platform build/check report for BioC 3.9 |
|
This page was generated on 2018-10-29 10:14:38 -0400 (Mon, 29 Oct 2018).
| Package 1127/1642 | Hostname | OS / Arch | INSTALL | BUILD | CHECK | BUILD BIN | ||||||
Cristobal Fresno
| malbec2 | Linux (Ubuntu 16.04.1 LTS) / x86_64 | ERROR | [ ERROR ] | skipped | |||||||
| tokay2 | Windows Server 2012 R2 Standard / x64 | ERROR | ERROR | skipped | skipped | |||||||
| merida2 | OS X 10.11.6 El Capitan / x86_64 | ERROR | ERROR | skipped | skipped |
| Package: pbcmc |
| Version: 1.9.1 |
| Command: /home/biocbuild/bbs-3.9-bioc/R/bin/R CMD build --keep-empty-dirs --no-resave-data pbcmc |
| StartedAt: 2018-10-28 22:37:24 -0400 (Sun, 28 Oct 2018) |
| EndedAt: 2018-10-28 22:37:25 -0400 (Sun, 28 Oct 2018) |
| EllapsedTime: 1.0 seconds |
| RetCode: 1 |
| Status: ERROR |
| PackageFile: None |
| PackageFileSize: NA |
##############################################################################
##############################################################################
###
### Running command:
###
### /home/biocbuild/bbs-3.9-bioc/R/bin/R CMD build --keep-empty-dirs --no-resave-data pbcmc
###
##############################################################################
##############################################################################
* checking for file ‘pbcmc/DESCRIPTION’ ... OK
* preparing ‘pbcmc’:
* checking DESCRIPTION meta-information ... OK
* installing the package to build vignettes
-----------------------------------
* installing *source* package ‘pbcmc’ ...
** R
Error in .install_package_code_files(".", instdir) :
files in '/tmp/RtmpQlUvEQ/Rbuild2d123e259cad/pbcmc/R' missing from 'Collate' field:
zzz.R
ERROR: unable to collate and parse R files for package ‘pbcmc’
* removing ‘/tmp/RtmpQlUvEQ/Rinst2d123b4c9602/pbcmc’
-----------------------------------
ERROR: package installation failed